BEGIN:VCALENDAR
VERSION:2.0
PRODID:-//Students’ Union Okanagan of UBC - ECPv6.5.0//NONSGML v1.0//EN
CALSCALE:GREGORIAN
METHOD:PUBLISH
X-ORIGINAL-URL:http://www.suo.ca
X-WR-CALDESC:Events for Students’ Union Okanagan of UBC
REFRESH-INTERVAL;VALUE=DURATION:PT1H
X-Robots-Tag:noindex
X-PUBLISHED-TTL:PT1H
BEGIN:VTIMEZONE
TZID:America/Vancouver
BEGIN:DAYLIGHT
TZOFFSETFROM:-0800
TZOFFSETTO:-0700
TZNAME:PDT
DTSTART:20220313T100000
END:DAYLIGHT
BEGIN:STANDARD
TZOFFSETFROM:-0700
TZOFFSETTO:-0800
TZNAME:PST
DTSTART:20221106T090000
END:STANDARD
BEGIN:DAYLIGHT
TZOFFSETFROM:-0800
TZOFFSETTO:-0700
TZNAME:PDT
DTSTART:20230312T100000
END:DAYLIGHT
BEGIN:STANDARD
TZOFFSETFROM:-0700
TZOFFSETTO:-0800
TZNAME:PST
DTSTART:20231105T090000
END:STANDARD
END:VTIMEZONE
BEGIN:VEVENT
DTSTART;TZID=America/Vancouver:20231124T100000
DTEND;TZID=America/Vancouver:20231124T130000
DTSTAMP:20260420T070601
CREATED:20231030T160034Z
LAST-MODIFIED:20231030T160127Z
UID:10006002-1700820000-1700830800@www.suo.ca
SUMMARY:Sex Positivity Office Hours
DESCRIPTION:Do you have questions about sex? Are you interested in sex toys or BDSM? Do you want to know what resources are on campus or in the community? Do you want condoms and/or pregnancy tests? Curious about boundaries or other relationship dynamics? Do you want someone safe and confidential to talk about sex with? \nThe SPC is here to support you with inclusive\, non-judgmental peer support! \nLocation: The UNC Resource Centre (UNC 132)
URL:http://www.suo.ca/event/sex-positivity-office-hours/2023-11-24/
LOCATION:UNC Resource Centre\, 3272 University Way\, Kelowna\, B.C\, V1V 1V7\, Canada
CATEGORIES:Resource Centre
ATTACH;FMTTYPE=image/png:http://www.suo.ca/wp-content/uploads/2022/03/spc.png
ORGANIZER;CN="Sex Positivity Centre":MAILTO:spc@suo.ca
END:VEVENT
BEGIN:VEVENT
DTSTART;TZID=America/Vancouver:20231123T110000
DTEND;TZID=America/Vancouver:20231123T140000
DTSTAMP:20260420T070601
CREATED:20231103T175136Z
LAST-MODIFIED:20231103T175136Z
UID:10006097-1700737200-1700748000@www.suo.ca
SUMMARY:Women's Resource Centre
DESCRIPTION:The Women’s Resource Center (WRC) opened on the UBC Okanagan campus in 2003 and continues to provide services to students through the SUO. All services offered by the WRC are paraprofessionals\, however\, the WRC provides a safe place on campus for women and those who identify as female\, to come to find a supportive environment and connections to other resources on and off-campus. The WRC annually initiates many events\, campaigns\, and fundraisers all in an effort to better the lives of women primarily on campus\, while maintaining connections to the local\, national and international scale. \nLocation: The UNC Resource Center (UNC 132)
URL:http://www.suo.ca/event/womens-resource-centre/2023-11-23/
LOCATION:B.C
CATEGORIES:Resource Centre
ATTACH;FMTTYPE=image/png:http://www.suo.ca/wp-content/uploads/2023/11/Womens-Resource-Centre.png
ORGANIZER;CN="Women's Resource Center":MAILTO:wrc@suo.ca
END:VEVENT
BEGIN:VEVENT
DTSTART;TZID=America/Vancouver:20231122T110000
DTEND;TZID=America/Vancouver:20231122T140000
DTSTAMP:20260420T070601
CREATED:20231103T173918Z
LAST-MODIFIED:20231103T173918Z
UID:10006091-1700650800-1700661600@www.suo.ca
SUMMARY:Pride Resource Centre
DESCRIPTION:The UBCO Pride Resource Centre (PRC) was founded in 2003 and is a space on campus where LGBT and Ally students can come and talk about issues and challenges they face on and off campus. The PRC is a paraprofessional service which means that it does not provide actual medical (mental or physical) advice but can refer students to professional healthcare services on or off-campus. Volunteers for the PRC provide a safe\, confidential space for LGBT and Ally students through events and office hours where students can come\, have fun\, and discuss LGBT issues. \nLocation: The UNC Resource Centre (UNC 132)
URL:http://www.suo.ca/event/pride-resource-centre/2023-11-22/
LOCATION:UNC Resource Centre\, 3272 University Way\, Kelowna\, B.C\, V1V 1V7\, Canada
CATEGORIES:Resource Centre
ATTACH;FMTTYPE=image/png:http://www.suo.ca/wp-content/uploads/2021/06/PRC-logo.png
ORGANIZER;CN="Pride Resource Centre":MAILTO:prc@suo.ca
END:VEVENT
BEGIN:VEVENT
DTSTART;TZID=America/Vancouver:20231120T110000
DTEND;TZID=America/Vancouver:20231120T140000
DTSTAMP:20260420T070601
CREATED:20231103T173032Z
LAST-MODIFIED:20231103T174223Z
UID:10006032-1700478000-1700488800@www.suo.ca
SUMMARY:Peer Support Network
DESCRIPTION:The UBCO Peer Support Network (PSN) was founded in 2014 and is a space on campus where students can come and speak with a peer about a challenge\, struggle\, and/or personal hardship they may be facing. As a paraprofessional service\, the PSN does not diagnose or treat mental illness and is not a substitute for services provided by health professionals (e.g.\, counsellors\, psychologists\, social workers\, physicians). Rather than giving advice\, volunteers will be there to provide welcoming\, confidential\, and empathetic peer-based support using active listening and resource referral. Alongside the Women’s Resource Center and the Pride Resource Center\, the Network will strive to ensure that no student feels alone no matter what concern they are struggling with and will aim to increase awareness of mental health and wellness within the campus community. \nLocation: The UNC Resource Center (UNC 132)
URL:http://www.suo.ca/event/peer-support-network/2023-11-20/
LOCATION:UNC Resource Centre\, 3272 University Way\, Kelowna\, B.C\, V1V 1V7\, Canada
CATEGORIES:Resource Centre
ATTACH;FMTTYPE=image/png:http://www.suo.ca/wp-content/uploads/2021/06/suo-peer-1.png
ORGANIZER;CN="Peer Support Network":MAILTO:psn@suo.ca
END:VEVENT
BEGIN:VEVENT
DTSTART;TZID=America/Vancouver:20231117T100000
DTEND;TZID=America/Vancouver:20231117T130000
DTSTAMP:20260420T070601
CREATED:20231030T160034Z
LAST-MODIFIED:20231030T160127Z
UID:10006001-1700215200-1700226000@www.suo.ca
SUMMARY:Sex Positivity Office Hours
DESCRIPTION:Do you have questions about sex? Are you interested in sex toys or BDSM? Do you want to know what resources are on campus or in the community? Do you want condoms and/or pregnancy tests? Curious about boundaries or other relationship dynamics? Do you want someone safe and confidential to talk about sex with? \nThe SPC is here to support you with inclusive\, non-judgmental peer support! \nLocation: The UNC Resource Centre (UNC 132)
URL:http://www.suo.ca/event/sex-positivity-office-hours/2023-11-17/
LOCATION:UNC Resource Centre\, 3272 University Way\, Kelowna\, B.C\, V1V 1V7\, Canada
CATEGORIES:Resource Centre
ATTACH;FMTTYPE=image/png:http://www.suo.ca/wp-content/uploads/2022/03/spc.png
ORGANIZER;CN="Sex Positivity Centre":MAILTO:spc@suo.ca
END:VEVENT
BEGIN:VEVENT
DTSTART;TZID=America/Vancouver:20231116T110000
DTEND;TZID=America/Vancouver:20231116T140000
DTSTAMP:20260420T070601
CREATED:20231103T175136Z
LAST-MODIFIED:20231103T175136Z
UID:10006096-1700132400-1700143200@www.suo.ca
SUMMARY:Women's Resource Centre
DESCRIPTION:The Women’s Resource Center (WRC) opened on the UBC Okanagan campus in 2003 and continues to provide services to students through the SUO. All services offered by the WRC are paraprofessionals\, however\, the WRC provides a safe place on campus for women and those who identify as female\, to come to find a supportive environment and connections to other resources on and off-campus. The WRC annually initiates many events\, campaigns\, and fundraisers all in an effort to better the lives of women primarily on campus\, while maintaining connections to the local\, national and international scale. \nLocation: The UNC Resource Center (UNC 132)
URL:http://www.suo.ca/event/womens-resource-centre/2023-11-16/
LOCATION:B.C
CATEGORIES:Resource Centre
ATTACH;FMTTYPE=image/png:http://www.suo.ca/wp-content/uploads/2023/11/Womens-Resource-Centre.png
ORGANIZER;CN="Women's Resource Center":MAILTO:wrc@suo.ca
END:VEVENT
BEGIN:VEVENT
DTSTART;TZID=America/Vancouver:20231115T110000
DTEND;TZID=America/Vancouver:20231115T140000
DTSTAMP:20260420T070601
CREATED:20231103T173918Z
LAST-MODIFIED:20231103T173918Z
UID:10006090-1700046000-1700056800@www.suo.ca
SUMMARY:Pride Resource Centre
DESCRIPTION:The UBCO Pride Resource Centre (PRC) was founded in 2003 and is a space on campus where LGBT and Ally students can come and talk about issues and challenges they face on and off campus. The PRC is a paraprofessional service which means that it does not provide actual medical (mental or physical) advice but can refer students to professional healthcare services on or off-campus. Volunteers for the PRC provide a safe\, confidential space for LGBT and Ally students through events and office hours where students can come\, have fun\, and discuss LGBT issues. \nLocation: The UNC Resource Centre (UNC 132)
URL:http://www.suo.ca/event/pride-resource-centre/2023-11-15/
LOCATION:UNC Resource Centre\, 3272 University Way\, Kelowna\, B.C\, V1V 1V7\, Canada
CATEGORIES:Resource Centre
ATTACH;FMTTYPE=image/png:http://www.suo.ca/wp-content/uploads/2021/06/PRC-logo.png
ORGANIZER;CN="Pride Resource Centre":MAILTO:prc@suo.ca
END:VEVENT
BEGIN:VEVENT
DTSTART;TZID=America/Vancouver:20231113T110000
DTEND;TZID=America/Vancouver:20231113T140000
DTSTAMP:20260420T070601
CREATED:20231103T173032Z
LAST-MODIFIED:20231103T174223Z
UID:10006031-1699873200-1699884000@www.suo.ca
SUMMARY:Peer Support Network
DESCRIPTION:The UBCO Peer Support Network (PSN) was founded in 2014 and is a space on campus where students can come and speak with a peer about a challenge\, struggle\, and/or personal hardship they may be facing. As a paraprofessional service\, the PSN does not diagnose or treat mental illness and is not a substitute for services provided by health professionals (e.g.\, counsellors\, psychologists\, social workers\, physicians). Rather than giving advice\, volunteers will be there to provide welcoming\, confidential\, and empathetic peer-based support using active listening and resource referral. Alongside the Women’s Resource Center and the Pride Resource Center\, the Network will strive to ensure that no student feels alone no matter what concern they are struggling with and will aim to increase awareness of mental health and wellness within the campus community. \nLocation: The UNC Resource Center (UNC 132)
URL:http://www.suo.ca/event/peer-support-network/2023-11-13/
LOCATION:UNC Resource Centre\, 3272 University Way\, Kelowna\, B.C\, V1V 1V7\, Canada
CATEGORIES:Resource Centre
ATTACH;FMTTYPE=image/png:http://www.suo.ca/wp-content/uploads/2021/06/suo-peer-1.png
ORGANIZER;CN="Peer Support Network":MAILTO:psn@suo.ca
END:VEVENT
BEGIN:VEVENT
DTSTART;TZID=America/Vancouver:20231110T100000
DTEND;TZID=America/Vancouver:20231110T130000
DTSTAMP:20260420T070601
CREATED:20231030T160034Z
LAST-MODIFIED:20231030T160127Z
UID:10006000-1699610400-1699621200@www.suo.ca
SUMMARY:Sex Positivity Office Hours
DESCRIPTION:Do you have questions about sex? Are you interested in sex toys or BDSM? Do you want to know what resources are on campus or in the community? Do you want condoms and/or pregnancy tests? Curious about boundaries or other relationship dynamics? Do you want someone safe and confidential to talk about sex with? \nThe SPC is here to support you with inclusive\, non-judgmental peer support! \nLocation: The UNC Resource Centre (UNC 132)
URL:http://www.suo.ca/event/sex-positivity-office-hours/2023-11-10/
LOCATION:UNC Resource Centre\, 3272 University Way\, Kelowna\, B.C\, V1V 1V7\, Canada
CATEGORIES:Resource Centre
ATTACH;FMTTYPE=image/png:http://www.suo.ca/wp-content/uploads/2022/03/spc.png
ORGANIZER;CN="Sex Positivity Centre":MAILTO:spc@suo.ca
END:VEVENT
BEGIN:VEVENT
DTSTART;TZID=America/Vancouver:20231109T110000
DTEND;TZID=America/Vancouver:20231109T140000
DTSTAMP:20260420T070601
CREATED:20231103T175136Z
LAST-MODIFIED:20231103T175136Z
UID:10006095-1699527600-1699538400@www.suo.ca
SUMMARY:Women's Resource Centre
DESCRIPTION:The Women’s Resource Center (WRC) opened on the UBC Okanagan campus in 2003 and continues to provide services to students through the SUO. All services offered by the WRC are paraprofessionals\, however\, the WRC provides a safe place on campus for women and those who identify as female\, to come to find a supportive environment and connections to other resources on and off-campus. The WRC annually initiates many events\, campaigns\, and fundraisers all in an effort to better the lives of women primarily on campus\, while maintaining connections to the local\, national and international scale. \nLocation: The UNC Resource Center (UNC 132)
URL:http://www.suo.ca/event/womens-resource-centre/2023-11-09/
LOCATION:B.C
CATEGORIES:Resource Centre
ATTACH;FMTTYPE=image/png:http://www.suo.ca/wp-content/uploads/2023/11/Womens-Resource-Centre.png
ORGANIZER;CN="Women's Resource Center":MAILTO:wrc@suo.ca
END:VEVENT
BEGIN:VEVENT
DTSTART;TZID=America/Vancouver:20231108T110000
DTEND;TZID=America/Vancouver:20231108T140000
DTSTAMP:20260420T070601
CREATED:20231103T173918Z
LAST-MODIFIED:20231103T173918Z
UID:10006089-1699441200-1699452000@www.suo.ca
SUMMARY:Pride Resource Centre
DESCRIPTION:The UBCO Pride Resource Centre (PRC) was founded in 2003 and is a space on campus where LGBT and Ally students can come and talk about issues and challenges they face on and off campus. The PRC is a paraprofessional service which means that it does not provide actual medical (mental or physical) advice but can refer students to professional healthcare services on or off-campus. Volunteers for the PRC provide a safe\, confidential space for LGBT and Ally students through events and office hours where students can come\, have fun\, and discuss LGBT issues. \nLocation: The UNC Resource Centre (UNC 132)
URL:http://www.suo.ca/event/pride-resource-centre/2023-11-08/
LOCATION:UNC Resource Centre\, 3272 University Way\, Kelowna\, B.C\, V1V 1V7\, Canada
CATEGORIES:Resource Centre
ATTACH;FMTTYPE=image/png:http://www.suo.ca/wp-content/uploads/2021/06/PRC-logo.png
ORGANIZER;CN="Pride Resource Centre":MAILTO:prc@suo.ca
END:VEVENT
BEGIN:VEVENT
DTSTART;TZID=America/Vancouver:20231106T110000
DTEND;TZID=America/Vancouver:20231106T140000
DTSTAMP:20260420T070601
CREATED:20231103T173032Z
LAST-MODIFIED:20231103T174223Z
UID:10006030-1699268400-1699279200@www.suo.ca
SUMMARY:Peer Support Network
DESCRIPTION:The UBCO Peer Support Network (PSN) was founded in 2014 and is a space on campus where students can come and speak with a peer about a challenge\, struggle\, and/or personal hardship they may be facing. As a paraprofessional service\, the PSN does not diagnose or treat mental illness and is not a substitute for services provided by health professionals (e.g.\, counsellors\, psychologists\, social workers\, physicians). Rather than giving advice\, volunteers will be there to provide welcoming\, confidential\, and empathetic peer-based support using active listening and resource referral. Alongside the Women’s Resource Center and the Pride Resource Center\, the Network will strive to ensure that no student feels alone no matter what concern they are struggling with and will aim to increase awareness of mental health and wellness within the campus community. \nLocation: The UNC Resource Center (UNC 132)
URL:http://www.suo.ca/event/peer-support-network/2023-11-06/
LOCATION:UNC Resource Centre\, 3272 University Way\, Kelowna\, B.C\, V1V 1V7\, Canada
CATEGORIES:Resource Centre
ATTACH;FMTTYPE=image/png:http://www.suo.ca/wp-content/uploads/2021/06/suo-peer-1.png
ORGANIZER;CN="Peer Support Network":MAILTO:psn@suo.ca
END:VEVENT
BEGIN:VEVENT
DTSTART;TZID=America/Vancouver:20231103T100000
DTEND;TZID=America/Vancouver:20231103T130000
DTSTAMP:20260420T070601
CREATED:20231030T160034Z
LAST-MODIFIED:20231030T160127Z
UID:10005999-1699005600-1699016400@www.suo.ca
SUMMARY:Sex Positivity Office Hours
DESCRIPTION:Do you have questions about sex? Are you interested in sex toys or BDSM? Do you want to know what resources are on campus or in the community? Do you want condoms and/or pregnancy tests? Curious about boundaries or other relationship dynamics? Do you want someone safe and confidential to talk about sex with? \nThe SPC is here to support you with inclusive\, non-judgmental peer support! \nLocation: The UNC Resource Centre (UNC 132)
URL:http://www.suo.ca/event/sex-positivity-office-hours/2023-11-03/
LOCATION:UNC Resource Centre\, 3272 University Way\, Kelowna\, B.C\, V1V 1V7\, Canada
CATEGORIES:Resource Centre
ATTACH;FMTTYPE=image/png:http://www.suo.ca/wp-content/uploads/2022/03/spc.png
ORGANIZER;CN="Sex Positivity Centre":MAILTO:spc@suo.ca
END:VEVENT
BEGIN:VEVENT
DTSTART;TZID=America/Vancouver:20231027T100000
DTEND;TZID=America/Vancouver:20231027T130000
DTSTAMP:20260420T070601
CREATED:20231030T160034Z
LAST-MODIFIED:20231030T160127Z
UID:10005965-1698400800-1698411600@www.suo.ca
SUMMARY:Sex Positivity Office Hours
DESCRIPTION:Do you have questions about sex? Are you interested in sex toys or BDSM? Do you want to know what resources are on campus or in the community? Do you want condoms and/or pregnancy tests? Curious about boundaries or other relationship dynamics? Do you want someone safe and confidential to talk about sex with? \nThe SPC is here to support you with inclusive\, non-judgmental peer support! \nLocation: The UNC Resource Centre (UNC 132)
URL:http://www.suo.ca/event/sex-positivity-office-hours/2023-10-27/
LOCATION:UNC Resource Centre\, 3272 University Way\, Kelowna\, B.C\, V1V 1V7\, Canada
CATEGORIES:Resource Centre
ATTACH;FMTTYPE=image/png:http://www.suo.ca/wp-content/uploads/2022/03/spc.png
ORGANIZER;CN="Sex Positivity Centre":MAILTO:spc@suo.ca
END:VEVENT
BEGIN:VEVENT
DTSTART;TZID=America/Vancouver:20231012T080000
DTEND;TZID=America/Vancouver:20231012T170000
DTSTAMP:20260420T070601
CREATED:20231012T214715Z
LAST-MODIFIED:20231012T214715Z
UID:10005432-1697097600-1697130000@www.suo.ca
SUMMARY:BCCU BIOC 308 Midterm 2 Study Session
DESCRIPTION:Students are welcome to come and go as they please\, no registration is required.\n\nLIB 317
URL:http://www.suo.ca/event/bccu-bioc-308-midterm-2-study-session/
LOCATION:Library\, UBCO Campus\, 3287 University Way\, Kelowna\, British Columbia\, V1V 1V7\, Canada
CATEGORIES:Resource Centre
ATTACH;FMTTYPE=image/webp:http://www.suo.ca/wp-content/uploads/2023/09/BCCU-Logo-Black.webp
ORGANIZER;CN="Biochemistry Course Union":MAILTO:bccu.suo@gmail.com
END:VEVENT
BEGIN:VEVENT
DTSTART;TZID=America/Vancouver:20230325T140000
DTEND;TZID=America/Vancouver:20230325T140000
DTSTAMP:20260420T070601
CREATED:20230228T184424Z
LAST-MODIFIED:20230228T184424Z
UID:10003298-1679752800-1679752800@www.suo.ca
SUMMARY:Latinx in Canada: Connecting Cultures and Careers
DESCRIPTION:This is an inspiring cultural and networking event that celebrates the success of Latinx in Canada\, with a particular focus on the Kelowna community. The event features a panel of five accomplished professionals who are UBCO alumni and staff/faculty members\, and who have excelled in their respective fields. These panelists will share their personal stories of overcoming challenges and achieving success\, providing valuable insights into the Latinx experience in Canada and the Kelowna region. \nThe event provides an opportunity for attendees to connect with like-minded professionals\, to network\, and to learn from the experiences of those who have blazed a trail before them. The panelists will share insights into career development\, education\, and cultural experiences\, and offer practical tips on how to succeed in the workplace. \nOverall\, “Latinx in Canada: Connecting Cultures and Careers” is a must-attend event for anyone looking to gain valuable insights and network with successful Latinx professionals in the Kelowna community and beyond. \n  \nLocated: UNC 200 Ballroom
URL:http://www.suo.ca/event/latinx-in-canada-connecting-cultures-and-careers/
LOCATION:UNC 200 Ballroom\, 3272 University Way\, UNC200\, Kelowna\, British Columbia\, V1V 1V7\, Canada
CATEGORIES:All Ages,Resource Centre
ATTACH;FMTTYPE=image/jpeg:http://www.suo.ca/wp-content/uploads/2023/02/WhatsApp-Image-2023-02-20-at-7.39.19-PM.jpeg
ORGANIZER;CN="Latin American Students Organization":MAILTO:laso.okanagan@gmail.com
END:VEVENT
BEGIN:VEVENT
DTSTART;TZID=America/Vancouver:20230324T180000
DTEND;TZID=America/Vancouver:20230324T210000
DTSTAMP:20260420T070601
CREATED:20230228T181949Z
LAST-MODIFIED:20230228T181949Z
UID:10003271-1679680800-1679691600@www.suo.ca
SUMMARY:Wii Boxing Tournament Finals
DESCRIPTION:UBCO Esports is planning on running a Wii Sports Boxing Tournament to determine who is the best at the titular boxing game! There will be various prizes for the Top 8\, and the tournament will be run bracket-style. Please register through our Eventbrite if you would like to participate. \n  \nLocated: ASC 140
URL:http://www.suo.ca/event/wii-boxing-tournament-finals/
LOCATION:UBCO Campus\, 3333 University Way\, Kelowna\, British Columbia\, V1V 1V7\, Canada
CATEGORIES:All Ages,Resource Centre
ORGANIZER;CN="Okanagan Esports Association":MAILTO:OkanaganEsportsAssociation@outlook.com
END:VEVENT
BEGIN:VEVENT
DTSTART;TZID=America/Vancouver:20230323T160000
DTEND;TZID=America/Vancouver:20230323T170000
DTSTAMP:20260420T070601
CREATED:20230228T190618Z
LAST-MODIFIED:20230228T191420Z
UID:10003281-1679587200-1679590800@www.suo.ca
SUMMARY:Breathwork and Meditation Workshop
DESCRIPTION:Learn how to cultivate a mindful breathing practice that can help relieve stress and ground you in the current moment! Taught by certified yoga teacher Ryder McCool\, this workshop will be a great introduction to breathing techniques that you can use in your everyday life. Whether you have never meditated before or you have a daily practice yourself\, this class is sure to be a relaxing and fun event. \n  \nLocated: ART 208
URL:http://www.suo.ca/event/breathwork-and-meditation-workshop/
LOCATION:Arts Building\, UBCO Campus\, 1147 Research Road\, Kelowna\, British Columbia\, V1V 1V7\, Canada
CATEGORIES:All Ages,Resource Centre
ORGANIZER;CN="Yoga Club UBCO":MAILTO:ubcyoga@gmail.com
END:VEVENT
BEGIN:VEVENT
DTSTART;TZID=America/Vancouver:20230318T170000
DTEND;TZID=America/Vancouver:20230318T220000
DTSTAMP:20260420T070601
CREATED:20221221T214849Z
LAST-MODIFIED:20230707T200311Z
UID:10002897-1679158800-1679176800@www.suo.ca
SUMMARY:Pride Prom
DESCRIPTION:Welcome to Pride Prom! If you haven’t had the chance to attend prom during high school\, here’s your chance! Enjoy a night of dancing\, photos\, food and drinks! We’ll be also offering gender affirming clothing swap and make up before the event! Bring your platonic or romantic date to have a night that you’ll never forget! Or bring yourself and dance the night away! \nTickets available on Eventbrite!  Watch for link coming soon! \n 
URL:http://www.suo.ca/event/pride-prom/
LOCATION:UNC 200 Ballroom\, 3272 University Way\, UNC200\, Kelowna\, British Columbia\, V1V 1V7\, Canada
CATEGORIES:All Ages,Resource Centre
ATTACH;FMTTYPE=image/png:http://www.suo.ca/wp-content/uploads/2021/06/PRC-logo.png
ORGANIZER;CN="Pride Resource Centre":MAILTO:prc@suo.ca
END:VEVENT
BEGIN:VEVENT
DTSTART;TZID=America/Vancouver:20230314T194500
DTEND;TZID=America/Vancouver:20230314T204500
DTSTAMP:20260420T070601
CREATED:20230228T192512Z
LAST-MODIFIED:20230228T192512Z
UID:10003288-1678823100-1678826700@www.suo.ca
SUMMARY:Educational Presentation about Spay/Neuter
DESCRIPTION:Come learn about the importance of spaying and neutering with a licensed veterinarian! \n  \n 
URL:http://www.suo.ca/event/educational-presentation-about-spay-neuter/
LOCATION:Virtual (Online)\, Kelowna\, British Columbia\, Canada
CATEGORIES:All Ages,Resource Centre
ORGANIZER;CN="Pre-Vet Club":MAILTO:prevetclub.okanagan@outlook.com
END:VEVENT
BEGIN:VEVENT
DTSTART;TZID=America/Vancouver:20230301T170000
DTEND;TZID=America/Vancouver:20230301T193000
DTSTAMP:20260420T070601
CREATED:20230228T185008Z
LAST-MODIFIED:20230228T185008Z
UID:10003276-1677690000-1677699000@www.suo.ca
SUMMARY:Discussion
DESCRIPTION:Wednesday Discussion Sessions \n  \nLocated: EME 2202
URL:http://www.suo.ca/event/discussion-2/
LOCATION:EME Building\, UBCO Campus\, 1137 Alumni Avenue\, Kelowna\, British Columbia\, V1V 1V7\, Canada
CATEGORIES:All Ages,Resource Centre
ATTACH;FMTTYPE=image/jpeg:http://www.suo.ca/wp-content/uploads/2022/07/SUO-Student-Associations.jpg
ORGANIZER;CN="Persian Club":MAILTO:persianclub.ubco@gmail.com
END:VEVENT
BEGIN:VEVENT
DTSTART;TZID=America/Vancouver:20221123T170000
DTEND;TZID=America/Vancouver:20221123T200000
DTSTAMP:20260420T070601
CREATED:20221116T185051Z
LAST-MODIFIED:20221116T185051Z
UID:10002219-1669222800-1669233600@www.suo.ca
SUMMARY:Queer D&D !
DESCRIPTION:A one shot campaign for beginner or experience players of Dungeons and Dragons. It’s a safe space for queer individuals to explore the game and also includes many queer elements within the one shots. \nLocated: EME 2111 \n 
URL:http://www.suo.ca/event/queer-dd-2/
LOCATION:EME Building\, UBCO Campus\, 1137 Alumni Avenue\, Kelowna\, British Columbia\, V1V 1V7\, Canada
CATEGORIES:All Ages,Resource Centre
ATTACH;FMTTYPE=image/png:http://www.suo.ca/wp-content/uploads/2021/06/PRC-logo.png
ORGANIZER;CN="Pride Resource Centre":MAILTO:prc@suo.ca
END:VEVENT
BEGIN:VEVENT
DTSTART;TZID=America/Vancouver:20221012T170000
DTEND;TZID=America/Vancouver:20221012T210000
DTSTAMP:20260420T070601
CREATED:20221007T194059Z
LAST-MODIFIED:20221007T194059Z
UID:10002144-1665594000-1665608400@www.suo.ca
SUMMARY:Queer D&D night
DESCRIPTION:The purpose of the event is to play a popular table top roleplaying game called dungeons and dragons in a safe space for queer students as traditionally the game is dominated by cisgender heterosexual men; causing discomfort for a lot of queer people to try the game. This is to build community within students by getting to know each other in a comfortable and fun setting. \nART 210
URL:http://www.suo.ca/event/queer-dd-night/
LOCATION:Arts Building\, UBCO Campus\, 1147 Research Road\, Kelowna\, British Columbia\, V1V 1V7\, Canada
CATEGORIES:All Ages,Resource Centre
ATTACH;FMTTYPE=image/png:http://www.suo.ca/wp-content/uploads/2021/05/Layer-1-1.png
ORGANIZER;CN="Pride Resource Centre":MAILTO:prc@suo.ca
END:VEVENT
END:VCALENDAR