BEGIN:VCALENDAR
VERSION:2.0
PRODID:-//Students’ Union Okanagan of UBC - ECPv6.5.0//NONSGML v1.0//EN
CALSCALE:GREGORIAN
METHOD:PUBLISH
X-WR-CALNAME:Students’ Union Okanagan of UBC
X-ORIGINAL-URL:https://www.suo.ca
X-WR-CALDESC:Events for Students’ Union Okanagan of UBC
REFRESH-INTERVAL;VALUE=DURATION:PT1H
X-Robots-Tag:noindex
X-PUBLISHED-TTL:PT1H
BEGIN:VTIMEZONE
TZID:America/Vancouver
BEGIN:DAYLIGHT
TZOFFSETFROM:-0800
TZOFFSETTO:-0700
TZNAME:PDT
DTSTART:20210314T100000
END:DAYLIGHT
BEGIN:STANDARD
TZOFFSETFROM:-0700
TZOFFSETTO:-0800
TZNAME:PST
DTSTART:20211107T090000
END:STANDARD
END:VTIMEZONE
BEGIN:VEVENT
DTSTART;TZID=America/Vancouver:20211024T080000
DTEND;TZID=America/Vancouver:20211024T200000
DTSTAMP:20260420T191347
CREATED:20211019T202630Z
LAST-MODIFIED:20211019T202630Z
UID:10002222-1635062400-1635105600@www.suo.ca
SUMMARY:Okanagan Engineering Competition
DESCRIPTION:The Okanagan Engineering Competition (OEC) is an annual competition held by the Engineering Society at UBC consisting of eight competitions. Competitors can enter as individuals or teams depending on the competition. Each team will be given a “design” phase to tackle a problem provided and then present a solution to a panel of judges. The OEC serves as a local qualifier to the Western Engineering Competition (WEC)\, the regional competition. \n  \nParticipants register through an application form: https://docs.google.com/forms/d/e/1FAIpQLSfobtTqLRXzVvdOyF1VMdemvWsKWsLH9akcLohNZzkARGeFkw/viewform?usp=sf_link
URL:https://www.suo.ca/event/okanagan-engineering-competition/
LOCATION:EME Building\, UBCO Campus\, 1137 Alumni Avenue\, Kelowna\, British Columbia\, V1V 1V7\, Canada
CATEGORIES:All Ages,Student Associations
ORGANIZER;CN="Engineering Society":MAILTO:president@okanaganengineers.com
END:VEVENT
END:VCALENDAR