BEGIN:VCALENDAR
VERSION:2.0
PRODID:-//Students’ Union Okanagan of UBC - ECPv6.5.0//NONSGML v1.0//EN
CALSCALE:GREGORIAN
METHOD:PUBLISH
X-ORIGINAL-URL:https://www.suo.ca
X-WR-CALDESC:Events for Students’ Union Okanagan of UBC
REFRESH-INTERVAL;VALUE=DURATION:PT1H
X-Robots-Tag:noindex
X-PUBLISHED-TTL:PT1H
BEGIN:VTIMEZONE
TZID:America/Vancouver
BEGIN:DAYLIGHT
TZOFFSETFROM:-0800
TZOFFSETTO:-0700
TZNAME:PDT
DTSTART:20210314T100000
END:DAYLIGHT
BEGIN:STANDARD
TZOFFSETFROM:-0700
TZOFFSETTO:-0800
TZNAME:PST
DTSTART:20211107T090000
END:STANDARD
END:VTIMEZONE
BEGIN:VEVENT
DTSTART;TZID=America/Vancouver:20211105T140000
DTEND;TZID=America/Vancouver:20211105T160000
DTSTAMP:20260419T215025
CREATED:20211102T183044Z
LAST-MODIFIED:20211102T183044Z
UID:10002232-1636120800-1636128000@www.suo.ca
SUMMARY:BGSS Academic Coffee Corner
DESCRIPTION:The Biology Graduate Student Society is holding a “Coffee Corner”\, where students can practice presenting any upcoming talks or presentations and discuss their research with each other in a casual environment. \nDrop by if you are a member\, no sign up necessary \nASC 460 Collegium
URL:https://www.suo.ca/event/bgss-academic-coffee-corner/
LOCATION:UBCO\, 3333 University Way\, Kelowna\, British Columbia\, Canada
CATEGORIES:All Ages,Student Associations
ORGANIZER;CN="Biology Graduate Students Society":MAILTO:biogradsociety@gmail.com
END:VEVENT
END:VCALENDAR