BEGIN:VCALENDAR
VERSION:2.0
PRODID:-//Students’ Union Okanagan of UBC - ECPv6.5.0//NONSGML v1.0//EN
CALSCALE:GREGORIAN
METHOD:PUBLISH
X-WR-CALNAME:Students’ Union Okanagan of UBC
X-ORIGINAL-URL:https://www.suo.ca
X-WR-CALDESC:Events for Students’ Union Okanagan of UBC
REFRESH-INTERVAL;VALUE=DURATION:PT1H
X-Robots-Tag:noindex
X-PUBLISHED-TTL:PT1H
BEGIN:VTIMEZONE
TZID:America/Vancouver
BEGIN:DAYLIGHT
TZOFFSETFROM:-0800
TZOFFSETTO:-0700
TZNAME:PDT
DTSTART:20210314T100000
END:DAYLIGHT
BEGIN:STANDARD
TZOFFSETFROM:-0700
TZOFFSETTO:-0800
TZNAME:PST
DTSTART:20211107T090000
END:STANDARD
END:VTIMEZONE
BEGIN:VEVENT
DTSTART;TZID=America/Vancouver:20211113T180000
DTEND;TZID=America/Vancouver:20211113T220000
DTSTAMP:20260419T072843
CREATED:20211103T225056Z
LAST-MODIFIED:20211103T225056Z
UID:10002023-1636826400-1636840800@www.suo.ca
SUMMARY:HKSC Board Game Night
DESCRIPTION:FIPKE 121 \nRegister on HKSC Instagram \nWe found that there are some members in our club interested in learning traditional Hong Kong game. The board game night will be a good chance for us to introduce those traditional games. \n 
URL:https://www.suo.ca/event/hksc-board-game-night/
LOCATION:FIPKE Building\, UBCO Campus\, 3247 University Way\, Kelowna\, British Columbia\, V1V 1V7\, Canada
ORGANIZER;CN="Hong Kong Student Association":MAILTO:hkscokanagan@gmail.com
END:VEVENT
END:VCALENDAR