BEGIN:VCALENDAR
VERSION:2.0
PRODID:-//Students’ Union Okanagan of UBC - ECPv6.5.0//NONSGML v1.0//EN
CALSCALE:GREGORIAN
METHOD:PUBLISH
X-ORIGINAL-URL:https://www.suo.ca
X-WR-CALDESC:Events for Students’ Union Okanagan of UBC
REFRESH-INTERVAL;VALUE=DURATION:PT1H
X-Robots-Tag:noindex
X-PUBLISHED-TTL:PT1H
BEGIN:VTIMEZONE
TZID:America/Vancouver
BEGIN:DAYLIGHT
TZOFFSETFROM:-0800
TZOFFSETTO:-0700
TZNAME:PDT
DTSTART:20220313T100000
END:DAYLIGHT
BEGIN:STANDARD
TZOFFSETFROM:-0700
TZOFFSETTO:-0800
TZNAME:PST
DTSTART:20221106T090000
END:STANDARD
END:VTIMEZONE
BEGIN:VEVENT
DTSTART;TZID=America/Vancouver:20220924T130000
DTEND;TZID=America/Vancouver:20221112T140000
DTSTAMP:20260420T211003
CREATED:20220928T230340Z
LAST-MODIFIED:20220928T230340Z
UID:10002339-1664024400-1668261600@www.suo.ca
SUMMARY:IDS Solar Bench Project Weekly Meetings
DESCRIPTION:We will work on our Solar Bench Project every Saturday. This will involve design as well as hands-on work! \nEME 1153
URL:https://www.suo.ca/event/ids-solar-bench-project-weekly-meetings/
LOCATION:EME Building\, UBCO Campus\, 1137 Alumni Avenue\, Kelowna\, British Columbia\, V1V 1V7\, Canada
CATEGORIES:All Ages,Student Associations
ORGANIZER;CN="Innovate Design Sustain Club":MAILTO:vpeventsidssuo@gmail.com
END:VEVENT
BEGIN:VEVENT
DTSTART;TZID=America/Vancouver:20220926T180000
DTEND;TZID=America/Vancouver:20221128T190000
DTSTAMP:20260420T211003
CREATED:20220928T230121Z
LAST-MODIFIED:20220928T230121Z
UID:10002338-1664215200-1669662000@www.suo.ca
SUMMARY:IDS Campus Waste Initiatives Weekly Meetings
DESCRIPTION:Weekly meetings to work on our Campus Waste Initiatives. Join us if you want to help make our campus more sustainable! \nEME 1101
URL:https://www.suo.ca/event/ids-campus-waste-initiatives-weekly-meetings/
LOCATION:EME Building\, UBCO Campus\, 1137 Alumni Avenue\, Kelowna\, British Columbia\, V1V 1V7\, Canada
CATEGORIES:All Ages,Student Associations
ORGANIZER;CN="Innovate Design Sustain Club":MAILTO:vpeventsidssuo@gmail.com
END:VEVENT
BEGIN:VEVENT
DTSTART;TZID=America/Vancouver:20221028T110000
DTEND;TZID=America/Vancouver:20221028T160000
DTSTAMP:20260420T211003
CREATED:20221019T215611Z
LAST-MODIFIED:20221019T215611Z
UID:10002401-1666954800-1666972800@www.suo.ca
SUMMARY:Pumpkin Carving Extravaganza
DESCRIPTION:
URL:https://www.suo.ca/event/pumpkin-carving-extravaganza/
LOCATION:UNC Foyer\, UBCO Campus\, 3272 University Way\, Kelowna\, British Columbia\, V1V 1V7\, Canada
CATEGORIES:All Ages
ATTACH;FMTTYPE=image/png:https://www.suo.ca/wp-content/uploads/2022/10/pumpkin-carving-Instagram-Post-Square-2160-×-1080-px-1.png
END:VEVENT
BEGIN:VEVENT
DTSTART;TZID=America/Vancouver:20221028T173000
DTEND;TZID=America/Vancouver:20221028T173000
DTSTAMP:20260420T211003
CREATED:20221024T201317Z
LAST-MODIFIED:20221024T201317Z
UID:10002192-1666978200-1666978200@www.suo.ca
SUMMARY:Pre-Dental Association Halloween Carving Event
DESCRIPTION:The Pre-dental association is holding a Halloween social event for students to learn more about dentistry and the artistic nature involved in being a Dentist. We will be doing a pumpkin carving activity and watching a movie. \n  \nLocated: ART 102
URL:https://www.suo.ca/event/pre-dental-association-halloween-carving-event/
LOCATION:Arts Building\, UBCO Campus\, 1147 Research Road\, Kelowna\, British Columbia\, V1V 1V7\, Canada
CATEGORIES:All Ages,Student Associations
ATTACH;FMTTYPE=image/jpeg:https://www.suo.ca/wp-content/uploads/2022/07/SUO-Student-Associations.jpg
ORGANIZER;CN="Pre-Dental Society":MAILTO:ubcopredental.president@gmail.com
END:VEVENT
BEGIN:VEVENT
DTSTART;TZID=America/Vancouver:20221028T180000
DTEND;TZID=America/Vancouver:20221028T200000
DTSTAMP:20260420T211003
CREATED:20221007T185947Z
LAST-MODIFIED:20221011T215409Z
UID:10002131-1666980000-1666987200@www.suo.ca
SUMMARY:AWB’s Paint and Pizza Night
DESCRIPTION:Come join us for a night of painting and pizza in the UNC ballroom! All the proceeds from this event will go directly to providing school supplies such as book\, uniforms\, food\, etc. to underprivileged children in developing countries! \nUNC 200 Ballroom \nTickets on Eventbrite! link coming!
URL:https://www.suo.ca/event/awbs-halloween-bash/
LOCATION:UNC 200 Ballroom\, 3272 University Way\, UNC200\, Kelowna\, British Columbia\, V1V 1V7\, Canada
CATEGORIES:All Ages,Student Associations
ATTACH;FMTTYPE=image/png:https://www.suo.ca/wp-content/uploads/2021/05/Layer-1-1.png
ORGANIZER;CN="Angels without Boundaries":MAILTO:angelswithoutboundaries.awb@gmail.com
END:VEVENT
BEGIN:VEVENT
DTSTART;TZID=America/Vancouver:20221028T190000
DTEND;TZID=America/Vancouver:20221028T233000
DTSTAMP:20260420T211003
CREATED:20221017T200957Z
LAST-MODIFIED:20221017T200957Z
UID:10002395-1666983600-1666999800@www.suo.ca
SUMMARY:Carifete
DESCRIPTION:A music and dance event to celebrate Caribbean culture open to all students. \n  \nLocated: EME Foyer.
URL:https://www.suo.ca/event/carifete/
LOCATION:EME Building\, UBCO Campus\, 1137 Alumni Avenue\, Kelowna\, British Columbia\, V1V 1V7\, Canada
CATEGORIES:All Ages,Student Associations
ATTACH;FMTTYPE=image/jpeg:https://www.suo.ca/wp-content/uploads/2021/09/acsc_logo.jpeg
ORGANIZER;CN="African Caribbean Student Club":MAILTO:acscsuo@gmail.com
END:VEVENT
BEGIN:VEVENT
DTSTART;TZID=America/Vancouver:20221028T223000
DTEND;TZID=America/Vancouver:20221028T233000
DTSTAMP:20260420T211003
CREATED:20221013T203728Z
LAST-MODIFIED:20221013T203728Z
UID:10002373-1666996200-1666999800@www.suo.ca
SUMMARY:Steve-O on tour
DESCRIPTION:Offering 10 tickets for SteveO’s stand-up show in Kelowna. Great opportunity for a first event. The purpose is to offer a fun experience to have a good time and network with people. Additionally\, as the event is a stand-up show\, it correlates with public speaking.
URL:https://www.suo.ca/event/steve-o-on-tour/
LOCATION:Kelowna Community Theatre\, 1375 Water Street\, Kelowna\, British Columbia\, V1Y 0B4\, Canada
CATEGORIES:All Ages,Student Associations
ATTACH;FMTTYPE=image/svg+xml:https://www.suo.ca/wp-content/uploads/2021/12/SUO-Logo.svg
ORGANIZER;CN="Public Speaking Club of MSA":MAILTO:Publicspeaking@msaubco.ca
END:VEVENT
END:VCALENDAR