BEGIN:VCALENDAR
VERSION:2.0
PRODID:-//Students’ Union Okanagan of UBC - ECPv6.5.0//NONSGML v1.0//EN
CALSCALE:GREGORIAN
METHOD:PUBLISH
X-WR-CALNAME:Students’ Union Okanagan of UBC
X-ORIGINAL-URL:https://www.suo.ca
X-WR-CALDESC:Events for Students’ Union Okanagan of UBC
REFRESH-INTERVAL;VALUE=DURATION:PT1H
X-Robots-Tag:noindex
X-PUBLISHED-TTL:PT1H
BEGIN:VTIMEZONE
TZID:America/Vancouver
BEGIN:DAYLIGHT
TZOFFSETFROM:-0800
TZOFFSETTO:-0700
TZNAME:PDT
DTSTART:20220313T100000
END:DAYLIGHT
BEGIN:STANDARD
TZOFFSETFROM:-0700
TZOFFSETTO:-0800
TZNAME:PST
DTSTART:20221106T090000
END:STANDARD
END:VTIMEZONE
BEGIN:VEVENT
DTSTART;TZID=America/Vancouver:20220924T130000
DTEND;TZID=America/Vancouver:20221112T140000
DTSTAMP:20260420T095501
CREATED:20220928T230340Z
LAST-MODIFIED:20220928T230340Z
UID:10002339-1664024400-1668261600@www.suo.ca
SUMMARY:IDS Solar Bench Project Weekly Meetings
DESCRIPTION:We will work on our Solar Bench Project every Saturday. This will involve design as well as hands-on work! \nEME 1153
URL:https://www.suo.ca/event/ids-solar-bench-project-weekly-meetings/
LOCATION:EME Building\, UBCO Campus\, 1137 Alumni Avenue\, Kelowna\, British Columbia\, V1V 1V7\, Canada
CATEGORIES:All Ages,Student Associations
ORGANIZER;CN="Innovate Design Sustain Club":MAILTO:vpeventsidssuo@gmail.com
END:VEVENT
BEGIN:VEVENT
DTSTART;TZID=America/Vancouver:20220926T180000
DTEND;TZID=America/Vancouver:20221128T190000
DTSTAMP:20260420T095501
CREATED:20220928T230121Z
LAST-MODIFIED:20220928T230121Z
UID:10002338-1664215200-1669662000@www.suo.ca
SUMMARY:IDS Campus Waste Initiatives Weekly Meetings
DESCRIPTION:Weekly meetings to work on our Campus Waste Initiatives. Join us if you want to help make our campus more sustainable! \nEME 1101
URL:https://www.suo.ca/event/ids-campus-waste-initiatives-weekly-meetings/
LOCATION:EME Building\, UBCO Campus\, 1137 Alumni Avenue\, Kelowna\, British Columbia\, V1V 1V7\, Canada
CATEGORIES:All Ages,Student Associations
ORGANIZER;CN="Innovate Design Sustain Club":MAILTO:vpeventsidssuo@gmail.com
END:VEVENT
BEGIN:VEVENT
DTSTART;TZID=America/Vancouver:20221104T180000
DTEND;TZID=America/Vancouver:20221104T210000
DTSTAMP:20260420T095501
CREATED:20221019T164744Z
LAST-MODIFIED:20230707T200715Z
UID:10002398-1667584800-1667595600@www.suo.ca
SUMMARY:Pints and Politics
DESCRIPTION:The meeting will be a general information meeting about our club. This is the first meeting of the year and will bring liberals together. We are planning on buying all of them a can of beer and encouraging them to network with one another and talk about political situations that interest them. This meeting will not be long and there will be minimal contact between people in the room as we will be focused on conversation as opposed to physical activity. We will also be sitting on a long table at the Well to discourage large crowds from forming. \nLocated: The Well.
URL:https://www.suo.ca/event/pints-and-politics/
LOCATION:The Well Pub\, 3272 University Way\, UNC125\, Kelowna\, British Columbia\, V1V 1V7\, Canada
CATEGORIES:All Ages,Student Associations
ATTACH;FMTTYPE=image/jpeg:https://www.suo.ca/wp-content/uploads/2022/07/SUO-Student-Associations.jpg
ORGANIZER;CN="Young Liberals of Canada":MAILTO:ubcoylc@gmail.com
END:VEVENT
BEGIN:VEVENT
DTSTART;TZID=America/Vancouver:20221104T183000
DTEND;TZID=America/Vancouver:20221104T200000
DTSTAMP:20260420T095501
CREATED:20221017T201538Z
LAST-MODIFIED:20221017T201931Z
UID:10002391-1667586600-1667592000@www.suo.ca
SUMMARY:KCC Club Gatherings
DESCRIPTION:Our mission is to share love through Korean Culture and Christianity.\nOne week we are doing cultural events such as eating Korean foods\, and the other week we are planning to learn about how Christianity in Korea has been developed within the culture. \nLocated: FIP 140
URL:https://www.suo.ca/event/kcc-club-gatherings/2022-11-04/
LOCATION:FIPKE Building\, UBCO Campus\, 3247 University Way\, Kelowna\, British Columbia\, V1V 1V7\, Canada
CATEGORIES:All Ages,Student Associations
ATTACH;FMTTYPE=image/jpeg:https://www.suo.ca/wp-content/uploads/2022/07/SUO-Student-Associations.jpg
ORGANIZER;CN="Korean Culture & Church History Study Club":MAILTO:kcchubco@gmail.com
END:VEVENT
BEGIN:VEVENT
DTSTART;TZID=America/Vancouver:20221104T183000
DTEND;TZID=America/Vancouver:20221104T210000
DTSTAMP:20260420T095501
CREATED:20221013T202621Z
LAST-MODIFIED:20230707T195723Z
UID:10002370-1667586600-1667595600@www.suo.ca
SUMMARY:Pre-Med Club's Pre-requisite Crash Course
DESCRIPTION:The Pre-Med Club’s Pre-requisite Crash Course is a special event for those interested in applying to medical school. There will be information on the following: \n-electives people in each Ubco degree can take\n-courses to take to prepare for the mcat\n-entrance statistics\n-when to apply to medical schools \nART 386
URL:https://www.suo.ca/event/pre-med-clubs-pre-requisite-crash-course/
LOCATION:UBCO\, 3333 University Way\, Kelowna\, British Columbia\, Canada
CATEGORIES:All Ages,Student Associations
ATTACH;FMTTYPE=image/svg+xml:https://www.suo.ca/wp-content/uploads/2021/12/SUO-Logo.svg
ORGANIZER;CN="Pre-Med Club":MAILTO:okanagan.premedclub@gmail.com
END:VEVENT
BEGIN:VEVENT
DTSTART;TZID=America/Vancouver:20221104T193000
DTEND;TZID=America/Vancouver:20221104T203000
DTSTAMP:20260420T095501
CREATED:20221028T194347Z
LAST-MODIFIED:20221028T194444Z
UID:10002415-1667590200-1667593800@www.suo.ca
SUMMARY:OEM Mixer and Showcase!
DESCRIPTION:This event serves the purpose to showcase all the upcoming projects that the club has to offer as well as a way for our new members to interact with one another \n  \nLocated: EME 1151
URL:https://www.suo.ca/event/oem-mixer-and-showcase/
LOCATION:EME Building\, UBCO Campus\, 1137 Alumni Avenue\, Kelowna\, British Columbia\, V1V 1V7\, Canada
CATEGORIES:All Ages,Student Associations
ATTACH;FMTTYPE=image/jpeg:https://www.suo.ca/wp-content/uploads/2022/07/SUO-Student-Associations.jpg
ORGANIZER;CN="Okanagan Engineering in Medicine":MAILTO:okenginmed@gmail.com
END:VEVENT
END:VCALENDAR