BEGIN:VCALENDAR
VERSION:2.0
PRODID:-//Students’ Union Okanagan of UBC - ECPv6.5.0//NONSGML v1.0//EN
CALSCALE:GREGORIAN
METHOD:PUBLISH
X-ORIGINAL-URL:https://www.suo.ca
X-WR-CALDESC:Events for Students’ Union Okanagan of UBC
REFRESH-INTERVAL;VALUE=DURATION:PT1H
X-Robots-Tag:noindex
X-PUBLISHED-TTL:PT1H
BEGIN:VTIMEZONE
TZID:America/Vancouver
BEGIN:DAYLIGHT
TZOFFSETFROM:-0800
TZOFFSETTO:-0700
TZNAME:PDT
DTSTART:20250309T100000
END:DAYLIGHT
BEGIN:STANDARD
TZOFFSETFROM:-0700
TZOFFSETTO:-0800
TZNAME:PST
DTSTART:20251102T090000
END:STANDARD
END:VTIMEZONE
BEGIN:VEVENT
DTSTART;TZID=America/Vancouver:20250224T090000
DTEND;TZID=America/Vancouver:20250224T150000
DTSTAMP:20260425T140900
CREATED:20240910T225009Z
LAST-MODIFIED:20240910T225009Z
UID:10008129-1740387600-1740409200@www.suo.ca
SUMMARY:Women's Resource Centre
DESCRIPTION:Come stop by the Women’s Resource Center for their drop-in hours! \nAll services offered by the WRC are paraprofessionals\, however\, the WRC provides a safe place on campus for women and those who identify as female\, to find a supportive environment and connections to other resources on and off campus. The WRC annually initiates many events\, campaigns\, and fundraisers all to better the lives of women primarily on campus\, while maintaining connections to the local\, national and international scale. \nLocation: UNC 132
URL:https://www.suo.ca/event/womens-resource-centre-2/2025-02-24/
LOCATION:UNC Resource Centre\, 3272 University Way\, Kelowna\, B.C\, V1V 1V7\, Canada
CATEGORIES:All Ages,Resource Centre
ATTACH;FMTTYPE=image/jpeg:https://www.suo.ca/wp-content/uploads/2024/08/2024-25_rubric-logo_WRC.jpg
ORGANIZER;CN="Women's Resource Center":MAILTO:wrc@suo.ca
END:VEVENT
BEGIN:VEVENT
DTSTART;TZID=America/Vancouver:20250224T170000
DTEND;TZID=America/Vancouver:20250224T190000
DTSTAMP:20260425T140900
CREATED:20241212T172110Z
LAST-MODIFIED:20241212T172110Z
UID:10009315-1740416400-1740423600@www.suo.ca
SUMMARY:Public Speaking & Interviewing Practice Sessions
DESCRIPTION:We will be practicing elements of public speaking and interviewing. \nLocation: FIP 121
URL:https://www.suo.ca/event/public-speaking-interviewing-practice-sessions/2025-02-24/
LOCATION:FIPKE Building\, UBCO Campus\, 3247 University Way\, Kelowna\, British Columbia\, V1V 1V7\, Canada
CATEGORIES:All Ages,Student Associations
ATTACH;FMTTYPE=image/png:https://www.suo.ca/wp-content/uploads/2022/10/SALogo_2023_SpeechandInterview.png
ORGANIZER;CN="Speech & Interview Club":MAILTO:speech.interview.suo@gmail.com
END:VEVENT
BEGIN:VEVENT
DTSTART;TZID=America/Vancouver:20250224T180000
DTEND;TZID=America/Vancouver:20250224T200000
DTSTAMP:20260425T140900
CREATED:20250214T215728Z
LAST-MODIFIED:20250214T215728Z
UID:10009630-1740420000-1740427200@www.suo.ca
SUMMARY:MATH 101 Quiz 3 Review
DESCRIPTION:Our Math Representative is collaborating with the course professor to organize a review session ahead of the exam. This session is designed to help students prepare more effectively through guided review and peer-to-peer collaboration. Don’t miss this great opportunity to strengthen your understanding and boost your exam preparation! \nLocation: SCI 337
URL:https://www.suo.ca/event/math-101-quiz-3-review/
LOCATION:Science Building\, UBCO Campus\, 1177 Research Road\, Kelowna\, British Columbia\, V1V 1V7\, Canada
CATEGORIES:All Ages,Student Associations
ATTACH;FMTTYPE=image/svg+xml:https://www.suo.ca/wp-content/uploads/2021/12/SUO-Logo.svg
ORGANIZER;CN="Quantitative Sciences Course Union":MAILTO:qscu.main@gmail.com
END:VEVENT
BEGIN:VEVENT
DTSTART;TZID=America/Vancouver:20250224T183000
DTEND;TZID=America/Vancouver:20250224T200000
DTSTAMP:20260425T140900
CREATED:20250205T213855Z
LAST-MODIFIED:20250205T213855Z
UID:10009641-1740421800-1740427200@www.suo.ca
SUMMARY:Halaqa Series
DESCRIPTION:Diving into an interactive lecture and group discussions about Islamic topics and stories. \nLocation: ART 106
URL:https://www.suo.ca/event/halaqa-series/2025-02-24/
LOCATION:Arts Building\, UBCO Campus\, 1147 Research Road\, Kelowna\, British Columbia\, V1V 1V7\, Canada
CATEGORIES:All Ages,Student Associations
ATTACH;FMTTYPE=image/svg+xml:https://www.suo.ca/wp-content/uploads/2021/12/SUO-Logo.svg
ORGANIZER;CN="Muslim Student Association":MAILTO:msa.ubcokanagan@gmail.com
END:VEVENT
BEGIN:VEVENT
DTSTART;TZID=America/Vancouver:20250224T183000
DTEND;TZID=America/Vancouver:20250224T210000
DTSTAMP:20260425T140900
CREATED:20241209T231911Z
LAST-MODIFIED:20241209T231911Z
UID:10009272-1740421800-1740430800@www.suo.ca
SUMMARY:CSCU Game Jam 3.0 - Exhibition
DESCRIPTION:Build something cool this reading break by participating in the third annual Game Jam! The CSCU Game Jam is an annual competition where students form teams of up to four people to build a video game. Teams will be showing off their creations for students and our panel of judges at the Game Jam Exhibition. \nLocation: EME Foyer
URL:https://www.suo.ca/event/cscu-game-jam-3-0-exhibition/
LOCATION:EME Building\, UBCO Campus\, 1137 Alumni Avenue\, Kelowna\, British Columbia\, V1V 1V7\, Canada
CATEGORIES:All Ages,Student Associations
ATTACH;FMTTYPE=image/png:https://www.suo.ca/wp-content/uploads/2021/12/csculogo-10.48.14-PM.png
ORGANIZER;CN="Computer Science Course Union":MAILTO:contact@cscu.io
END:VEVENT
BEGIN:VEVENT
DTSTART;TZID=America/Vancouver:20250224T190000
DTEND;TZID=America/Vancouver:20250224T210000
DTSTAMP:20260425T140900
CREATED:20241212T165855Z
LAST-MODIFIED:20241212T165855Z
UID:10009304-1740423600-1740430800@www.suo.ca
SUMMARY:Debate Practice Session
DESCRIPTION:We will be practicing elements of academic debating. \nLocation: FIP 121
URL:https://www.suo.ca/event/debate-practice-session/2025-02-24/
LOCATION:FIPKE Building\, UBCO Campus\, 3247 University Way\, Kelowna\, British Columbia\, V1V 1V7\, Canada
CATEGORIES:All Ages,Student Associations
ATTACH;FMTTYPE=image/png:https://www.suo.ca/wp-content/uploads/2021/09/SA_Logo_Debate-Society.png
ORGANIZER;CN="Debate Society":MAILTO:debate.suo@gmail.com
END:VEVENT
END:VCALENDAR