BEGIN:VCALENDAR
VERSION:2.0
PRODID:-//Students’ Union Okanagan of UBC - ECPv6.5.0//NONSGML v1.0//EN
CALSCALE:GREGORIAN
METHOD:PUBLISH
X-WR-CALNAME:Students’ Union Okanagan of UBC
X-ORIGINAL-URL:https://www.suo.ca
X-WR-CALDESC:Events for Students’ Union Okanagan of UBC
REFRESH-INTERVAL;VALUE=DURATION:PT1H
X-Robots-Tag:noindex
X-PUBLISHED-TTL:PT1H
BEGIN:VTIMEZONE
TZID:America/Vancouver
BEGIN:DAYLIGHT
TZOFFSETFROM:-0800
TZOFFSETTO:-0700
TZNAME:PDT
DTSTART:20250309T100000
END:DAYLIGHT
BEGIN:STANDARD
TZOFFSETFROM:-0700
TZOFFSETTO:-0800
TZNAME:PST
DTSTART:20251102T090000
END:STANDARD
END:VTIMEZONE
BEGIN:VEVENT
DTSTART;TZID=America/Vancouver:20250225T120000
DTEND;TZID=America/Vancouver:20250225T150000
DTSTAMP:20260425T140721
CREATED:20250214T220502Z
LAST-MODIFIED:20250214T220502Z
UID:10009700-1740484800-1740495600@www.suo.ca
SUMMARY:Social Justice Tabling
DESCRIPTION:Posting not needed. Booking a table to share information about social justice issues. \nLocation: ASC Foyer
URL:https://www.suo.ca/event/social-justice-tabling/
LOCATION:UBCO Campus\, 3333 University Way\, Kelowna\, British Columbia\, V1V 1V7\, Canada
CATEGORIES:All Ages,Student Associations
ATTACH;FMTTYPE=image/jpeg:https://www.suo.ca/wp-content/uploads/2024/08/2024-25_rubric-logo_SWCU.jpg
ORGANIZER;CN="Social Work Course Union (SWCU)":MAILTO:swcu.okgn@gmail.com
END:VEVENT
BEGIN:VEVENT
DTSTART;TZID=America/Vancouver:20250225T160000
DTEND;TZID=America/Vancouver:20250225T180000
DTSTAMP:20260425T140721
CREATED:20250214T220654Z
LAST-MODIFIED:20250214T220654Z
UID:10009663-1740499200-1740506400@www.suo.ca
SUMMARY:WRC Gala Tickets Tabling
DESCRIPTION:Come purchase tickets in person for our Gala on March 8th! \nLocation: UNC 100
URL:https://www.suo.ca/event/wrc-gala-tickets-tabling/
LOCATION:UNC Foyer\, UBCO Campus\, 3272 University Way\, Kelowna\, British Columbia\, V1V 1V7\, Canada
CATEGORIES:All Ages,Student Associations
ATTACH;FMTTYPE=image/jpeg:https://www.suo.ca/wp-content/uploads/2024/08/2024-25_rubric-logo_WRC.jpg
ORGANIZER;CN="Women's Resource Center":MAILTO:wrc@suo.ca
END:VEVENT
BEGIN:VEVENT
DTSTART;TZID=America/Vancouver:20250225T161000
DTEND;TZID=America/Vancouver:20250225T190000
DTSTAMP:20260425T140721
CREATED:20250108T191533Z
LAST-MODIFIED:20250108T191629Z
UID:10009403-1740499800-1740510000@www.suo.ca
SUMMARY:Steel Bridge Leads Meeting
DESCRIPTION:Steel Bridge is the club’s design team. These meetings aim to track the team’s weekly progress on the project\, while we make important decisions regarding the project during this time. This time brings in all leads together\, helping everyone stay focused as we move closer to competition day. \nLocation: ART 110
URL:https://www.suo.ca/event/steel-bridge-leads-meeting/2025-02-25/
LOCATION:Arts Building\, UBCO Campus\, 1147 Research Road\, Kelowna\, British Columbia\, V1V 1V7\, Canada
CATEGORIES:All Ages,Student Associations
ATTACH;FMTTYPE=image/png:https://www.suo.ca/wp-content/uploads/2022/09/SAlogo_2023_CSCE-172-x-172-px.png
ORGANIZER;CN="Canadian Society for Civil Engineering Student Chapter":MAILTO:csce.ok.stuchap@gmail.com
END:VEVENT
BEGIN:VEVENT
DTSTART;TZID=America/Vancouver:20250225T170000
DTEND;TZID=America/Vancouver:20250225T220000
DTSTAMP:20260425T140721
CREATED:20250115T201909Z
LAST-MODIFIED:20250115T202005Z
UID:10009473-1740502800-1740520800@www.suo.ca
SUMMARY:Board Game Night
DESCRIPTION:Weekly board game night\, board games and paints are provided\, come and drop by any time from 5 till 10 pm. \nLocation: ART 218
URL:https://www.suo.ca/event/board-game-night-3/2025-02-25/
LOCATION:Arts Building\, UBCO Campus\, 1147 Research Road\, Kelowna\, British Columbia\, V1V 1V7\, Canada
CATEGORIES:All Ages,Student Associations
ATTACH;FMTTYPE=image/svg+xml:https://www.suo.ca/wp-content/uploads/2021/12/SUO-Logo.svg
ORGANIZER;CN="Games Club":MAILTO:gamesclubokanagan@gmail.com
END:VEVENT
BEGIN:VEVENT
DTSTART;TZID=America/Vancouver:20250225T173000
DTEND;TZID=America/Vancouver:20250225T183000
DTSTAMP:20260425T140721
CREATED:20250214T221419Z
LAST-MODIFIED:20250214T221419Z
UID:10009596-1740504600-1740508200@www.suo.ca
SUMMARY:QSCU - PHYS 121 Midterm Review Session
DESCRIPTION:Our Physics representative is collaborating with the course professor to organize a review session ahead of the exam. This session is designed to help students prepare more effectively through guided review and peer-to-peer collaboration. Don’t miss this great opportunity to strengthen your understanding and boost your exam preparation! \nLocation: FIP 250
URL:https://www.suo.ca/event/qscu-phys-121-midterm-review-session/
LOCATION:FIPKE Building\, UBCO Campus\, 3247 University Way\, Kelowna\, British Columbia\, V1V 1V7\, Canada
CATEGORIES:All Ages,Student Associations
ATTACH;FMTTYPE=image/png:https://www.suo.ca/wp-content/uploads/2021/08/qscu_directory_logo.png
ORGANIZER;CN="Quantitative Sciences Course Union":MAILTO:qscu.main@gmail.com
END:VEVENT
BEGIN:VEVENT
DTSTART;TZID=America/Vancouver:20250225T180000
DTEND;TZID=America/Vancouver:20250225T200000
DTSTAMP:20260425T140721
CREATED:20250214T221025Z
LAST-MODIFIED:20250214T221025Z
UID:10009490-1740506400-1740513600@www.suo.ca
SUMMARY:Sociology Course Union Annual General Meeting
DESCRIPTION:Join us for our AGM! This is an exciting milestone as we reflect on our first year back in action after a long hiatus. The AGM is a chance to review our progress\, celebrate achievements\, and outline our plans for the future. We’ll cover highlights from the year\, including our initiatives\, financial updates\, and upcoming events\, as well as explore new ideas for future activities. We’ll also discuss the election process for next year’s leadership\, giving members the chance to learn more about the roles and vote for next year’s team. Most importantly\, this is your opportunity to share your ideas\, provide feedback\, and play a role in shaping the direction of the Sociology Course Union. Don’t miss it—we’re building something great\, and we want you to be part of it! \n  \nLocation: ART 365
URL:https://www.suo.ca/event/sociology-course-union-annual-general-meeting/
LOCATION:Arts Building\, UBCO Campus\, 1147 Research Road\, Kelowna\, British Columbia\, V1V 1V7\, Canada
CATEGORIES:All Ages,Student Associations
ATTACH;FMTTYPE=image/jpeg:https://www.suo.ca/wp-content/uploads/2024/08/SAlogo_SociologyCU.jpg
ORGANIZER;CN="Sociology Course Union":MAILTO:sociologycourseunion@gmail.com
END:VEVENT
END:VCALENDAR