BEGIN:VCALENDAR
VERSION:2.0
PRODID:-//Students’ Union Okanagan of UBC - ECPv6.5.0//NONSGML v1.0//EN
CALSCALE:GREGORIAN
METHOD:PUBLISH
X-WR-CALNAME:Students’ Union Okanagan of UBC
X-ORIGINAL-URL:https://www.suo.ca
X-WR-CALDESC:Events for Students’ Union Okanagan of UBC
REFRESH-INTERVAL;VALUE=DURATION:PT1H
X-Robots-Tag:noindex
X-PUBLISHED-TTL:PT1H
BEGIN:VTIMEZONE
TZID:America/Vancouver
BEGIN:DAYLIGHT
TZOFFSETFROM:-0800
TZOFFSETTO:-0700
TZNAME:PDT
DTSTART:20250309T100000
END:DAYLIGHT
BEGIN:STANDARD
TZOFFSETFROM:-0700
TZOFFSETTO:-0800
TZNAME:PST
DTSTART:20251102T090000
END:STANDARD
END:VTIMEZONE
BEGIN:VEVENT
DTSTART;TZID=America/Vancouver:20250226T090000
DTEND;TZID=America/Vancouver:20250226T150000
DTSTAMP:20260425T155439
CREATED:20250214T225813Z
LAST-MODIFIED:20250214T230743Z
UID:10009648-1740560400-1740582000@www.suo.ca
SUMMARY:Donation Day
DESCRIPTION:If you have any extra or unused crochet/knitting supplies\, we would love to take it off your hands! We will be accepting yarn\, crochet hooks\, knitting needles\, stitch markers (or safety pins)\, darning needles\, scissors\, and any incomplete projects that you have given up on. Help us start the Loop of Love by donating your unused supplies so we can use them to create community donations! \nLocation: Commons Foyer
URL:https://www.suo.ca/event/donation-day/
LOCATION:Commons Building\, UBCO Campus\, 3297 University Way\, Kelowna\, British Columbia\, V1V 1V7\, Canada
CATEGORIES:All Ages,Student Associations
ATTACH;FMTTYPE=image/svg+xml:https://www.suo.ca/wp-content/uploads/2021/12/SUO-Logo.svg
ORGANIZER;CN="Loops of Love":MAILTO:loopsoflovesuo@gmail.com
END:VEVENT
BEGIN:VEVENT
DTSTART;TZID=America/Vancouver:20250226T103000
DTEND;TZID=America/Vancouver:20250226T103000
DTSTAMP:20260425T155439
CREATED:20250214T225138Z
LAST-MODIFIED:20250214T225138Z
UID:10009775-1740565800-1740565800@www.suo.ca
SUMMARY:Gear Swap
DESCRIPTION:Mountain riders is hosting our second gear swap! Students can drop off their gear between 8 and 10 am\, listing the price and the email address to which the buyer can send money to. Gear will be for sale from 10-4\, and any gear not sold can be picked up from 4-6:30. \nLocation: Central Courtyard
URL:https://www.suo.ca/event/gear-swap/
LOCATION:Central Courtyard\, UBCO Campus\, 1138 Alumni Avenue\, Kelowna\, British Columbia\, V1V 1V7\, Canada
CATEGORIES:All Ages,Student Associations
ATTACH;FMTTYPE=image/svg+xml:https://www.suo.ca/wp-content/uploads/2021/12/SUO-Logo.svg
ORGANIZER;CN="Kelowna Mountain Riders":MAILTO:kelownamountainriders@gmail.com
END:VEVENT
BEGIN:VEVENT
DTSTART;TZID=America/Vancouver:20250226T200000
DTEND;TZID=America/Vancouver:20250226T210000
DTSTAMP:20260425T155439
CREATED:20241017T181411Z
LAST-MODIFIED:20241017T181434Z
UID:10008910-1740600000-1740603600@www.suo.ca
SUMMARY:UDC dance class
DESCRIPTION:Unite Dance Club will be having weekly dance classes every Wednesday from 8-9. Register on Rubric! \nLocation: On Pointe Studio
URL:https://www.suo.ca/event/udc-dance-class/2025-02-26/
LOCATION:On Pointe Studio\, 6 3185 VIA CENTRALE\, Kelowna\, B.C\, V1V 2A7\, Canada
CATEGORIES:All Ages,Student Associations
ATTACH;FMTTYPE=image/png:https://www.suo.ca/wp-content/uploads/2021/08/Unite-Dance-club.png
ORGANIZER;CN="Unite Dance Club":MAILTO:unitedanceclub1@gmail.com
END:VEVENT
END:VCALENDAR