BEGIN:VCALENDAR
VERSION:2.0
PRODID:-//Students’ Union Okanagan of UBC - ECPv6.5.0//NONSGML v1.0//EN
CALSCALE:GREGORIAN
METHOD:PUBLISH
X-ORIGINAL-URL:https://www.suo.ca
X-WR-CALDESC:Events for Students’ Union Okanagan of UBC
REFRESH-INTERVAL;VALUE=DURATION:PT1H
X-Robots-Tag:noindex
X-PUBLISHED-TTL:PT1H
BEGIN:VTIMEZONE
TZID:America/Vancouver
BEGIN:DAYLIGHT
TZOFFSETFROM:-0800
TZOFFSETTO:-0700
TZNAME:PDT
DTSTART:20250309T100000
END:DAYLIGHT
BEGIN:STANDARD
TZOFFSETFROM:-0700
TZOFFSETTO:-0800
TZNAME:PST
DTSTART:20251102T090000
END:STANDARD
END:VTIMEZONE
BEGIN:VEVENT
DTSTART;TZID=America/Vancouver:20250228T053000
DTEND;TZID=America/Vancouver:20250228T200000
DTSTAMP:20260425T140830
CREATED:20250214T234552Z
LAST-MODIFIED:20250214T234552Z
UID:10009552-1740720600-1740772800@www.suo.ca
SUMMARY:Psychology Research Night
DESCRIPTION:Opportunity to learn about the psychology research going on at our school. Time to ask about Honour\, getting involved and process of research. \nLocation: ASC 140
URL:https://www.suo.ca/event/psychology-research-night/
LOCATION:British Columbia
CATEGORIES:All Ages,Student Associations
ATTACH;FMTTYPE=image/svg+xml:https://www.suo.ca/wp-content/uploads/2021/12/SUO-Logo.svg
ORGANIZER;CN="Psychology Course Union":MAILTO:Psychologycourseunion@gmail.com
END:VEVENT
BEGIN:VEVENT
DTSTART;TZID=America/Vancouver:20250228T153000
DTEND;TZID=America/Vancouver:20250228T163000
DTSTAMP:20260425T140830
CREATED:20250214T233017Z
LAST-MODIFIED:20250214T233017Z
UID:10009598-1740756600-1740760200@www.suo.ca
SUMMARY:QSCU - STAT 124: Midterm Review Sessions
DESCRIPTION:Our Statistics representative is collaborating with the course professor to organize a review session ahead of the exam. This session is designed to help students prepare more effectively through guided review and peer-to-peer collaboration. Don’t miss this great opportunity to strengthen your understanding and boost your exam preparation! \nLocation: FIP 139
URL:https://www.suo.ca/event/qscu-stat-124-midterm-review-sessions/
LOCATION:FIPKE Building\, UBCO Campus\, 3247 University Way\, Kelowna\, British Columbia\, V1V 1V7\, Canada
CATEGORIES:All Ages,Student Associations
ATTACH;FMTTYPE=image/png:https://www.suo.ca/wp-content/uploads/2021/08/qscu_directory_logo.png
ORGANIZER;CN="Quantitative Sciences Course Union":MAILTO:qscu.main@gmail.com
END:VEVENT
BEGIN:VEVENT
DTSTART;TZID=America/Vancouver:20250228T160000
DTEND;TZID=America/Vancouver:20250228T183000
DTSTAMP:20260425T140830
CREATED:20250224T185831Z
LAST-MODIFIED:20250224T185831Z
UID:10009810-1740758400-1740767400@www.suo.ca
SUMMARY:Board Meeting 2025-02-28
DESCRIPTION:Our Board Meetings are open to the membership unless the Board of Directors resolves to move the meeting in camera. The agenda will be posted at least 72 hours in advance of a meeting on the SUO website. Please click the link below for the agenda: \nMeeting Agenda & Minutes – Students’ Union Okanagan of UBC (suo.ca) \nIf you wish to observe the meeting\, please contact the SUO Governance Coordinator at governance.coordinator@suo.ca.
URL:https://www.suo.ca/event/board-meeting-2025-02-28/
LOCATION:SUO Boardroom UNC 105\, UBCO\, Kelowna\, Canada
CATEGORIES:Board of Directors
END:VEVENT
BEGIN:VEVENT
DTSTART;TZID=America/Vancouver:20250228T163000
DTEND;TZID=America/Vancouver:20250228T210000
DTSTAMP:20260425T140830
CREATED:20250214T214808Z
LAST-MODIFIED:20250214T214808Z
UID:10009581-1740760200-1740776400@www.suo.ca
SUMMARY:Indigenous Movie Marathon
DESCRIPTION:Join the Indigenous Peoples Collective (IPC) for a fun-filled evening of movies\, snacks\, and games! Enjoy Indigenous TV shows\, short films\, and movies celebrating Indigenous culture and storytelling. Connect with friends\, play games\, and relax with great entertainment and delicious snacks. Don’t miss this exciting community event! \nLocation: ART 114
URL:https://www.suo.ca/event/indigenous-movie-marathon/
LOCATION:Arts Building\, UBCO Campus\, 1147 Research Road\, Kelowna\, British Columbia\, V1V 1V7\, Canada
CATEGORIES:All Ages,Resource Centre
ATTACH;FMTTYPE=image/jpeg:https://www.suo.ca/wp-content/uploads/2024/08/2024-25_rubric-logo_IPC.jpg
ORGANIZER;CN="Indigenous Peoples Collective":MAILTO:ipc@suo.ca
END:VEVENT
BEGIN:VEVENT
DTSTART;TZID=America/Vancouver:20250228T170000
DTEND;TZID=America/Vancouver:20250228T190000
DTSTAMP:20260425T140830
CREATED:20241212T165334Z
LAST-MODIFIED:20241212T165542Z
UID:10009293-1740762000-1740769200@www.suo.ca
SUMMARY:Weekly Anime Showing
DESCRIPTION:Come join us for some fun anime showings every week to discover a new show\, find the spark to rewatch an old favorite\, or just meet up with fellow anime watchers for some snacks! \nLocation: ART 104
URL:https://www.suo.ca/event/weekly-anime-showing/2025-02-28/
LOCATION:Arts Building\, UBCO Campus\, 1147 Research Road\, Kelowna\, British Columbia\, V1V 1V7\, Canada
CATEGORIES:All Ages,Student Associations
ATTACH;FMTTYPE=image/png:https://www.suo.ca/wp-content/uploads/2023/10/SAlogo_2024_Anime.png
ORGANIZER;CN="Okanagan Anime Club":MAILTO:animemangaclub0923@gmail.com
END:VEVENT
BEGIN:VEVENT
DTSTART;TZID=America/Vancouver:20250228T170000
DTEND;TZID=America/Vancouver:20250228T220000
DTSTAMP:20260425T140830
CREATED:20250214T212548Z
LAST-MODIFIED:20250214T213208Z
UID:10009716-1740762000-1740780000@www.suo.ca
SUMMARY:Weekly TTRPG night
DESCRIPTION:Weekly RPG night in ART112. \nLocation: Art 112\, 203\, 103\, 206\, 208
URL:https://www.suo.ca/event/weekly-ttrpg-night/2025-02-28/
LOCATION:Arts Building\, UBCO Campus\, 1147 Research Road\, Kelowna\, British Columbia\, V1V 1V7\, Canada
CATEGORIES:All Ages,Student Associations
ATTACH;FMTTYPE=image/svg+xml:https://www.suo.ca/wp-content/uploads/2021/12/SUO-Logo.svg
ORGANIZER;CN="Games Club":MAILTO:gamesclubokanagan@gmail.com
END:VEVENT
BEGIN:VEVENT
DTSTART;TZID=America/Vancouver:20250228T173000
DTEND;TZID=America/Vancouver:20250228T193000
DTSTAMP:20260425T140830
CREATED:20250108T185102Z
LAST-MODIFIED:20250108T185102Z
UID:10009395-1740763800-1740771000@www.suo.ca
SUMMARY:Tune Titans weekly meeting
DESCRIPTION:A meeting for the club members to work on new and ongoing productions. \nLocation: ART 110
URL:https://www.suo.ca/event/tune-titans-weekly-meeting-2/2025-02-28/
LOCATION:Arts Building\, UBCO Campus\, 1147 Research Road\, Kelowna\, British Columbia\, V1V 1V7\, Canada
CATEGORIES:All Ages,Student Associations
ATTACH;FMTTYPE=image/svg+xml:https://www.suo.ca/wp-content/uploads/2021/12/SUO-Logo.svg
ORGANIZER;CN="Tune Titans":MAILTO:tune.titans.ok@gmail.com
END:VEVENT
BEGIN:VEVENT
DTSTART;TZID=America/Vancouver:20250228T180000
DTEND;TZID=America/Vancouver:20250228T200000
DTSTAMP:20260425T140830
CREATED:20250109T223720Z
LAST-MODIFIED:20250109T223720Z
UID:10009422-1740765600-1740772800@www.suo.ca
SUMMARY:Queer Climbing
DESCRIPTION:Join the pride resource center for discounted indoor rock climbing at Beyond the Crux climbing gym! No experience required\, first 10 people get day pass and rentals for free! Else $12 for day pass and rentals (regular cost $20). \nLocation: Beyond the Crux Climbing Gym
URL:https://www.suo.ca/event/queer-climbing/2025-02-28/
LOCATION:Beyond The Crux Climbing Gym\, 685 Finns Rd\, Kelowna\, BC\, V1X 5B7
CATEGORIES:All Ages,Resource Centre
ATTACH;FMTTYPE=image/jpeg:https://www.suo.ca/wp-content/uploads/2024/08/2024-25_rubric-logo_PRC.jpg
ORGANIZER;CN="Pride Resource Centre":MAILTO:prc@suo.ca
END:VEVENT
BEGIN:VEVENT
DTSTART;TZID=America/Vancouver:20250228T180000
DTEND;TZID=America/Vancouver:20250228T210000
DTSTAMP:20260425T140830
CREATED:20241204T221522Z
LAST-MODIFIED:20241204T221522Z
UID:10009263-1740765600-1740776400@www.suo.ca
SUMMARY:Kirtan Night
DESCRIPTION:Join us for a serene and spiritually uplifting evening as we come together to immerse ourselves in the divine vibrations of Kirtan and the recitation of Rehraas Sahib. Let the harmonious melodies and sacred verses guide your soul to peace and tranquility. \nThe evening will conclude with a warm Langar (community meal)\, symbolizing unity\, equality\, and service to all. This event is open to everyone\, regardless of background or faith. Come as you are and experience the joy of collective worship and togetherness. \nEvent Highlights:\nRehraas Sahib Recitation – Elevate your evening with this evening prayer.\nKirtan Performances – Immerse yourself in the soulful hymns sung by [Insert Details of Kirtan Group/Performers if known].\nLangar – Enjoy a delicious\, complimentary vegetarian meal prepared with love and devotion. \nLocation: FIP 121
URL:https://www.suo.ca/event/kirtan-night/2025-02-28/
LOCATION:FIPKE Building\, UBCO Campus\, 3247 University Way\, Kelowna\, British Columbia\, V1V 1V7\, Canada
CATEGORIES:All Ages,Student Associations
ATTACH;FMTTYPE=image/svg+xml:https://www.suo.ca/wp-content/uploads/2021/12/SUO-Logo.svg
ORGANIZER;CN="Sikh Student Association":MAILTO:sikhstudentassociationokanagan@gmail.com
END:VEVENT
END:VCALENDAR