BEGIN:VCALENDAR
VERSION:2.0
PRODID:-//Students’ Union Okanagan of UBC - ECPv6.5.0//NONSGML v1.0//EN
CALSCALE:GREGORIAN
METHOD:PUBLISH
X-WR-CALNAME:Students’ Union Okanagan of UBC
X-ORIGINAL-URL:https://www.suo.ca
X-WR-CALDESC:Events for Students’ Union Okanagan of UBC
REFRESH-INTERVAL;VALUE=DURATION:PT1H
X-Robots-Tag:noindex
X-PUBLISHED-TTL:PT1H
BEGIN:VTIMEZONE
TZID:America/Vancouver
BEGIN:DAYLIGHT
TZOFFSETFROM:-0800
TZOFFSETTO:-0700
TZNAME:PDT
DTSTART:20250309T100000
END:DAYLIGHT
BEGIN:STANDARD
TZOFFSETFROM:-0700
TZOFFSETTO:-0800
TZNAME:PST
DTSTART:20251102T090000
END:STANDARD
END:VTIMEZONE
BEGIN:VEVENT
DTSTART;TZID=America/Vancouver:20250305T100000
DTEND;TZID=America/Vancouver:20250305T150000
DTSTAMP:20260425T140722
CREATED:20250228T165804Z
LAST-MODIFIED:20250228T165804Z
UID:10009660-1741168800-1741186800@www.suo.ca
SUMMARY:Pie the Execs and Friends
DESCRIPTION:🥧 PIE THE EXEC & FRIENDS! 🥧 \n📅 Date: Wednesday\, March 5th\, 2025\n⏰ Time: 11:00 AM – 2:00 PM\n📍 Location: Field around the Admin Building\n🎟 Tickets: $4 per person \nGet ready for a fun and exciting event where you can pie an executive—or a friend—in the face! For just $4 per pie\, choose between whipped cream or shaving cream and make a memorable impact. Want to get others involved? You can also pay to have your friends pied! \nAll proceeds will go to charity\, making this event not only entertaining but also meaningful. Don’t miss this chance to participate\, share some laughs\, and contribute to a great cause! \nLocation: UNC WS (outside UNC building)
URL:https://www.suo.ca/event/pie-the-execs-and-friends/
LOCATION:UBCO Campus\, 3333 University Way\, Kelowna\, British Columbia\, V1V 1V7\, Canada
CATEGORIES:All Ages,Student Associations
ATTACH;FMTTYPE=image/jpeg:https://www.suo.ca/wp-content/uploads/2021/08/MSA-logo.jpg
ORGANIZER;CN="Management Student Association (MSA)":MAILTO:internal@msasuo.ca
END:VEVENT
BEGIN:VEVENT
DTSTART;TZID=America/Vancouver:20250305T180000
DTEND;TZID=America/Vancouver:20250305T200000
DTSTAMP:20260425T140722
CREATED:20250228T175121Z
LAST-MODIFIED:20250228T175231Z
UID:10009816-1741197600-1741204800@www.suo.ca
SUMMARY:Creating with Care
DESCRIPTION:A night where students can crochet and knit items to donate back to the community! Wednesdays from 6-8pm we will have supplies (& snacks!) available for you to create a positive impact. We will have easy patterns that we can walk beginners through\, as well as supplies for more experienced creators to express their creativity. Hope to see you there! \nLocation: EME Global Collegia
URL:https://www.suo.ca/event/creating-with-care/2025-03-05/
LOCATION:EME Building\, UBCO Campus\, 1137 Alumni Avenue\, Kelowna\, British Columbia\, V1V 1V7\, Canada
CATEGORIES:All Ages,Student Associations
ATTACH;FMTTYPE=image/svg+xml:https://www.suo.ca/wp-content/uploads/2021/12/SUO-Logo.svg
ORGANIZER;CN="Loops of Love":MAILTO:loopsoflovesuo@gmail.com
END:VEVENT
BEGIN:VEVENT
DTSTART;TZID=America/Vancouver:20250305T183000
DTEND;TZID=America/Vancouver:20250305T210000
DTSTAMP:20260425T140722
CREATED:20250227T234541Z
LAST-MODIFIED:20250227T234541Z
UID:10009611-1741199400-1741208400@www.suo.ca
SUMMARY:Women In Engineering Jewellery Night
DESCRIPTION:Crafting night hosted by WiE for students to socialize and de-stress during midterms. \nLocation: FIP 124
URL:https://www.suo.ca/event/women-in-engineering-jewellery-night/
LOCATION:FIPKE Building\, UBCO Campus\, 3247 University Way\, Kelowna\, British Columbia\, V1V 1V7\, Canada
CATEGORIES:All Ages,Student Associations
ATTACH;FMTTYPE=image/png:https://www.suo.ca/wp-content/uploads/2024/09/thumbnail_Copy-of-WIE-logo-Blue-Background.png
ORGANIZER;CN="Women in Engineering":MAILTO:womenineng.suo@gmail.com
END:VEVENT
BEGIN:VEVENT
DTSTART;TZID=America/Vancouver:20250305T200000
DTEND;TZID=America/Vancouver:20250305T210000
DTSTAMP:20260425T140722
CREATED:20241017T181411Z
LAST-MODIFIED:20241017T181434Z
UID:10008911-1741204800-1741208400@www.suo.ca
SUMMARY:UDC dance class
DESCRIPTION:Unite Dance Club will be having weekly dance classes every Wednesday from 8-9. Register on Rubric! \nLocation: On Pointe Studio
URL:https://www.suo.ca/event/udc-dance-class/2025-03-05/
LOCATION:On Pointe Studio\, 6 3185 VIA CENTRALE\, Kelowna\, B.C\, V1V 2A7\, Canada
CATEGORIES:All Ages,Student Associations
ATTACH;FMTTYPE=image/png:https://www.suo.ca/wp-content/uploads/2021/08/Unite-Dance-club.png
ORGANIZER;CN="Unite Dance Club":MAILTO:unitedanceclub1@gmail.com
END:VEVENT
END:VCALENDAR