BEGIN:VCALENDAR
VERSION:2.0
PRODID:-//Students’ Union Okanagan of UBC - ECPv6.5.0//NONSGML v1.0//EN
CALSCALE:GREGORIAN
METHOD:PUBLISH
X-WR-CALNAME:Students’ Union Okanagan of UBC
X-ORIGINAL-URL:https://www.suo.ca
X-WR-CALDESC:Events for Students’ Union Okanagan of UBC
REFRESH-INTERVAL;VALUE=DURATION:PT1H
X-Robots-Tag:noindex
X-PUBLISHED-TTL:PT1H
BEGIN:VTIMEZONE
TZID:America/Vancouver
BEGIN:DAYLIGHT
TZOFFSETFROM:-0800
TZOFFSETTO:-0700
TZNAME:PDT
DTSTART:20250309T100000
END:DAYLIGHT
BEGIN:STANDARD
TZOFFSETFROM:-0700
TZOFFSETTO:-0800
TZNAME:PST
DTSTART:20251102T090000
END:STANDARD
END:VTIMEZONE
BEGIN:VEVENT
DTSTART;TZID=America/Vancouver:20250306T120000
DTEND;TZID=America/Vancouver:20250306T150000
DTSTAMP:20260425T155440
CREATED:20241203T192046Z
LAST-MODIFIED:20250113T175036Z
UID:10009238-1741262400-1741273200@www.suo.ca
SUMMARY:Boba Sale Fundraiser
DESCRIPTION:Swing by our table to get some boba and destress! All money raised is donated to the Christina Noble Children’s Foundation to support marginalized children in Vietnam and Mongolia. \nLocation: UNC 100
URL:https://www.suo.ca/event/boba-sale-fundraiser/
LOCATION:UNC Foyer\, UBCO Campus\, 3272 University Way\, Kelowna\, British Columbia\, V1V 1V7\, Canada
CATEGORIES:All Ages,Student Associations
ATTACH;FMTTYPE=image/png:https://www.suo.ca/wp-content/uploads/2023/09/SAlogo_2023_ChristinaNobleCF.png
ORGANIZER;CN="Christina Noble Children's Foundation":MAILTO:cncfkelowna@gmail.com
END:VEVENT
BEGIN:VEVENT
DTSTART;TZID=America/Vancouver:20250306T130000
DTEND;TZID=America/Vancouver:20250306T140000
DTSTAMP:20260425T155440
CREATED:20250305T162133Z
LAST-MODIFIED:20250305T162133Z
UID:10009891-1741266000-1741269600@www.suo.ca
SUMMARY:Policy Committee Meeting 2025-03-06
DESCRIPTION:The SUO committee meetings are open to the members unless the Board of Directors has empowered the committee and the committee duly resolves to move the meeting in camera. \nPlease check out the events calendar to see when the committees are meeting. If you wish to observe the meeting or bring something forward at a committee meeting\, please contact the chair of a committee. \nChair of the Policy Committee \nVP Internal\nRajat Arora\nvpinternal@suo.ca
URL:https://www.suo.ca/event/policy-committee-meeting-2025-03-06/
LOCATION:SUO 133C\, 3272 University Way\, UNC133C\, Kelowna\, British Columbia\, V1V 1V7\, Canada
END:VEVENT
BEGIN:VEVENT
DTSTART;TZID=America/Vancouver:20250306T170000
DTEND;TZID=America/Vancouver:20250306T170000
DTSTAMP:20260425T155440
CREATED:20250228T175845Z
LAST-MODIFIED:20250228T175845Z
UID:10009857-1741280400-1741280400@www.suo.ca
SUMMARY:BCCU x PreMed Club- Anki Workshop
DESCRIPTION:Info night on how to use\, and best use Anki for all students! \nLocation: LIB 312
URL:https://www.suo.ca/event/bccu-x-premed-club-anki-workshop/
LOCATION:Library\, UBCO Campus\, 3287 University Way\, Kelowna\, British Columbia\, V1V 1V7\, Canada
CATEGORIES:All Ages,Student Associations
ATTACH;FMTTYPE=image/jpeg:https://www.suo.ca/wp-content/uploads/2024/08/2024-25_rubric-logo_BCCU.jpg
ORGANIZER;CN="Biochemistry Course Union":MAILTO:bccu.suo@gmail.com
END:VEVENT
END:VCALENDAR