BEGIN:VCALENDAR
VERSION:2.0
PRODID:-//Students’ Union Okanagan of UBC - ECPv6.5.0//NONSGML v1.0//EN
CALSCALE:GREGORIAN
METHOD:PUBLISH
X-ORIGINAL-URL:https://www.suo.ca
X-WR-CALDESC:Events for Students’ Union Okanagan of UBC
REFRESH-INTERVAL;VALUE=DURATION:PT1H
X-Robots-Tag:noindex
X-PUBLISHED-TTL:PT1H
BEGIN:VTIMEZONE
TZID:America/Vancouver
BEGIN:DAYLIGHT
TZOFFSETFROM:-0800
TZOFFSETTO:-0700
TZNAME:PDT
DTSTART:20250309T100000
END:DAYLIGHT
BEGIN:STANDARD
TZOFFSETFROM:-0700
TZOFFSETTO:-0800
TZNAME:PST
DTSTART:20251102T090000
END:STANDARD
END:VTIMEZONE
BEGIN:VEVENT
DTSTART;TZID=America/Vancouver:20250313T170000
DTEND;TZID=America/Vancouver:20250313T183000
DTSTAMP:20260425T140827
CREATED:20250310T173910Z
LAST-MODIFIED:20250310T173910Z
UID:10009893-1741885200-1741890600@www.suo.ca
SUMMARY:Tech Talks: A.I. Edition
DESCRIPTION:Learn more pathways in exploring a career in tech. Talk with a fellow student who has landed internships in a number of famous tech companies! \nLocation: EME 1151
URL:https://www.suo.ca/event/tech-talks-a-i-edition/
LOCATION:EME Building\, UBCO Campus\, 1137 Alumni Avenue\, Kelowna\, British Columbia\, V1V 1V7\, Canada
CATEGORIES:All Ages,Student Associations
ATTACH;FMTTYPE=image/png:https://www.suo.ca/wp-content/uploads/2023/10/SA_logo_2024_Artificial-Intelligence-Club.png
ORGANIZER;CN="Artificial Intelligence Club":MAILTO:theartificialintelligenceclub@gmail.com
END:VEVENT
BEGIN:VEVENT
DTSTART;TZID=America/Vancouver:20250313T180000
DTEND;TZID=America/Vancouver:20250313T200000
DTSTAMP:20260425T140827
CREATED:20250313T213745Z
LAST-MODIFIED:20250313T213745Z
UID:10009952-1741888800-1741896000@www.suo.ca
SUMMARY:Emergency Board Meeting 2025-03-13
DESCRIPTION:Our Board Meetings are open to the membership unless the Board of Directors resolves to move the meeting in camera. This is an emergency meeting. Please click the link below for the agenda: \nMeeting Agenda & Minutes – Students’ Union Okanagan of UBC (suo.ca) \nIf you wish to observe the meeting\, please contact the SUO Governance Coordinator at governance.coordinator@suo.ca.
URL:https://www.suo.ca/event/emergency-board-meeting-2025-03-13/
LOCATION:British Columbia
CATEGORIES:Board of Directors
END:VEVENT
BEGIN:VEVENT
DTSTART;TZID=America/Vancouver:20250313T180000
DTEND;TZID=America/Vancouver:20250313T203000
DTSTAMP:20260425T140827
CREATED:20250310T174338Z
LAST-MODIFIED:20250310T174338Z
UID:10009901-1741888800-1741897800@www.suo.ca
SUMMARY:Women in Motorsport Conference
DESCRIPTION:Hybrid format—attend in person at the UBC Okanagan campus and online via Zoom \nThe conference is divided into two segments:\nSpeaker Presentations: A Zoom panel of accomplished women in the Motorsport industry\, sharing insights\, experiences\, and career advice. \nNetworking Session: An opportunity for attendees to connect with students\, industry professionals\, and advocates for gender equity\, both in-person and online. \nThrough our collaboration with WiE\, this event leverages the strengths of both organizations to create an inclusive environment\, connecting UBCO students with inspiring industry professionals and fostering dialogue about equity in engineering and technology fields. \nOpen to all\, this event especially encourages female students in engineering\, computer science\, and management to participate. Whether interested in the automotive industry or looking to expand your network\, this conference offers valuable insights and connections. \n  \nLocation: SCI 333
URL:https://www.suo.ca/event/women-in-motorsport-conference/
LOCATION:Science Building\, UBCO Campus\, 1177 Research Road\, Kelowna\, British Columbia\, V1V 1V7\, Canada
CATEGORIES:All Ages,Student Associations
ATTACH;FMTTYPE=image/jpeg:https://www.suo.ca/wp-content/uploads/2024/08/2024-25_rubric-logo_OK-Motorsports.jpg
ORGANIZER;CN="OK Motorsports Club":MAILTO:OkanaganMotorsportsMGMT@gmail.com
END:VEVENT
BEGIN:VEVENT
DTSTART;TZID=America/Vancouver:20250313T183000
DTEND;TZID=America/Vancouver:20250313T203000
DTSTAMP:20260425T140827
CREATED:20250228T235057Z
LAST-MODIFIED:20250228T235057Z
UID:10009797-1741890600-1741897800@www.suo.ca
SUMMARY:OPURC Poster Creation Workshop
DESCRIPTION:A collaborative workshop hosted by the Psychology Course Union and the Psychology Graduate Student Association to cover all of the basics for creating a poster presentation. Make sure to stop by for poster creation tips and example posters. This event is focused on the preparation for the Okanagan Psychology Undergraduate Research Conference (OPURC) poster presentations in April. \nLocation: EME 1121
URL:https://www.suo.ca/event/opurc-poster-creation-workshop/
LOCATION:EME Building\, UBCO Campus\, 1137 Alumni Avenue\, Kelowna\, British Columbia\, V1V 1V7\, Canada
CATEGORIES:All Ages,Student Associations
ATTACH;FMTTYPE=image/jpeg:https://www.suo.ca/wp-content/uploads/2024/08/2024-25_rubric-logo_PCU.jpg
ORGANIZER;CN="Psychology Course Union":MAILTO:Psychologycourseunion@gmail.com
END:VEVENT
END:VCALENDAR