BEGIN:VCALENDAR
VERSION:2.0
PRODID:-//Students’ Union Okanagan of UBC - ECPv6.5.0//NONSGML v1.0//EN
CALSCALE:GREGORIAN
METHOD:PUBLISH
X-ORIGINAL-URL:https://www.suo.ca
X-WR-CALDESC:Events for Students’ Union Okanagan of UBC
REFRESH-INTERVAL;VALUE=DURATION:PT1H
X-Robots-Tag:noindex
X-PUBLISHED-TTL:PT1H
BEGIN:VTIMEZONE
TZID:America/Vancouver
BEGIN:DAYLIGHT
TZOFFSETFROM:-0800
TZOFFSETTO:-0700
TZNAME:PDT
DTSTART:20250309T100000
END:DAYLIGHT
BEGIN:STANDARD
TZOFFSETFROM:-0700
TZOFFSETTO:-0800
TZNAME:PST
DTSTART:20251102T090000
END:STANDARD
END:VTIMEZONE
BEGIN:VEVENT
DTSTART;TZID=America/Vancouver:20250318T123000
DTEND;TZID=America/Vancouver:20250318T153000
DTSTAMP:20260425T140829
CREATED:20250310T213806Z
LAST-MODIFIED:20250310T213858Z
UID:10009819-1742301000-1742311800@www.suo.ca
SUMMARY:Sh!tshow: Not Your Grandmother’s Art Fair
DESCRIPTION:This art fair is a great opportunity for students to showcase and sell their artwork while connecting with fellow artists. Come support our visual arts students! \nLocation: EME Foyer
URL:https://www.suo.ca/event/shtshow-not-your-grandmothers-art-fair/
LOCATION:EME Building\, UBCO Campus\, 1137 Alumni Avenue\, Kelowna\, British Columbia\, V1V 1V7\, Canada
CATEGORIES:All Ages,Student Associations
ATTACH;FMTTYPE=image/jpeg:https://www.suo.ca/wp-content/uploads/2024/09/2024-25_rubric-logo_VACU.jpg
ORGANIZER;CN="Visual Arts Course Union":MAILTO:support@ubcovacu.org
END:VEVENT
BEGIN:VEVENT
DTSTART;TZID=America/Vancouver:20250318T161000
DTEND;TZID=America/Vancouver:20250318T190000
DTSTAMP:20260425T140829
CREATED:20250108T191533Z
LAST-MODIFIED:20250108T191629Z
UID:10009406-1742314200-1742324400@www.suo.ca
SUMMARY:Steel Bridge Leads Meeting
DESCRIPTION:Steel Bridge is the club’s design team. These meetings aim to track the team’s weekly progress on the project\, while we make important decisions regarding the project during this time. This time brings in all leads together\, helping everyone stay focused as we move closer to competition day. \nLocation: ART 110
URL:https://www.suo.ca/event/steel-bridge-leads-meeting/2025-03-18/
LOCATION:Arts Building\, UBCO Campus\, 1147 Research Road\, Kelowna\, British Columbia\, V1V 1V7\, Canada
CATEGORIES:All Ages,Student Associations
ATTACH;FMTTYPE=image/png:https://www.suo.ca/wp-content/uploads/2022/09/SAlogo_2023_CSCE-172-x-172-px.png
ORGANIZER;CN="Canadian Society for Civil Engineering Student Chapter":MAILTO:csce.ok.stuchap@gmail.com
END:VEVENT
BEGIN:VEVENT
DTSTART;TZID=America/Vancouver:20250318T170000
DTEND;TZID=America/Vancouver:20250318T220000
DTSTAMP:20260425T140829
CREATED:20250115T201909Z
LAST-MODIFIED:20250115T202005Z
UID:10009476-1742317200-1742335200@www.suo.ca
SUMMARY:Board Game Night
DESCRIPTION:Weekly board game night\, board games and paints are provided\, come and drop by any time from 5 till 10 pm. \nLocation: ART 218
URL:https://www.suo.ca/event/board-game-night-3/2025-03-18/
LOCATION:Arts Building\, UBCO Campus\, 1147 Research Road\, Kelowna\, British Columbia\, V1V 1V7\, Canada
CATEGORIES:All Ages,Student Associations
ATTACH;FMTTYPE=image/svg+xml:https://www.suo.ca/wp-content/uploads/2021/12/SUO-Logo.svg
ORGANIZER;CN="Games Club":MAILTO:gamesclubokanagan@gmail.com
END:VEVENT
BEGIN:VEVENT
DTSTART;TZID=America/Vancouver:20250318T180000
DTEND;TZID=America/Vancouver:20250318T200000
DTSTAMP:20260425T140829
CREATED:20250310T213439Z
LAST-MODIFIED:20250310T213439Z
UID:10009507-1742320800-1742328000@www.suo.ca
SUMMARY:Chem 214 study session #2
DESCRIPTION:Study session hosted by the chemistry course union for chem 214 students. \nLocation: SCI 247 \n 
URL:https://www.suo.ca/event/chem-214-study-session-2/
LOCATION:Science Building\, UBCO Campus\, 1177 Research Road\, Kelowna\, British Columbia\, V1V 1V7\, Canada
CATEGORIES:All Ages,Student Associations
ATTACH;FMTTYPE=image/jpeg:https://www.suo.ca/wp-content/uploads/2021/09/ChemistryCU_logo07hexMono-scaled.jpeg
ORGANIZER;CN="Chemistry Course Union":MAILTO:chemcourseunion@gmail.com
END:VEVENT
END:VCALENDAR