BEGIN:VCALENDAR
VERSION:2.0
PRODID:-//Students’ Union Okanagan of UBC - ECPv6.5.0//NONSGML v1.0//EN
CALSCALE:GREGORIAN
METHOD:PUBLISH
X-WR-CALNAME:Students’ Union Okanagan of UBC
X-ORIGINAL-URL:https://www.suo.ca
X-WR-CALDESC:Events for Students’ Union Okanagan of UBC
REFRESH-INTERVAL;VALUE=DURATION:PT1H
X-Robots-Tag:noindex
X-PUBLISHED-TTL:PT1H
BEGIN:VTIMEZONE
TZID:America/Vancouver
BEGIN:DAYLIGHT
TZOFFSETFROM:-0800
TZOFFSETTO:-0700
TZNAME:PDT
DTSTART:20250309T100000
END:DAYLIGHT
BEGIN:STANDARD
TZOFFSETFROM:-0700
TZOFFSETTO:-0800
TZNAME:PST
DTSTART:20251102T090000
END:STANDARD
END:VTIMEZONE
BEGIN:VEVENT
DTSTART;TZID=America/Vancouver:20250319T103000
DTEND;TZID=America/Vancouver:20250319T160000
DTSTAMP:20260425T140722
CREATED:20250312T192439Z
LAST-MODIFIED:20250313T184820Z
UID:10009933-1742380200-1742400000@www.suo.ca
SUMMARY:Toonie for Tie-Dye
DESCRIPTION:We will be providing white T-Shirts with our logo on them to Tie-Dye for a relaxing break from class. \nLocation: Courtyard grass
URL:https://www.suo.ca/event/toonie-for-tie-dye/
LOCATION:Central Courtyard\, UBCO Campus\, 1138 Alumni Avenue\, Kelowna\, British Columbia\, V1V 1V7\, Canada
CATEGORIES:All Ages,Student Associations
ATTACH;FMTTYPE=image/png:https://www.suo.ca/wp-content/uploads/2024/09/thumbnail_Copy-of-WIE-logo-Blue-Background.png
ORGANIZER;CN="Women in Engineering":MAILTO:womenineng.suo@gmail.com
END:VEVENT
BEGIN:VEVENT
DTSTART;TZID=America/Vancouver:20250319T180000
DTEND;TZID=America/Vancouver:20250319T190000
DTSTAMP:20260425T140722
CREATED:20250310T214418Z
LAST-MODIFIED:20250310T214614Z
UID:10009917-1742407200-1742410800@www.suo.ca
SUMMARY:MSW Speaker Series
DESCRIPTION:The Social Work Course Union is excited to present our second MSW Alumni Interview. For this Q & A\, we welcome Melissa Campos (She/Her) to speak about her experience in both group practice and starting a private practice. Melissa will share about her time practicing in both and the pros\, cons\, and need to know information she experienced along the way. \nCurrent and alumni MSW students are welcome to join us virtually on Wednesday\, March 19th from 6:00-7:00pm \nPlease note that this interview WILL NOT be recorded or available at a later date. \nRegister here or email SWCU.Okgn@gmail.com \n 
URL:https://www.suo.ca/event/msw-speaker-series/
LOCATION:Virtual (Online)\, Kelowna\, British Columbia\, Canada
CATEGORIES:All Ages,Student Associations
ATTACH;FMTTYPE=image/png:https://www.suo.ca/wp-content/uploads/2021/09/SA_logo_2024_SocialWCU.png
ORGANIZER;CN="Social Work Course Union (SWCU)":MAILTO:swcu.okgn@gmail.com
END:VEVENT
BEGIN:VEVENT
DTSTART;TZID=America/Vancouver:20250319T180000
DTEND;TZID=America/Vancouver:20250319T200000
DTSTAMP:20260425T140722
CREATED:20250228T175121Z
LAST-MODIFIED:20250228T175231Z
UID:10009853-1742407200-1742414400@www.suo.ca
SUMMARY:Creating with Care
DESCRIPTION:A night where students can crochet and knit items to donate back to the community! Wednesdays from 6-8pm we will have supplies (& snacks!) available for you to create a positive impact. We will have easy patterns that we can walk beginners through\, as well as supplies for more experienced creators to express their creativity. Hope to see you there! \nLocation: EME Global Collegia
URL:https://www.suo.ca/event/creating-with-care/2025-03-19/
LOCATION:EME Building\, UBCO Campus\, 1137 Alumni Avenue\, Kelowna\, British Columbia\, V1V 1V7\, Canada
CATEGORIES:All Ages,Student Associations
ATTACH;FMTTYPE=image/svg+xml:https://www.suo.ca/wp-content/uploads/2021/12/SUO-Logo.svg
ORGANIZER;CN="Loops of Love":MAILTO:loopsoflovesuo@gmail.com
END:VEVENT
BEGIN:VEVENT
DTSTART;TZID=America/Vancouver:20250319T180000
DTEND;TZID=America/Vancouver:20250319T200000
DTSTAMP:20260425T140722
CREATED:20250310T214200Z
LAST-MODIFIED:20250310T214200Z
UID:10009921-1742407200-1742414400@www.suo.ca
SUMMARY:Spring into Stitching
DESCRIPTION:A night where students can crochet and knit items to donate back to the community! Wednesdays from 6-8pm we will have supplies (& snacks!) available for you to create a positive impact. Both beginners and experienced creators welcome 🙂 Hope to see you there! \nLocation: EME Global Collegia
URL:https://www.suo.ca/event/spring-into-stitching/
LOCATION:EME Building\, UBCO Campus\, 1137 Alumni Avenue\, Kelowna\, British Columbia\, V1V 1V7\, Canada
CATEGORIES:All Ages,Student Associations
ATTACH;FMTTYPE=image/svg+xml:https://www.suo.ca/wp-content/uploads/2021/12/SUO-Logo.svg
ORGANIZER;CN="Loops of Love":MAILTO:loopsoflovesuo@gmail.com
END:VEVENT
BEGIN:VEVENT
DTSTART;TZID=America/Vancouver:20250319T180000
DTEND;TZID=America/Vancouver:20250319T200000
DTSTAMP:20260425T140722
CREATED:20250310T214834Z
LAST-MODIFIED:20250310T214834Z
UID:10009904-1742407200-1742414400@www.suo.ca
SUMMARY:Creative Writing Course Union Annual General Meeting
DESCRIPTION:CRWR majors and minors are invited to be a part of the course union’s future policy and decision making. This AGM is extra important because we will be creating our constitution (and rules about the future of Inkwell publication)! If you have any motions\, you would like to pass\, please email creativewritingcourseunion@gmail.com. \nLocation: ART 219
URL:https://www.suo.ca/event/creative-writing-course-union-annual-general-meeting/
LOCATION:Arts Building\, UBCO Campus\, 1147 Research Road\, Kelowna\, British Columbia\, V1V 1V7\, Canada
CATEGORIES:All Ages,Student Associations
ATTACH;FMTTYPE=image/svg+xml:https://www.suo.ca/wp-content/uploads/2021/12/SUO-Logo.svg
ORGANIZER;CN="Creative Writing Course Union":MAILTO:creativewritingcourseunion@gmail.com
END:VEVENT
BEGIN:VEVENT
DTSTART;TZID=America/Vancouver:20250319T180000
DTEND;TZID=America/Vancouver:20250319T200000
DTSTAMP:20260425T140722
CREATED:20250314T224002Z
LAST-MODIFIED:20250314T225849Z
UID:10009376-1742407200-1742414400@www.suo.ca
SUMMARY:Career Gala
DESCRIPTION:9 professionals from the medical field will present a 10-minute presentation about what their career entails. There will be some time for questions from students following all presentations. \nLocation: UNC 200 Ballroom
URL:https://www.suo.ca/event/career-gala/
LOCATION:UNC 200 Ballroom\, 3272 University Way\, UNC200\, Kelowna\, British Columbia\, V1V 1V7\, Canada
CATEGORIES:All Ages,Student Associations
ATTACH;FMTTYPE=image/svg+xml:https://www.suo.ca/wp-content/uploads/2021/12/SUO-Logo.svg
ORGANIZER;CN="Medical Expoloration Society":MAILTO:&quot;Medical Exploration Society&quot;
END:VEVENT
BEGIN:VEVENT
DTSTART;TZID=America/Vancouver:20250319T180000
DTEND;TZID=America/Vancouver:20250319T203000
DTSTAMP:20260425T140722
CREATED:20250310T215132Z
LAST-MODIFIED:20250312T222228Z
UID:10009894-1742407200-1742416200@www.suo.ca
SUMMARY:MUN Meeting
DESCRIPTION:Whether you’re a seasoned MUN delegate or a newcomer\, this meeting is the perfect opportunity to meet like-minded individuals\, learn about the MUN process\, and get ready for the upcoming conferences. \nDuring this session\, we’ll introduce you to the basics of MUN\, discuss key topics for the semester\, and go over what to expect from our upcoming events. This is also a great time to ask questions\, connect with fellow members\, and get a sneak peek into the exciting debates and diplomatic discussions that lie ahead. \nDon’t miss out on the chance to get involved in shaping the world’s most pressing issues through diplomacy\, negotiation\, and teamwork. See you there! \nLocation: FIP 239
URL:https://www.suo.ca/event/mun-meeting/2025-03-19/
LOCATION:FIPKE Building\, UBCO Campus\, 3247 University Way\, Kelowna\, British Columbia\, V1V 1V7\, Canada
CATEGORIES:All Ages,Student Associations
ATTACH;FMTTYPE=image/svg+xml:https://www.suo.ca/wp-content/uploads/2021/12/SUO-Logo.svg
ORGANIZER;CN="Model United Nations":MAILTO:mun.ubco@gmail.com
END:VEVENT
BEGIN:VEVENT
DTSTART;TZID=America/Vancouver:20250319T200000
DTEND;TZID=America/Vancouver:20250319T210000
DTSTAMP:20260425T140722
CREATED:20241017T181411Z
LAST-MODIFIED:20241017T181434Z
UID:10008913-1742414400-1742418000@www.suo.ca
SUMMARY:UDC dance class
DESCRIPTION:Unite Dance Club will be having weekly dance classes every Wednesday from 8-9. Register on Rubric! \nLocation: On Pointe Studio
URL:https://www.suo.ca/event/udc-dance-class/2025-03-19/
LOCATION:On Pointe Studio\, 6 3185 VIA CENTRALE\, Kelowna\, B.C\, V1V 2A7\, Canada
CATEGORIES:All Ages,Student Associations
ATTACH;FMTTYPE=image/png:https://www.suo.ca/wp-content/uploads/2021/08/Unite-Dance-club.png
ORGANIZER;CN="Unite Dance Club":MAILTO:unitedanceclub1@gmail.com
END:VEVENT
END:VCALENDAR