BEGIN:VCALENDAR
VERSION:2.0
PRODID:-//Students’ Union Okanagan of UBC - ECPv6.5.0//NONSGML v1.0//EN
CALSCALE:GREGORIAN
METHOD:PUBLISH
X-WR-CALNAME:Students’ Union Okanagan of UBC
X-ORIGINAL-URL:https://www.suo.ca
X-WR-CALDESC:Events for Students’ Union Okanagan of UBC
REFRESH-INTERVAL;VALUE=DURATION:PT1H
X-Robots-Tag:noindex
X-PUBLISHED-TTL:PT1H
BEGIN:VTIMEZONE
TZID:America/Vancouver
BEGIN:DAYLIGHT
TZOFFSETFROM:-0800
TZOFFSETTO:-0700
TZNAME:PDT
DTSTART:20250309T100000
END:DAYLIGHT
BEGIN:STANDARD
TZOFFSETFROM:-0700
TZOFFSETTO:-0800
TZNAME:PST
DTSTART:20251102T090000
END:STANDARD
END:VTIMEZONE
BEGIN:VEVENT
DTSTART;TZID=America/Vancouver:20250322T080000
DTEND;TZID=America/Vancouver:20250323T200000
DTSTAMP:20260425T140723
CREATED:20250312T155721Z
LAST-MODIFIED:20250312T155721Z
UID:10009885-1742630400-1742760000@www.suo.ca
SUMMARY:Solidworks sprint
DESCRIPTION:This event will take place from the morning of Saturday\, March 22\, 2025\, to the evening of Sunday\, March 23\, 2025. Designed to simulate a hackathon experience\, it will focus on SolidWorks\, providing participants with an immersive\, hands-on design challenge. The event will include meals and foster collaboration\, innovation\, and skill development in computer-aided design (CAD). \nLocation: 305
URL:https://www.suo.ca/event/solidworks-sprint/
LOCATION:Library\, UBCO Campus\, 3287 University Way\, Kelowna\, British Columbia\, V1V 1V7\, Canada
CATEGORIES:All Ages,Student Associations
ATTACH;FMTTYPE=image/png:https://www.suo.ca/wp-content/uploads/2021/08/EngSoc-logo.png
ORGANIZER;CN="Engineering Society":MAILTO:president@okanaganengineers.com
END:VEVENT
BEGIN:VEVENT
DTSTART;TZID=America/Vancouver:20250322T100000
DTEND;TZID=America/Vancouver:20250322T150000
DTSTAMP:20260425T140723
CREATED:20250203T181502Z
LAST-MODIFIED:20250203T181502Z
UID:10009621-1742637600-1742655600@www.suo.ca
SUMMARY:Motionball for Special Olympics
DESCRIPTION:Motionball for Special Olympics is a not-for-profit organization that raises awareness and funds for the Special Olympics Canada\, which helps fund local programming for individuals with intellectual disabilities. Motionball Marathon of Sport is our signature event. It’s an amazing event that happens once a year on campus. More than 100 UBCO students will come together to fundraise and play alongside local Special Olympics athletes in a tournament of sports\, friendly competition and inclusion. \nLocation: UBCO gymnasium
URL:https://www.suo.ca/event/motionball-for-special-olympics/
LOCATION:Gymnasium\, UBCO Campus\, 3211 Athletics Court\, Kelowna\, British Columbia\, V1V 1V7\, Canada
CATEGORIES:All Ages,Student Associations
ATTACH;FMTTYPE=image/svg+xml:https://www.suo.ca/wp-content/uploads/2021/12/SUO-Logo.svg
ORGANIZER;CN="MotionballU":MAILTO:motionballuokanagan@gmail.com
END:VEVENT
BEGIN:VEVENT
DTSTART;TZID=America/Vancouver:20250322T100000
DTEND;TZID=America/Vancouver:20250322T170000
DTSTAMP:20260425T140723
CREATED:20250312T160109Z
LAST-MODIFIED:20250312T160109Z
UID:10009690-1742637600-1742662800@www.suo.ca
SUMMARY:Latin Panel
DESCRIPTION:Join us for a night of entertainment\, good food and networking with a Q&A Panel. \nLocation: ART 366
URL:https://www.suo.ca/event/latin-panel/
LOCATION:Arts Building\, UBCO Campus\, 1147 Research Road\, Kelowna\, British Columbia\, V1V 1V7\, Canada
CATEGORIES:All Ages,Student Associations
ATTACH;FMTTYPE=image/png:https://www.suo.ca/wp-content/uploads/2021/09/SAlogo_2023_LASO.png
ORGANIZER;CN="Latin American Students Organization":MAILTO:laso.okanagan@gmail.com
END:VEVENT
BEGIN:VEVENT
DTSTART;TZID=America/Vancouver:20250322T110000
DTEND;TZID=America/Vancouver:20250322T110000
DTSTAMP:20260425T140723
CREATED:20250312T160642Z
LAST-MODIFIED:20250312T160642Z
UID:10009937-1742641200-1742641200@www.suo.ca
SUMMARY:Lab Exam Review Session
DESCRIPTION:A review session\, where we will be going over a premade worksheet to help prepare students for their first-year biology lab Final Exam. \nLocation: FIP 121
URL:https://www.suo.ca/event/lab-exam-review-session/
LOCATION:FIPKE Building\, UBCO Campus\, 3247 University Way\, Kelowna\, British Columbia\, V1V 1V7\, Canada
CATEGORIES:All Ages,Student Associations
ATTACH;FMTTYPE=image/jpeg:https://www.suo.ca/wp-content/uploads/2024/08/2024-25_rubric-logo_BCCU.jpg
ORGANIZER;CN="Biochemistry Course Union":MAILTO:bccu.suo@gmail.com
END:VEVENT
BEGIN:VEVENT
DTSTART;TZID=America/Vancouver:20250322T180000
DTEND;TZID=America/Vancouver:20250322T210000
DTSTAMP:20260425T140723
CREATED:20250312T161611Z
LAST-MODIFIED:20250312T161611Z
UID:10009863-1742666400-1742677200@www.suo.ca
SUMMARY:Enchanted Rainforest Gala
DESCRIPTION:Join us for SEAC’s biggest event of the year—our Annual Gala! This year we are bringing the vibrant beauty of the tropical rainforest to life with an exciting night filled with great company and entertainment. Dress your best and get ready for an evening filled with delicious halal buffet dining\, thrilling games with prizes\, karaoke\, a lively afterparty\, and a photo booth to capture every moment. \nLocation: FIP 204
URL:https://www.suo.ca/event/enchanted-rainforest-gala/
LOCATION:FIPKE Building\, UBCO Campus\, 3247 University Way\, Kelowna\, British Columbia\, V1V 1V7\, Canada
CATEGORIES:All Ages,Student Associations
ATTACH;FMTTYPE=image/png:https://www.suo.ca/wp-content/uploads/2021/12/SEAC-logo.png
ORGANIZER;CN="Southeast Asian Club":MAILTO:seac.suo@gmail.com
END:VEVENT
END:VCALENDAR