BEGIN:VCALENDAR
VERSION:2.0
PRODID:-//Students’ Union Okanagan of UBC - ECPv6.5.0//NONSGML v1.0//EN
CALSCALE:GREGORIAN
METHOD:PUBLISH
X-WR-CALNAME:Students’ Union Okanagan of UBC
X-ORIGINAL-URL:https://www.suo.ca
X-WR-CALDESC:Events for Students’ Union Okanagan of UBC
REFRESH-INTERVAL;VALUE=DURATION:PT1H
X-Robots-Tag:noindex
X-PUBLISHED-TTL:PT1H
BEGIN:VTIMEZONE
TZID:America/Vancouver
BEGIN:DAYLIGHT
TZOFFSETFROM:-0800
TZOFFSETTO:-0700
TZNAME:PDT
DTSTART:20250309T100000
END:DAYLIGHT
BEGIN:STANDARD
TZOFFSETFROM:-0700
TZOFFSETTO:-0800
TZNAME:PST
DTSTART:20251102T090000
END:STANDARD
END:VTIMEZONE
BEGIN:VEVENT
DTSTART;TZID=America/Vancouver:20250327T100000
DTEND;TZID=America/Vancouver:20250327T110000
DTSTAMP:20260425T140722
CREATED:20250320T171956Z
LAST-MODIFIED:20250320T171956Z
UID:10009993-1743069600-1743073200@www.suo.ca
SUMMARY:QSCU AGM
DESCRIPTION:The yearly Annual General Meeting of the QSCU where we meet to discuss our achievements throughout the year and where you get to meet the nominees for the QSCU of 2025/2026. \nLocation: EME 2202
URL:https://www.suo.ca/event/qscu-agm-2/
LOCATION:EME Building\, UBCO Campus\, 1137 Alumni Avenue\, Kelowna\, British Columbia\, V1V 1V7\, Canada
CATEGORIES:All Ages,Student Associations
ATTACH;FMTTYPE=image/png:https://www.suo.ca/wp-content/uploads/2021/08/qscu_directory_logo.png
ORGANIZER;CN="Quantitative Sciences Course Union":MAILTO:qscu.main@gmail.com
END:VEVENT
BEGIN:VEVENT
DTSTART;TZID=America/Vancouver:20250327T100000
DTEND;TZID=America/Vancouver:20250327T110000
DTSTAMP:20260425T140722
CREATED:20250326T160329Z
LAST-MODIFIED:20250326T160329Z
UID:10010030-1743069600-1743073200@www.suo.ca
SUMMARY:Emergency Campaigns Committee Meeting 2025-03-27
DESCRIPTION:The SUO committee meetings are open to the members unless the Board of Directors has empowered the committee and the committee duly resolves to move the meeting in camera. \nPlease check out the events calendar to see when the committees are meeting. If you wish to observe the meeting or bring something forward at a committee meeting\, please contact the chair of the committee. \nChair of the Campaigns Committee: \nVP External\nAbby Newman\nvpexternal@suo.ca
URL:https://www.suo.ca/event/emergency-campaigns-committee-meeting-2025-03-27/
LOCATION:SUO 133C\, 3272 University Way\, UNC133C\, Kelowna\, British Columbia\, V1V 1V7\, Canada
CATEGORIES:Committee Meetings (Other)
END:VEVENT
BEGIN:VEVENT
DTSTART;TZID=America/Vancouver:20250327T120000
DTEND;TZID=America/Vancouver:20250327T150000
DTSTAMP:20260425T140722
CREATED:20250312T170316Z
LAST-MODIFIED:20250312T170316Z
UID:10009939-1743076800-1743087600@www.suo.ca
SUMMARY:FSA Barrio Event In-Person Ticket Sales
DESCRIPTION:We will be selling tickets to our end-of-year Barrio event. \nLocation: UNC 100
URL:https://www.suo.ca/event/fsa-barrio-event-in-person-ticket-sales/2025-03-27/
LOCATION:UNC Foyer\, UBCO Campus\, 3272 University Way\, Kelowna\, British Columbia\, V1V 1V7\, Canada
CATEGORIES:All Ages,Student Associations
ATTACH;FMTTYPE=image/svg+xml:https://www.suo.ca/wp-content/uploads/2021/12/SUO-Logo.svg
ORGANIZER;CN="Filipino Student Association":MAILTO:fsasuo@gmail.com
END:VEVENT
BEGIN:VEVENT
DTSTART;TZID=America/Vancouver:20250327T123000
DTEND;TZID=America/Vancouver:20250327T140000
DTSTAMP:20260425T140722
CREATED:20250314T172610Z
LAST-MODIFIED:20250314T172610Z
UID:10009954-1743078600-1743084000@www.suo.ca
SUMMARY:Environmental Chemistry Course Union AGM
DESCRIPTION:The event will conduct the following business:\n– Receiving and approving the preceding year’s financial statement\n– Presenting the annual operating budget for the course union\n– Receiving the report of the President with respect to the activities of the Course Union in the present academic year\n– Special resolutions or ordinary resolutions per the agenda\n– Receiving motions from the floor \nLocation: LIB 306
URL:https://www.suo.ca/event/environmental-chemistry-course-union-agm/
LOCATION:Library\, UBCO Campus\, 3287 University Way\, Kelowna\, British Columbia\, V1V 1V7\, Canada
CATEGORIES:All Ages,Student Associations
ATTACH;FMTTYPE=image/jpeg:https://www.suo.ca/wp-content/uploads/2023/09/ECCU_Logo-scaled.jpg
ORGANIZER;CN="Environmental Chemistry Course Union":MAILTO:eccu.ench.okanagan@gmail.com
END:VEVENT
BEGIN:VEVENT
DTSTART;TZID=America/Vancouver:20250327T183000
DTEND;TZID=America/Vancouver:20250327T200000
DTSTAMP:20260425T140722
CREATED:20250312T190625Z
LAST-MODIFIED:20250312T190625Z
UID:10009850-1743100200-1743105600@www.suo.ca
SUMMARY:SUST Course Union AGM
DESCRIPTION:The Sustainability Course Union is having our Annual General Meeting to discuss this year’s reports\, events\, and go over the upcoming election! This is open to all SUST students so bring your suster classmates! \nInterested in joining the Sustainability Course Union? This is the event to show up to! Voting is March 31st – April 2nd. \nPizza will be provided 🙂 !! \nLocation: EME 1151
URL:https://www.suo.ca/event/sust-course-union-agm/
LOCATION:EME Building\, UBCO Campus\, 1137 Alumni Avenue\, Kelowna\, British Columbia\, V1V 1V7\, Canada
CATEGORIES:All Ages,Student Associations
ATTACH;FMTTYPE=image/png:https://www.suo.ca/wp-content/uploads/2023/09/SA_logo_2024_SUST-CU-Logo-Banner-276x172-1.png
ORGANIZER;CN="Sustainability Course Union":MAILTO:bsustcourseunion@gmail.com
END:VEVENT
BEGIN:VEVENT
DTSTART;TZID=America/Vancouver:20250327T183000
DTEND;TZID=America/Vancouver:20250327T203000
DTSTAMP:20260425T140722
CREATED:20250312T185634Z
LAST-MODIFIED:20250312T185634Z
UID:10009884-1743100200-1743107400@www.suo.ca
SUMMARY:LATD
DESCRIPTION:Let’s Agree to Disagree is a Black Student Association event where participants engage in open discussions on bold and thought-provoking “hot takes.” Attendees share their perspectives\, challenge different viewpoints\, and foster meaningful dialogue in a respectful and inclusive space. Whether sparking debates or finding common ground\, this event encourages critical thinking and community connection. \nLocation: UNC 106
URL:https://www.suo.ca/event/latd/
LOCATION:UNC 106 Theatre\, UBCO Campus\, 3272 University Way\, UNC133\, Kelowna\, British Columbia\, V1V1V7\, Canada
CATEGORIES:All Ages,Student Associations
ATTACH;FMTTYPE=image/png:https://www.suo.ca/wp-content/uploads/2023/09/BlackStudentAssoc_Logo.png
ORGANIZER;CN="Black Student Association":MAILTO:bsaomarketing@gmail.com
END:VEVENT
BEGIN:VEVENT
DTSTART;TZID=America/Vancouver:20250327T183000
DTEND;TZID=America/Vancouver:20250327T220000
DTSTAMP:20260425T140722
CREATED:20250318T185437Z
LAST-MODIFIED:20250318T185437Z
UID:10009980-1743100200-1743112800@www.suo.ca
SUMMARY:Dawat e Iftar
DESCRIPTION:The Pakistani Students Association (PSA) will host a special Iftar event on Thursday March 27th\, bringing together students for an evening of food\, culture\, and fun. The night will feature a traditional iftar meal\, vibrant cultural decorations\, and opportunities to connect with others in a welcoming atmosphere. Attendees will also enjoy an interactive Kahoot night with exciting challenges and prizes. This event will be open to everyone\, whether you are fasting or simply want to experience a cultural evening. \nLocation: ASC 130
URL:https://www.suo.ca/event/dawat-e-iftar/
LOCATION:ASC 130\, UBCO Campus\, 3187 University Way\, Kelowna\, British Columbia\, V1V 1V7\, Canada
CATEGORIES:All Ages,Student Associations
ATTACH;FMTTYPE=image/jpeg:https://www.suo.ca/wp-content/uploads/2021/10/PSAFINAL-DRAFT-LOGO-modified.jpg
ORGANIZER;CN="Pakistani Student Association":MAILTO:ubcopakistan@gmail.com
END:VEVENT
END:VCALENDAR