BEGIN:VCALENDAR
VERSION:2.0
PRODID:-//Students’ Union Okanagan of UBC - ECPv6.5.0//NONSGML v1.0//EN
CALSCALE:GREGORIAN
METHOD:PUBLISH
X-ORIGINAL-URL:https://www.suo.ca
X-WR-CALDESC:Events for Students’ Union Okanagan of UBC
REFRESH-INTERVAL;VALUE=DURATION:PT1H
X-Robots-Tag:noindex
X-PUBLISHED-TTL:PT1H
BEGIN:VTIMEZONE
TZID:America/Vancouver
BEGIN:DAYLIGHT
TZOFFSETFROM:-0800
TZOFFSETTO:-0700
TZNAME:PDT
DTSTART:20250309T100000
END:DAYLIGHT
BEGIN:STANDARD
TZOFFSETFROM:-0700
TZOFFSETTO:-0800
TZNAME:PST
DTSTART:20251102T090000
END:STANDARD
END:VTIMEZONE
BEGIN:VEVENT
DTSTART;TZID=America/Vancouver:20250329T120000
DTEND;TZID=America/Vancouver:20250329T180000
DTSTAMP:20260425T155615
CREATED:20250312T222740Z
LAST-MODIFIED:20250314T154155Z
UID:10009121-1743249600-1743271200@www.suo.ca
SUMMARY:Relay for Life Fundraiser Event
DESCRIPTION:Hosted by the Okanagan Relay for Life Club\, this fun-filled evening promises great music and awesome company—all for a worthy cause. \nMark your calendars and get ready to celebrate! The proceeds from ticket sales will go directly to the Canadian Cancer Society\, helping to support those in the fight against cancer. \nLocation: Nonis Sports Field
URL:https://www.suo.ca/event/relay-for-life-fundraiser-event/
LOCATION:UBCO Campus\, 3333 University Way\, Kelowna\, British Columbia\, V1V 1V7\, Canada
CATEGORIES:All Ages,Student Associations
ATTACH;FMTTYPE=image/png:https://www.suo.ca/wp-content/uploads/2021/09/SA_logo_2024_RelayforLife.png
ORGANIZER;CN="Relay for Life SUO":MAILTO:ubcokanagan.relayforlife@gmail.com
END:VEVENT
BEGIN:VEVENT
DTSTART;TZID=America/Vancouver:20250329T120000
DTEND;TZID=America/Vancouver:20250329T230000
DTSTAMP:20260425T155615
CREATED:20241203T193339Z
LAST-MODIFIED:20241203T193339Z
UID:10009145-1743249600-1743289200@www.suo.ca
SUMMARY:Barrio Fiesta
DESCRIPTION:We will be hosting a festival that celebrates a Filipino holiday. There will be food\, fun games\, and programs for everyone to enjoy. \nLocation: UNC 200 Ballroom
URL:https://www.suo.ca/event/barrio-fiesta-3/
LOCATION:UNC200 Ballroom\, 3272 University Way\, UNC200\, Kelowna\, British Columbia\, V1V 1V7\, Canada
CATEGORIES:All Ages,Student Associations
ATTACH;FMTTYPE=image/svg+xml:https://www.suo.ca/wp-content/uploads/2021/12/SUO-Logo.svg
ORGANIZER;CN="Filipino Student Association":MAILTO:fsasuo@gmail.com
END:VEVENT
BEGIN:VEVENT
DTSTART;TZID=America/Vancouver:20250329T195000
DTEND;TZID=America/Vancouver:20250330T000000
DTSTAMP:20260425T155615
CREATED:20250326T163834Z
LAST-MODIFIED:20250326T164441Z
UID:10009987-1743277800-1743292800@www.suo.ca
SUMMARY:Chaand Raat
DESCRIPTION:The Association of Bangladeshi Students (ABS) invites you to an enchanting Chaand Raat Celebration\, where we come together to embrace the spirit of Eid-ul-Fitr with joy\, laughter\, and tradition! \nChaand Raat is a special night marking the sighting of the moon\, signaling the arrival of Eid celebrations. It is a time for togetherness\, last-minute shopping\, henna application\, and festive preparations. Let’s celebrate with an evening filled with fun activities\, delicious food\, and great company! \nWhat’s in Store?\n🌙 Henna Night – Get your hands decorated with beautiful mehendi (henna) designs\, a must-have tradition for Chaand Raat!\n🎲 Ludo & Board Games – Bring out your competitive spirit and enjoy a fun Ludo showdown with friends!\n📸 Photo Booth & Socializing – Capture memories and enjoy quality time with friends\, faculty\, and alumni\n🎶 Music & Cultural Vibes – Feel the festive spirit with traditional tunes and lively conversations\n🍽️ Delicious Food – Savor a delightful menu featuring Biriyani\, Soft Drinks\, and Water \nEvent Details\n📅 Date: March 29th/30th (depending on Eid moon sighting)\n⏰ Time: 7:50 PM – 12:00 AM\n📍 Venue: EME 0050 \n👥 Guests: Open to all students\, alumni\, faculty\, ABS panel members\, the OBC community\, and everyone! \nGet ready for a night of excitement\, cultural traditions\, and Eid preparations! \n  \n 
URL:https://www.suo.ca/event/chaand-raat/2025-03-29/
LOCATION:EME Building\, UBCO Campus\, 1137 Alumni Avenue\, Kelowna\, British Columbia\, V1V 1V7\, Canada
CATEGORIES:All Ages,Student Associations
ATTACH;FMTTYPE=image/svg+xml:https://www.suo.ca/wp-content/uploads/2021/12/SUO-Logo.svg
ORGANIZER;CN="Association of Bangladeshi Students":MAILTO:abs.kelowna@gmail.com
END:VEVENT
END:VCALENDAR