BEGIN:VCALENDAR
VERSION:2.0
PRODID:-//Students’ Union Okanagan of UBC - ECPv6.5.0//NONSGML v1.0//EN
CALSCALE:GREGORIAN
METHOD:PUBLISH
X-ORIGINAL-URL:https://www.suo.ca
X-WR-CALDESC:Events for Students’ Union Okanagan of UBC
REFRESH-INTERVAL;VALUE=DURATION:PT1H
X-Robots-Tag:noindex
X-PUBLISHED-TTL:PT1H
BEGIN:VTIMEZONE
TZID:America/Vancouver
BEGIN:DAYLIGHT
TZOFFSETFROM:-0800
TZOFFSETTO:-0700
TZNAME:PDT
DTSTART:20250309T100000
END:DAYLIGHT
BEGIN:STANDARD
TZOFFSETFROM:-0700
TZOFFSETTO:-0800
TZNAME:PST
DTSTART:20251102T090000
END:STANDARD
END:VTIMEZONE
BEGIN:VEVENT
DTSTART;TZID=America/Vancouver:20250330T080000
DTEND;TZID=America/Vancouver:20250330T110000
DTSTAMP:20260425T155613
CREATED:20250324T212258Z
LAST-MODIFIED:20250324T212258Z
UID:10010005-1743321600-1743332400@www.suo.ca
SUMMARY:Eid Breakfast Gathering
DESCRIPTION:Celebrate the first day of Eid with us at a delightful breakfast gathering hosted by the Muslim Student Association! Join us in the ADM Courtyard (the grassy area) to enjoy a peaceful morning filled with good food\, great company\, and festive vibes. \nWe’ll be serving delicious toast from J’s Café — we’ll also be checking for a special discount\, so stay tuned for more details! Tickets for the event can be purchased through Rubric. \nWhether you’re looking to meet new friends\, connect with old ones\, or simply enjoy the first day of Eid in a relaxed atmosphere\, this is the perfect way to start your celebration! \nLocation: Central Courtyard
URL:https://www.suo.ca/event/eid-breakfast-gathering/
LOCATION:Central Courtyard\, UBCO Campus\, 1138 Alumni Avenue\, Kelowna\, British Columbia\, V1V 1V7\, Canada
CATEGORIES:All Ages,Student Associations
ATTACH;FMTTYPE=image/svg+xml:https://www.suo.ca/wp-content/uploads/2021/12/SUO-Logo.svg
ORGANIZER;CN="Muslim Student Association":MAILTO:msa.ubcokanagan@gmail.com
END:VEVENT
BEGIN:VEVENT
DTSTART;TZID=America/Vancouver:20250330T160000
DTEND;TZID=America/Vancouver:20250330T200000
DTSTAMP:20260425T155613
CREATED:20250131T223539Z
LAST-MODIFIED:20250131T223539Z
UID:10009491-1743350400-1743364800@www.suo.ca
SUMMARY:Annual Slumber Party
DESCRIPTION:Join us for our biggest annual event\, filled with games\, self-care\, and food! \nLocation: UNC 200 Ballroom
URL:https://www.suo.ca/event/annual-slumber-party/
LOCATION:UNC200 Ballroom\, 3272 University Way\, UNC200\, Kelowna\, British Columbia\, V1V 1V7\, Canada
CATEGORIES:All Ages,Student Associations
ATTACH;FMTTYPE=image/svg+xml:https://www.suo.ca/wp-content/uploads/2021/12/SUO-Logo.svg
ORGANIZER;CN="Grow N Glow Club":MAILTO:ggc.suo@gmail.com
END:VEVENT
END:VCALENDAR