BEGIN:VCALENDAR
VERSION:2.0
PRODID:-//Students’ Union Okanagan of UBC - ECPv6.5.0//NONSGML v1.0//EN
CALSCALE:GREGORIAN
METHOD:PUBLISH
X-WR-CALNAME:Students’ Union Okanagan of UBC
X-ORIGINAL-URL:https://www.suo.ca
X-WR-CALDESC:Events for Students’ Union Okanagan of UBC
REFRESH-INTERVAL;VALUE=DURATION:PT1H
X-Robots-Tag:noindex
X-PUBLISHED-TTL:PT1H
BEGIN:VTIMEZONE
TZID:America/Vancouver
BEGIN:DAYLIGHT
TZOFFSETFROM:-0800
TZOFFSETTO:-0700
TZNAME:PDT
DTSTART:20250309T100000
END:DAYLIGHT
BEGIN:STANDARD
TZOFFSETFROM:-0700
TZOFFSETTO:-0800
TZNAME:PST
DTSTART:20251102T090000
END:STANDARD
END:VTIMEZONE
BEGIN:VEVENT
DTSTART;TZID=America/Vancouver:20250331T090000
DTEND;TZID=America/Vancouver:20250331T150000
DTSTAMP:20260425T140723
CREATED:20240910T225009Z
LAST-MODIFIED:20240910T225009Z
UID:10008134-1743411600-1743433200@www.suo.ca
SUMMARY:Women's Resource Centre
DESCRIPTION:Come stop by the Women’s Resource Center for their drop-in hours! \nAll services offered by the WRC are paraprofessionals\, however\, the WRC provides a safe place on campus for women and those who identify as female\, to find a supportive environment and connections to other resources on and off campus. The WRC annually initiates many events\, campaigns\, and fundraisers all to better the lives of women primarily on campus\, while maintaining connections to the local\, national and international scale. \nLocation: UNC 132
URL:https://www.suo.ca/event/womens-resource-centre-2/2025-03-31/
LOCATION:UNC Resource Centre\, 3272 University Way\, Kelowna\, B.C\, V1V 1V7\, Canada
CATEGORIES:All Ages,Resource Centre
ATTACH;FMTTYPE=image/jpeg:https://www.suo.ca/wp-content/uploads/2024/08/2024-25_rubric-logo_WRC.jpg
ORGANIZER;CN="Women's Resource Center":MAILTO:wrc@suo.ca
END:VEVENT
BEGIN:VEVENT
DTSTART;TZID=America/Vancouver:20250331T130000
DTEND;TZID=America/Vancouver:20250331T140000
DTSTAMP:20260425T140723
CREATED:20250325T155502Z
LAST-MODIFIED:20250325T155502Z
UID:10010023-1743426000-1743429600@www.suo.ca
SUMMARY:Oversight Committee Meeting 2025-03-31
DESCRIPTION:The SUO committee meetings are open to the members unless the Board of Directors has empowered the committee and the committee duly resolves to move the meeting in camera. \nPlease check out the events calendar to see when the committees are meeting. If you wish to observe the meeting or bring something forward at a committee meeting\, please contact the chair of a committee. \nChair of the Oversight Committee: \nAliasgar Sakarwala \naliasgar.sakarwala@suo.ca
URL:https://www.suo.ca/event/oversight-committee-meeting-2025-03-31/
LOCATION:SUO 133C\, 3272 University Way\, UNC133C\, Kelowna\, British Columbia\, V1V 1V7\, Canada
CATEGORIES:Committee Meetings (Other)
END:VEVENT
BEGIN:VEVENT
DTSTART;TZID=America/Vancouver:20250331T170000
DTEND;TZID=America/Vancouver:20250331T183000
DTSTAMP:20260425T140723
CREATED:20250318T163352Z
LAST-MODIFIED:20250318T163352Z
UID:10009960-1743440400-1743445800@www.suo.ca
SUMMARY:GEOG Course Union Annual General Meeting
DESCRIPTION:At the GEOG Course Union AGM\, we will:\n– overview and approve the year’s financial statement and budget\n– hear a report from the President about the year’s events and activities\n– hear special or ordinary resolutions as per the agenda\n– receive any motions from the floor\n– explain the upcoming GEOG Course Union election\, available positions\, and process \nWe will have snacks! If you plan to run in the upcoming election\, it is important that you attend this meeting. \nLocation: FIP 124
URL:https://www.suo.ca/event/geog-course-union-annual-general-meeting/
LOCATION:FIPKE Building\, UBCO Campus\, 3247 University Way\, Kelowna\, British Columbia\, V1V 1V7\, Canada
CATEGORIES:All Ages,Student Associations
ATTACH;FMTTYPE=image/jpeg:https://www.suo.ca/wp-content/uploads/2024/08/2024-25_rubric-logo_GEOG.jpg
ORGANIZER;CN="Geography Couse Union":MAILTO:geog.courseunion@gmail.com
END:VEVENT
BEGIN:VEVENT
DTSTART;TZID=America/Vancouver:20250331T170000
DTEND;TZID=America/Vancouver:20250331T190000
DTSTAMP:20260425T140723
CREATED:20241212T172110Z
LAST-MODIFIED:20241212T172110Z
UID:10009320-1743440400-1743447600@www.suo.ca
SUMMARY:Public Speaking & Interviewing Practice Sessions
DESCRIPTION:We will be practicing elements of public speaking and interviewing. \nLocation: FIP 121
URL:https://www.suo.ca/event/public-speaking-interviewing-practice-sessions/2025-03-31/
LOCATION:FIPKE Building\, UBCO Campus\, 3247 University Way\, Kelowna\, British Columbia\, V1V 1V7\, Canada
CATEGORIES:All Ages,Student Associations
ATTACH;FMTTYPE=image/png:https://www.suo.ca/wp-content/uploads/2022/10/SALogo_2023_SpeechandInterview.png
ORGANIZER;CN="Speech & Interview Club":MAILTO:speech.interview.suo@gmail.com
END:VEVENT
BEGIN:VEVENT
DTSTART;TZID=America/Vancouver:20250331T173000
DTEND;TZID=America/Vancouver:20250331T193000
DTSTAMP:20260425T140723
CREATED:20250228T231212Z
LAST-MODIFIED:20250228T231212Z
UID:10009562-1743442200-1743449400@www.suo.ca
SUMMARY:Plant Pot Painting Night
DESCRIPTION:Join us for a relaxing evening of warm drinks\, painting pots\, and watching movies! \nLocation: EME 1151
URL:https://www.suo.ca/event/plant-pot-painting-night/
LOCATION:EME Building\, UBCO Campus\, 1137 Alumni Avenue\, Kelowna\, British Columbia\, V1V 1V7\, Canada
CATEGORIES:All Ages,Student Associations
ATTACH;FMTTYPE=image/svg+xml:https://www.suo.ca/wp-content/uploads/2021/12/SUO-Logo.svg
ORGANIZER;CN="Ecology & Zoology Course Union":MAILTO:ezcu.suo@gmail.com
END:VEVENT
BEGIN:VEVENT
DTSTART;TZID=America/Vancouver:20250331T183000
DTEND;TZID=America/Vancouver:20250331T200000
DTSTAMP:20260425T140723
CREATED:20250205T213855Z
LAST-MODIFIED:20250205T213855Z
UID:10009646-1743445800-1743451200@www.suo.ca
SUMMARY:Halaqa Series
DESCRIPTION:Diving into an interactive lecture and group discussions about Islamic topics and stories. \nLocation: ART 106
URL:https://www.suo.ca/event/halaqa-series/2025-03-31/
LOCATION:Arts Building\, UBCO Campus\, 1147 Research Road\, Kelowna\, British Columbia\, V1V 1V7\, Canada
CATEGORIES:All Ages,Student Associations
ATTACH;FMTTYPE=image/svg+xml:https://www.suo.ca/wp-content/uploads/2021/12/SUO-Logo.svg
ORGANIZER;CN="Muslim Student Association":MAILTO:msa.ubcokanagan@gmail.com
END:VEVENT
BEGIN:VEVENT
DTSTART;TZID=America/Vancouver:20250331T190000
DTEND;TZID=America/Vancouver:20250331T210000
DTSTAMP:20260425T140723
CREATED:20241212T165855Z
LAST-MODIFIED:20241212T165855Z
UID:10009309-1743447600-1743454800@www.suo.ca
SUMMARY:Debate Practice Session
DESCRIPTION:We will be practicing elements of academic debating. \nLocation: FIP 121
URL:https://www.suo.ca/event/debate-practice-session/2025-03-31/
LOCATION:FIPKE Building\, UBCO Campus\, 3247 University Way\, Kelowna\, British Columbia\, V1V 1V7\, Canada
CATEGORIES:All Ages,Student Associations
ATTACH;FMTTYPE=image/png:https://www.suo.ca/wp-content/uploads/2021/09/SA_Logo_Debate-Society.png
ORGANIZER;CN="Debate Society":MAILTO:debate.suo@gmail.com
END:VEVENT
BEGIN:VEVENT
DTSTART;TZID=America/Vancouver:20250331T190000
DTEND;TZID=America/Vancouver:20250331T210000
DTSTAMP:20260425T140723
CREATED:20250326T225001Z
LAST-MODIFIED:20250326T225001Z
UID:10010032-1743447600-1743454800@www.suo.ca
SUMMARY:Dr Bailie Ericson Vet School Talk
DESCRIPTION:Dr Bailie Ericson is coming to campus to tell us about getting into vet school\, what it was like\, and help answer questions about the interview process! \nLocation: ART 103
URL:https://www.suo.ca/event/dr-bailie-ericson-vet-school-talk/
LOCATION:ASC 130\, UBCO Campus\, 3187 University Way\, Kelowna\, British Columbia\, V1V 1V7\, Canada
CATEGORIES:All Ages,Student Associations
ATTACH;FMTTYPE=image/jpeg:https://www.suo.ca/wp-content/uploads/2024/09/2024-25_rubric-logo_Pre-Vet.jpg
ORGANIZER;CN="Pre-Vet Club":MAILTO:prevetclub.okanagan@outlook.com
END:VEVENT
END:VCALENDAR