BEGIN:VCALENDAR
VERSION:2.0
PRODID:-//Students’ Union Okanagan of UBC - ECPv6.5.0//NONSGML v1.0//EN
CALSCALE:GREGORIAN
METHOD:PUBLISH
X-WR-CALNAME:Students’ Union Okanagan of UBC
X-ORIGINAL-URL:https://www.suo.ca
X-WR-CALDESC:Events for Students’ Union Okanagan of UBC
REFRESH-INTERVAL;VALUE=DURATION:PT1H
X-Robots-Tag:noindex
X-PUBLISHED-TTL:PT1H
BEGIN:VTIMEZONE
TZID:America/Vancouver
BEGIN:DAYLIGHT
TZOFFSETFROM:-0800
TZOFFSETTO:-0700
TZNAME:PDT
DTSTART:20250309T100000
END:DAYLIGHT
BEGIN:STANDARD
TZOFFSETFROM:-0700
TZOFFSETTO:-0800
TZNAME:PST
DTSTART:20251102T090000
END:STANDARD
END:VTIMEZONE
BEGIN:VEVENT
DTSTART;TZID=America/Vancouver:20250401T161000
DTEND;TZID=America/Vancouver:20250401T190000
DTSTAMP:20260425T140720
CREATED:20250108T191533Z
LAST-MODIFIED:20250108T191629Z
UID:10009408-1743523800-1743534000@www.suo.ca
SUMMARY:Steel Bridge Leads Meeting
DESCRIPTION:Steel Bridge is the club’s design team. These meetings aim to track the team’s weekly progress on the project\, while we make important decisions regarding the project during this time. This time brings in all leads together\, helping everyone stay focused as we move closer to competition day. \nLocation: ART 110
URL:https://www.suo.ca/event/steel-bridge-leads-meeting/2025-04-01/
LOCATION:Arts Building\, UBCO Campus\, 1147 Research Road\, Kelowna\, British Columbia\, V1V 1V7\, Canada
CATEGORIES:All Ages,Student Associations
ATTACH;FMTTYPE=image/png:https://www.suo.ca/wp-content/uploads/2022/09/SAlogo_2023_CSCE-172-x-172-px.png
ORGANIZER;CN="Canadian Society for Civil Engineering Student Chapter":MAILTO:csce.ok.stuchap@gmail.com
END:VEVENT
BEGIN:VEVENT
DTSTART;TZID=America/Vancouver:20250401T163000
DTEND;TZID=America/Vancouver:20250401T210000
DTSTAMP:20260425T140720
CREATED:20250312T205357Z
LAST-MODIFIED:20250312T205357Z
UID:10009623-1743525000-1743541200@www.suo.ca
SUMMARY:IRSA x FSA Cultural Exchange
DESCRIPTION:Music\, art\, food\, and more! \nLocation: UNC 200 Ballroom
URL:https://www.suo.ca/event/irsa-x-fsa-cultural-exchange/
LOCATION:UNC 200 Ballroom\, 3272 University Way\, UNC200\, Kelowna\, British Columbia\, V1V 1V7\, Canada
CATEGORIES:All Ages,Student Associations
ATTACH;FMTTYPE=image/svg+xml:https://www.suo.ca/wp-content/uploads/2021/12/SUO-Logo.svg
ORGANIZER;CN="International Relations Student Association":MAILTO:irsa.suo@gmail.com
END:VEVENT
BEGIN:VEVENT
DTSTART;TZID=America/Vancouver:20250401T170000
DTEND;TZID=America/Vancouver:20250401T220000
DTSTAMP:20260425T140721
CREATED:20250115T201909Z
LAST-MODIFIED:20250115T202005Z
UID:10009478-1743526800-1743544800@www.suo.ca
SUMMARY:Board Game Night
DESCRIPTION:Weekly board game night\, board games and paints are provided\, come and drop by any time from 5 till 10 pm. \nLocation: ART 218
URL:https://www.suo.ca/event/board-game-night-3/2025-04-01/
LOCATION:Arts Building\, UBCO Campus\, 1147 Research Road\, Kelowna\, British Columbia\, V1V 1V7\, Canada
CATEGORIES:All Ages,Student Associations
ATTACH;FMTTYPE=image/svg+xml:https://www.suo.ca/wp-content/uploads/2021/12/SUO-Logo.svg
ORGANIZER;CN="Games Club":MAILTO:gamesclubokanagan@gmail.com
END:VEVENT
BEGIN:VEVENT
DTSTART;TZID=America/Vancouver:20250401T173000
DTEND;TZID=America/Vancouver:20250401T200000
DTSTAMP:20260425T140721
CREATED:20250325T183644Z
LAST-MODIFIED:20250325T183644Z
UID:10010022-1743528600-1743537600@www.suo.ca
SUMMARY:What The Duck!
DESCRIPTION:🦆 What the Duck?! – Scavenger Hunt & Duck Painting 🎨\n📍SCI 247 | 🕕 6:00–8:00 PM \nCome hang out with Girls in Tech for a fun and relaxing evening! We’re hosting a duck scavenger hunt around campus — find hidden ducks and you could win a surprise prize \nAfter the hunt\, head back to SCI 247 for some duck painting\, snacks\, and a cozy space to unwind and get creative. \nWe hope to see you there! \nLocation: SCI 247
URL:https://www.suo.ca/event/what-the-duck/
LOCATION:Science Building\, UBCO Campus\, 1177 Research Road\, Kelowna\, British Columbia\, V1V 1V7\, Canada
CATEGORIES:All Ages,Student Associations
ATTACH;FMTTYPE=image/png:https://www.suo.ca/wp-content/uploads/2021/12/GIT.png
ORGANIZER;CN="Girls in Tech":MAILTO:girlsintechsuo@gmail.com
END:VEVENT
END:VCALENDAR