BEGIN:VCALENDAR
VERSION:2.0
PRODID:-//Students’ Union Okanagan of UBC - ECPv6.5.0//NONSGML v1.0//EN
CALSCALE:GREGORIAN
METHOD:PUBLISH
X-WR-CALNAME:Students’ Union Okanagan of UBC
X-ORIGINAL-URL:https://www.suo.ca
X-WR-CALDESC:Events for Students’ Union Okanagan of UBC
REFRESH-INTERVAL;VALUE=DURATION:PT1H
X-Robots-Tag:noindex
X-PUBLISHED-TTL:PT1H
BEGIN:VTIMEZONE
TZID:America/Vancouver
BEGIN:DAYLIGHT
TZOFFSETFROM:-0800
TZOFFSETTO:-0700
TZNAME:PDT
DTSTART:20250309T100000
END:DAYLIGHT
BEGIN:STANDARD
TZOFFSETFROM:-0700
TZOFFSETTO:-0800
TZNAME:PST
DTSTART:20251102T090000
END:STANDARD
END:VTIMEZONE
BEGIN:VEVENT
DTSTART;TZID=America/Vancouver:20250723T120000
DTEND;TZID=America/Vancouver:20250723T140000
DTSTAMP:20260420T114753
CREATED:20250716T160012Z
LAST-MODIFIED:20250716T160012Z
UID:10010173-1753272000-1753279200@www.suo.ca
SUMMARY:Board Meeting 2025-07-23
DESCRIPTION:Our Board Meetings are open to the membership unless the Board of Directors resolves to move the meeting in camera. The agenda will be posted at least 72 hours in advance of a meeting on the SUO website. Please click the link below for the agenda: \nMeeting Agenda & Minutes – Students’ Union Okanagan of UBC (suo.ca) \nThe Board Meeting is usually conducted via Zoom during the summer. If you are interested in observing the meeting\, please contact the SUO President at president@suo.ca for a zoom meeting link. \n 
URL:https://www.suo.ca/event/board-meeting-2025-07-23/
LOCATION:SUO Boardroom UNC 105\, UBCO\, Kelowna\, Canada
CATEGORIES:Board of Directors
END:VEVENT
BEGIN:VEVENT
DTSTART;TZID=America/Vancouver:20250723T200000
DTEND;TZID=America/Vancouver:20250723T210000
DTSTAMP:20260420T114753
CREATED:20241017T181411Z
LAST-MODIFIED:20241017T181434Z
UID:10008931-1753300800-1753304400@www.suo.ca
SUMMARY:UDC dance class
DESCRIPTION:Unite Dance Club will be having weekly dance classes every Wednesday from 8-9. Register on Rubric! \nLocation: On Pointe Studio
URL:https://www.suo.ca/event/udc-dance-class/2025-07-23/
LOCATION:On Pointe Studio\, 6 3185 VIA CENTRALE\, Kelowna\, B.C\, V1V 2A7\, Canada
CATEGORIES:All Ages,Student Associations
ATTACH;FMTTYPE=image/png:https://www.suo.ca/wp-content/uploads/2021/08/Unite-Dance-club.png
ORGANIZER;CN="Unite Dance Club":MAILTO:unitedanceclub1@gmail.com
END:VEVENT
END:VCALENDAR