BEGIN:VCALENDAR
VERSION:2.0
PRODID:-//Students’ Union Okanagan of UBC - ECPv6.5.0//NONSGML v1.0//EN
CALSCALE:GREGORIAN
METHOD:PUBLISH
X-ORIGINAL-URL:https://www.suo.ca
X-WR-CALDESC:Events for Students’ Union Okanagan of UBC
REFRESH-INTERVAL;VALUE=DURATION:PT1H
X-Robots-Tag:noindex
X-PUBLISHED-TTL:PT1H
BEGIN:VTIMEZONE
TZID:America/Vancouver
BEGIN:DAYLIGHT
TZOFFSETFROM:-0800
TZOFFSETTO:-0700
TZNAME:PDT
DTSTART:20220313T100000
END:DAYLIGHT
BEGIN:STANDARD
TZOFFSETFROM:-0700
TZOFFSETTO:-0800
TZNAME:PST
DTSTART:20221106T090000
END:STANDARD
END:VTIMEZONE
BEGIN:VEVENT
DTSTART;TZID=America/Vancouver:20220407T183000
DTEND;TZID=America/Vancouver:20220407T200000
DTSTAMP:20260421T232127
CREATED:20220330T164550Z
LAST-MODIFIED:20220330T164550Z
UID:10002322-1649356200-1649361600@www.suo.ca
SUMMARY:BCCU Annual General Meeting
DESCRIPTION:General meeting for the BCCU to go over election candidates\, event recaps\, and future changes for the BCCU. \nLocation: SCI 396
URL:https://www.suo.ca/event/bccu-annual-general-meeting/
LOCATION:UBCO Campus\, 3333 University Way\, Kelowna\, British Columbia\, V1V 1V7\, Canada
CATEGORIES:All Ages,Student Associations
ATTACH;FMTTYPE=image/png:https://www.suo.ca/wp-content/uploads/2021/08/BCCU-Logo-Black.png
ORGANIZER;CN="Biochemistry Course Union":MAILTO:bccu.suo@gmail.com
END:VEVENT
BEGIN:VEVENT
DTSTART;TZID=America/Vancouver:20220407T190000
DTEND;TZID=America/Vancouver:20220407T220000
DTSTAMP:20260421T232127
CREATED:20211217T173747Z
LAST-MODIFIED:20220330T161329Z
UID:10002263-1649358000-1649368800@www.suo.ca
SUMMARY:Thursday Night Gathering
DESCRIPTION:This event has moved online until further notice. \nEmail ucm.ubco@gmail.com for further information.\n  \nThursday Nights are our weekly on-campus worship gatherings where we engage teachings from the bible around relevant topics for university students.\nIt’s a place where everyone is welcome\, seeking to know Jesus is prioritized\, and authentic relationships are valued. \nASC 130
URL:https://www.suo.ca/event/thursday-night-gathering/2022-04-07/
LOCATION:ASC 130\, UBCO Campus\, 3187 University Way\, Kelowna\, British Columbia\, V1V 1V7\, Canada
CATEGORIES:All Ages,Student Associations
ATTACH;FMTTYPE=image/png:https://www.suo.ca/wp-content/uploads/2021/08/UnivChristianMinistries-logo-black-solid.png
ORGANIZER;CN="University Christian Ministries":MAILTO:ucm.okanagan@gmail.com
END:VEVENT
END:VCALENDAR