BEGIN:VCALENDAR
VERSION:2.0
PRODID:-//Students’ Union Okanagan of UBC - ECPv6.5.0//NONSGML v1.0//EN
CALSCALE:GREGORIAN
METHOD:PUBLISH
X-WR-CALNAME:Students’ Union Okanagan of UBC
X-ORIGINAL-URL:https://www.suo.ca
X-WR-CALDESC:Events for Students’ Union Okanagan of UBC
REFRESH-INTERVAL;VALUE=DURATION:PT1H
X-Robots-Tag:noindex
X-PUBLISHED-TTL:PT1H
BEGIN:VTIMEZONE
TZID:America/Vancouver
BEGIN:DAYLIGHT
TZOFFSETFROM:-0800
TZOFFSETTO:-0700
TZNAME:PDT
DTSTART:20220313T100000
END:DAYLIGHT
BEGIN:STANDARD
TZOFFSETFROM:-0700
TZOFFSETTO:-0800
TZNAME:PST
DTSTART:20221106T090000
END:STANDARD
END:VTIMEZONE
BEGIN:VEVENT
DTSTART;TZID=America/Vancouver:20220924T130000
DTEND;TZID=America/Vancouver:20221112T140000
DTSTAMP:20260421T113406
CREATED:20220928T230340Z
LAST-MODIFIED:20220928T230340Z
UID:10002339-1664024400-1668261600@www.suo.ca
SUMMARY:IDS Solar Bench Project Weekly Meetings
DESCRIPTION:We will work on our Solar Bench Project every Saturday. This will involve design as well as hands-on work! \nEME 1153
URL:https://www.suo.ca/event/ids-solar-bench-project-weekly-meetings/
LOCATION:EME Building\, UBCO Campus\, 1137 Alumni Avenue\, Kelowna\, British Columbia\, V1V 1V7\, Canada
CATEGORIES:All Ages,Student Associations
ORGANIZER;CN="Innovate Design Sustain Club":MAILTO:vpeventsidssuo@gmail.com
END:VEVENT
BEGIN:VEVENT
DTSTART;TZID=America/Vancouver:20220926T180000
DTEND;TZID=America/Vancouver:20221128T190000
DTSTAMP:20260421T113406
CREATED:20220928T230121Z
LAST-MODIFIED:20220928T230121Z
UID:10002338-1664215200-1669662000@www.suo.ca
SUMMARY:IDS Campus Waste Initiatives Weekly Meetings
DESCRIPTION:Weekly meetings to work on our Campus Waste Initiatives. Join us if you want to help make our campus more sustainable! \nEME 1101
URL:https://www.suo.ca/event/ids-campus-waste-initiatives-weekly-meetings/
LOCATION:EME Building\, UBCO Campus\, 1137 Alumni Avenue\, Kelowna\, British Columbia\, V1V 1V7\, Canada
CATEGORIES:All Ages,Student Associations
ORGANIZER;CN="Innovate Design Sustain Club":MAILTO:vpeventsidssuo@gmail.com
END:VEVENT
BEGIN:VEVENT
DTSTART;TZID=America/Vancouver:20221006T170000
DTEND;TZID=America/Vancouver:20221006T183000
DTSTAMP:20260421T113406
CREATED:20221007T191849Z
LAST-MODIFIED:20221007T191849Z
UID:10002132-1665075600-1665081000@www.suo.ca
SUMMARY:BEATS Non-Comp Rehearsals
DESCRIPTION:The Non-Competitive group of BEATS will meet weekly to practice singing\, get to know each other and prepare for future acapella events! Everyone is welcome to drop by! \n$5.00 to participate \nART 204
URL:https://www.suo.ca/event/beats-non-comp-rehearsals/2022-10-06/
LOCATION:Arts Building\, UBCO Campus\, 1147 Research Road\, Kelowna\, British Columbia\, V1V 1V7\, Canada
CATEGORIES:All Ages,Student Associations
ATTACH;FMTTYPE=image/png:https://www.suo.ca/wp-content/uploads/2021/05/Layer-1-1.png
ORGANIZER;CN="The Beats":MAILTO:okanaganbeats@gmail.com
END:VEVENT
BEGIN:VEVENT
DTSTART;TZID=America/Vancouver:20221006T180000
DTEND;TZID=America/Vancouver:20221006T190000
DTSTAMP:20260421T113406
CREATED:20220928T231740Z
LAST-MODIFIED:20220928T231740Z
UID:10002348-1665079200-1665082800@www.suo.ca
SUMMARY:How to read a case workshop
DESCRIPTION:To provide students the opportunity to understand how to read and analyze a case. This is aimed to help students identify key issues in business cases \nEME 1151
URL:https://www.suo.ca/event/how-to-read-a-case-workshop/
LOCATION:EME Building\, UBCO Campus\, 1137 Alumni Avenue\, Kelowna\, British Columbia\, V1V 1V7\, Canada
CATEGORIES:All Ages,Student Associations
ORGANIZER;CN="JDC West Club":MAILTO:captains@jdcwokanagan.com
END:VEVENT
BEGIN:VEVENT
DTSTART;TZID=America/Vancouver:20221006T180000
DTEND;TZID=America/Vancouver:20221006T200000
DTSTAMP:20260421T113406
CREATED:20220928T231840Z
LAST-MODIFIED:20220928T231840Z
UID:10002349-1665079200-1665086400@www.suo.ca
SUMMARY:GIT Hub workshop
DESCRIPTION:To host a Git Workshop that will help students in learning:\nBasic terminal usage\nCreate a git repository\nAdd and commit files\nPush your code to Github\nPull changes made by other team-mates\nCreate\, add\, merge\, and delete branches\nOther useful git commands… \nART 376
URL:https://www.suo.ca/event/git-hub-workshop/
LOCATION:Arts Building\, UBCO Campus\, 1147 Research Road\, Kelowna\, British Columbia\, V1V 1V7\, Canada
CATEGORIES:All Ages,Student Associations
ORGANIZER;CN="Quantitative Sciences Course Union":MAILTO:qscu.main@gmail.com
END:VEVENT
BEGIN:VEVENT
DTSTART;TZID=America/Vancouver:20221006T183000
DTEND;TZID=America/Vancouver:20221006T213000
DTSTAMP:20260421T113406
CREATED:20220928T230846Z
LAST-MODIFIED:20220928T230846Z
UID:10002343-1665081000-1665091800@www.suo.ca
SUMMARY:BCCU BIOL 116 Midterm Study Session #1
DESCRIPTION:The BCCU will be hosting a review session for BIOL 116 (Introductory Biology). Review materials and pizza will be provided! \nLIB 305
URL:https://www.suo.ca/event/bccu-biol-116-midterm-study-session-1/
LOCATION:LIB 305\, UBCO Campus\, 3287 University Way\, Kelowna\, British Columbia\, V1V 1V7\, Canada
CATEGORIES:All Ages,Student Associations
ORGANIZER;CN="Biochemistry Course Union":MAILTO:bccu.suo@gmail.com
END:VEVENT
END:VCALENDAR