BEGIN:VCALENDAR
VERSION:2.0
PRODID:-//Students’ Union Okanagan of UBC - ECPv6.5.0//NONSGML v1.0//EN
CALSCALE:GREGORIAN
METHOD:PUBLISH
X-ORIGINAL-URL:https://www.suo.ca
X-WR-CALDESC:Events for Students’ Union Okanagan of UBC
REFRESH-INTERVAL;VALUE=DURATION:PT1H
X-Robots-Tag:noindex
X-PUBLISHED-TTL:PT1H
BEGIN:VTIMEZONE
TZID:America/Vancouver
BEGIN:DAYLIGHT
TZOFFSETFROM:-0800
TZOFFSETTO:-0700
TZNAME:PDT
DTSTART:20220313T100000
END:DAYLIGHT
BEGIN:STANDARD
TZOFFSETFROM:-0700
TZOFFSETTO:-0800
TZNAME:PST
DTSTART:20221106T090000
END:STANDARD
END:VTIMEZONE
BEGIN:VEVENT
DTSTART;TZID=America/Vancouver:20220924T130000
DTEND;TZID=America/Vancouver:20221112T140000
DTSTAMP:20260421T225056
CREATED:20220928T230340Z
LAST-MODIFIED:20220928T230340Z
UID:10002339-1664024400-1668261600@www.suo.ca
SUMMARY:IDS Solar Bench Project Weekly Meetings
DESCRIPTION:We will work on our Solar Bench Project every Saturday. This will involve design as well as hands-on work! \nEME 1153
URL:https://www.suo.ca/event/ids-solar-bench-project-weekly-meetings/
LOCATION:EME Building\, UBCO Campus\, 1137 Alumni Avenue\, Kelowna\, British Columbia\, V1V 1V7\, Canada
CATEGORIES:All Ages,Student Associations
ORGANIZER;CN="Innovate Design Sustain Club":MAILTO:vpeventsidssuo@gmail.com
END:VEVENT
BEGIN:VEVENT
DTSTART;TZID=America/Vancouver:20220926T180000
DTEND;TZID=America/Vancouver:20221128T190000
DTSTAMP:20260421T225056
CREATED:20220928T230121Z
LAST-MODIFIED:20220928T230121Z
UID:10002338-1664215200-1669662000@www.suo.ca
SUMMARY:IDS Campus Waste Initiatives Weekly Meetings
DESCRIPTION:Weekly meetings to work on our Campus Waste Initiatives. Join us if you want to help make our campus more sustainable! \nEME 1101
URL:https://www.suo.ca/event/ids-campus-waste-initiatives-weekly-meetings/
LOCATION:EME Building\, UBCO Campus\, 1137 Alumni Avenue\, Kelowna\, British Columbia\, V1V 1V7\, Canada
CATEGORIES:All Ages,Student Associations
ORGANIZER;CN="Innovate Design Sustain Club":MAILTO:vpeventsidssuo@gmail.com
END:VEVENT
BEGIN:VEVENT
DTSTART;TZID=America/Vancouver:20221014T100000
DTEND;TZID=America/Vancouver:20221014T170000
DTSTAMP:20260421T225056
CREATED:20221013T201308Z
LAST-MODIFIED:20221013T201308Z
UID:10002366-1665741600-1665766800@www.suo.ca
SUMMARY:Merch Sale - Courtyard
DESCRIPTION:sell merch in the courtyard. with tent setup.
URL:https://www.suo.ca/event/merch-sale-courtyard/
LOCATION:Central Courtyard\, UBCO Campus\, 1138 Alumni Avenue\, Kelowna\, British Columbia\, V1V 1V7\, Canada
CATEGORIES:All Ages,Student Associations
ATTACH;FMTTYPE=image/png:https://www.suo.ca/wp-content/uploads/2021/05/Layer-1-1.png
ORGANIZER;CN="Engineering Society":MAILTO:president@okanaganengineers.com
END:VEVENT
BEGIN:VEVENT
DTSTART;TZID=America/Vancouver:20221014T183000
DTEND;TZID=America/Vancouver:20221014T210000
DTSTAMP:20260421T225056
CREATED:20221013T212858Z
LAST-MODIFIED:20221013T212858Z
UID:10002375-1665772200-1665781200@www.suo.ca
SUMMARY:4th C. Uncial Calligraphy and Illumination
DESCRIPTION:Class teaching 4th C. Uncial Calligraphy and Illumination led by an SCA seneschal named Taliesin. Basically medieval art stuff. \nART 374
URL:https://www.suo.ca/event/4th-c-uncial-calligraphy-and-illumination/
LOCATION:Arts Building\, UBCO Campus\, 1147 Research Road\, Kelowna\, British Columbia\, V1V 1V7\, Canada
CATEGORIES:All Ages,Student Associations
ATTACH;FMTTYPE=image/svg+xml:https://www.suo.ca/wp-content/uploads/2021/12/SUO-Logo.svg
ORGANIZER;CN="Medieval Club UBCO":MAILTO:UBCOMedievalClub@hotmail.com
END:VEVENT
END:VCALENDAR