BEGIN:VCALENDAR
VERSION:2.0
PRODID:-//Students’ Union Okanagan of UBC - ECPv6.5.0//NONSGML v1.0//EN
CALSCALE:GREGORIAN
METHOD:PUBLISH
X-WR-CALNAME:Students’ Union Okanagan of UBC
X-ORIGINAL-URL:https://www.suo.ca
X-WR-CALDESC:Events for Students’ Union Okanagan of UBC
REFRESH-INTERVAL;VALUE=DURATION:PT1H
X-Robots-Tag:noindex
X-PUBLISHED-TTL:PT1H
BEGIN:VTIMEZONE
TZID:America/Vancouver
BEGIN:DAYLIGHT
TZOFFSETFROM:-0800
TZOFFSETTO:-0700
TZNAME:PDT
DTSTART:20220313T100000
END:DAYLIGHT
BEGIN:STANDARD
TZOFFSETFROM:-0700
TZOFFSETTO:-0800
TZNAME:PST
DTSTART:20221106T090000
END:STANDARD
END:VTIMEZONE
BEGIN:VEVENT
DTSTART;TZID=America/Vancouver:20220926T180000
DTEND;TZID=America/Vancouver:20221128T190000
DTSTAMP:20260422T024335
CREATED:20220928T230121Z
LAST-MODIFIED:20220928T230121Z
UID:10002338-1664215200-1669662000@www.suo.ca
SUMMARY:IDS Campus Waste Initiatives Weekly Meetings
DESCRIPTION:Weekly meetings to work on our Campus Waste Initiatives. Join us if you want to help make our campus more sustainable! \nEME 1101
URL:https://www.suo.ca/event/ids-campus-waste-initiatives-weekly-meetings/
LOCATION:EME Building\, UBCO Campus\, 1137 Alumni Avenue\, Kelowna\, British Columbia\, V1V 1V7\, Canada
CATEGORIES:All Ages,Student Associations
ORGANIZER;CN="Innovate Design Sustain Club":MAILTO:vpeventsidssuo@gmail.com
END:VEVENT
BEGIN:VEVENT
DTSTART;TZID=America/Vancouver:20221115T110000
DTEND;TZID=America/Vancouver:20221115T120000
DTSTAMP:20260422T024335
CREATED:20221012T204342Z
LAST-MODIFIED:20221012T204342Z
UID:10002362-1668510000-1668513600@www.suo.ca
SUMMARY:MATH 116 Midterm review session
DESCRIPTION:A midterm review session will be conducted \n  \nLocated: ART 103.
URL:https://www.suo.ca/event/math-116-midterm-review-session/
LOCATION:Arts Building\, UBCO Campus\, 1147 Research Road\, Kelowna\, British Columbia\, V1V 1V7\, Canada
CATEGORIES:All Ages,Student Associations
ATTACH;FMTTYPE=image/svg+xml:https://www.suo.ca/wp-content/uploads/2021/12/SUO-Logo.svg
ORGANIZER;CN="Quantitative Sciences Course Union":MAILTO:qscu.main@gmail.com
END:VEVENT
BEGIN:VEVENT
DTSTART;TZID=America/Vancouver:20221115T200000
DTEND;TZID=America/Vancouver:20221115T220000
DTSTAMP:20260422T024335
CREATED:20221024T183504Z
LAST-MODIFIED:20221024T183504Z
UID:10002187-1668542400-1668549600@www.suo.ca
SUMMARY:MSA's Annual General Meeting
DESCRIPTION:The MSA is hosting our Annual General Meeting on November 15 at 8pm in EME 0050. This is open to all MGMT student and provides them an opportunity to see how the MSA operates . Student are encourage to ask questions and expressions their thoughts about the MSA. Keep an eye out on the MSA Instagram for the agenda\, proposed amended constitution and a special announcement! \n  \nLocated: EME 0050
URL:https://www.suo.ca/event/msas-annual-general-meeting/
LOCATION:EME Building\, UBCO Campus\, 1137 Alumni Avenue\, Kelowna\, British Columbia\, V1V 1V7\, Canada
CATEGORIES:All Ages,Student Associations
ATTACH;FMTTYPE=image/jpeg:https://www.suo.ca/wp-content/uploads/2021/08/MSA-logo.jpg
ORGANIZER;CN="Management Students Association":MAILTO:academics@msasuo.ca
END:VEVENT
END:VCALENDAR