BEGIN:VCALENDAR
VERSION:2.0
PRODID:-//Students’ Union Okanagan of UBC - ECPv6.5.0//NONSGML v1.0//EN
CALSCALE:GREGORIAN
METHOD:PUBLISH
X-ORIGINAL-URL:https://www.suo.ca
X-WR-CALDESC:Events for Students’ Union Okanagan of UBC
REFRESH-INTERVAL;VALUE=DURATION:PT1H
X-Robots-Tag:noindex
X-PUBLISHED-TTL:PT1H
BEGIN:VTIMEZONE
TZID:America/Vancouver
BEGIN:DAYLIGHT
TZOFFSETFROM:-0800
TZOFFSETTO:-0700
TZNAME:PDT
DTSTART:20220313T100000
END:DAYLIGHT
BEGIN:STANDARD
TZOFFSETFROM:-0700
TZOFFSETTO:-0800
TZNAME:PST
DTSTART:20221106T090000
END:STANDARD
END:VTIMEZONE
BEGIN:VEVENT
DTSTART;TZID=America/Vancouver:20220926T180000
DTEND;TZID=America/Vancouver:20221128T190000
DTSTAMP:20260421T225057
CREATED:20220928T230121Z
LAST-MODIFIED:20220928T230121Z
UID:10002338-1664215200-1669662000@www.suo.ca
SUMMARY:IDS Campus Waste Initiatives Weekly Meetings
DESCRIPTION:Weekly meetings to work on our Campus Waste Initiatives. Join us if you want to help make our campus more sustainable! \nEME 1101
URL:https://www.suo.ca/event/ids-campus-waste-initiatives-weekly-meetings/
LOCATION:EME Building\, UBCO Campus\, 1137 Alumni Avenue\, Kelowna\, British Columbia\, V1V 1V7\, Canada
CATEGORIES:All Ages,Student Associations
ORGANIZER;CN="Innovate Design Sustain Club":MAILTO:vpeventsidssuo@gmail.com
END:VEVENT
BEGIN:VEVENT
DTSTART;TZID=America/Vancouver:20221117T170000
DTEND;TZID=America/Vancouver:20221117T183000
DTSTAMP:20260421T225057
CREATED:20221007T191849Z
LAST-MODIFIED:20221007T191849Z
UID:10002138-1668704400-1668709800@www.suo.ca
SUMMARY:BEATS Non-Comp Rehearsals
DESCRIPTION:The Non-Competitive group of BEATS will meet weekly to practice singing\, get to know each other and prepare for future acapella events! Everyone is welcome to drop by! \n$5.00 to participate \nART 204
URL:https://www.suo.ca/event/beats-non-comp-rehearsals/2022-11-17/
LOCATION:Arts Building\, UBCO Campus\, 1147 Research Road\, Kelowna\, British Columbia\, V1V 1V7\, Canada
CATEGORIES:All Ages,Student Associations
ATTACH;FMTTYPE=image/png:https://www.suo.ca/wp-content/uploads/2021/05/Layer-1-1.png
ORGANIZER;CN="The Beats":MAILTO:okanaganbeats@gmail.com
END:VEVENT
BEGIN:VEVENT
DTSTART;TZID=America/Vancouver:20221117T170000
DTEND;TZID=America/Vancouver:20221117T183000
DTSTAMP:20260421T225057
CREATED:20221026T183442Z
LAST-MODIFIED:20221026T183442Z
UID:10002411-1668704400-1668709800@www.suo.ca
SUMMARY:MUN Practices
DESCRIPTION:To teach our members the rules of MUN and prepare them for external competitions. \n  \nSee list below for full time and location details: \n\nNov 3\, 2022\, 5:00 PM – 6:30 PM RHS 260\nNov 10\, 2022\, 5:00 PM – 6:30 PM RHS 260\nNov 17\, 2022\, 5:30 PM – 7:00 PM RHS 260\nNov 24\, 2022\, 5:30 PM – 7:00 PM RHS 260\nDec 1\, 2022\, 5:30 PM – 7:00 PM RHS 260\nDec 8\, 2022\, 5:00 PM – 6:30 PM RHS 260\n\n 
URL:https://www.suo.ca/event/mun-practices/2022-11-17/
LOCATION:Reichwald Health Sciences Centre\, UBCO Campus\, 1088 Discovery Ave\, Kelowna\, British Columbia\, V1V 1V7\, Canada
CATEGORIES:All Ages,Student Associations
ORGANIZER;CN="Model United Nations":MAILTO:mun.ubco@gmail.com
END:VEVENT
BEGIN:VEVENT
DTSTART;TZID=America/Vancouver:20221117T180000
DTEND;TZID=America/Vancouver:20221117T193000
DTSTAMP:20260421T225057
CREATED:20220928T225656Z
LAST-MODIFIED:20220928T225656Z
UID:10002335-1668708000-1668713400@www.suo.ca
SUMMARY:Cultural Studies Course Union Meet & Greet
DESCRIPTION:The Cultural Studies Course Union would like to host an in-person meet and greet opportunity for students who are interested in and/or majoring or minoring in Cultural Studies. Food and games will be provided for this event and discussions around Cultural Studies and what it has to offer will be underpinning the entirety of the event. \nART 108
URL:https://www.suo.ca/event/cultural-studies-course-union-meet-greet/
LOCATION:Arts Building\, UBCO Campus\, 1147 Research Road\, Kelowna\, British Columbia\, V1V 1V7\, Canada
CATEGORIES:All Ages,Student Associations
ORGANIZER;CN="Cultural Studies Course Union":MAILTO:culturalstudiescu@gmail.com
END:VEVENT
BEGIN:VEVENT
DTSTART;TZID=America/Vancouver:20221117T183000
DTEND;TZID=America/Vancouver:20221117T203000
DTSTAMP:20260421T225057
CREATED:20221031T172128Z
LAST-MODIFIED:20221031T172128Z
UID:10002416-1668709800-1668717000@www.suo.ca
SUMMARY:BIOL 200 BCCU Review Session #2
DESCRIPTION:The BCCU will be hosting a review session for Midterm #2 of BIOL 200. There will be content review\, a practice problem set\, and a practice Canvas quiz posted to the BCCU Canvas page. Pizza will also be provided. \n  \nLocated: LIB 305
URL:https://www.suo.ca/event/biol-200-bccu-review-session-2/
LOCATION:LIB 305\, UBCO Campus\, 3287 University Way\, Kelowna\, British Columbia\, V1V 1V7\, Canada
CATEGORIES:All Ages,Student Associations
ATTACH;FMTTYPE=image/jpeg:https://www.suo.ca/wp-content/uploads/2022/07/SUO-Student-Associations.jpg
ORGANIZER;CN="Biochemistry Course Union":MAILTO:bccu.suo@gmail.com
END:VEVENT
BEGIN:VEVENT
DTSTART;TZID=America/Vancouver:20221117T183000
DTEND;TZID=America/Vancouver:20221117T210000
DTSTAMP:20260421T225057
CREATED:20221031T173304Z
LAST-MODIFIED:20221031T173304Z
UID:10002419-1668709800-1668718800@www.suo.ca
SUMMARY:Large Animal Education Night
DESCRIPTION:Dr. Jay Thurgood will be giving a presentation on internal parasite control in large animals and Dr. Lennie Thurgood will be doing a presentation on equine dentistry. Both will be available for a large animal Q and A afterwards. \n  \nLocated: ART 203
URL:https://www.suo.ca/event/large-animal-education-night/
LOCATION:Arts Building\, UBCO Campus\, 1147 Research Road\, Kelowna\, British Columbia\, V1V 1V7\, Canada
CATEGORIES:All Ages,Student Associations
ORGANIZER;CN="Pre-Vet Club":MAILTO:prevetclub.okanagan@outlook.com
END:VEVENT
END:VCALENDAR