BEGIN:VCALENDAR
VERSION:2.0
PRODID:-//Students’ Union Okanagan of UBC - ECPv6.5.0//NONSGML v1.0//EN
CALSCALE:GREGORIAN
METHOD:PUBLISH
X-WR-CALNAME:Students’ Union Okanagan of UBC
X-ORIGINAL-URL:https://www.suo.ca
X-WR-CALDESC:Events for Students’ Union Okanagan of UBC
REFRESH-INTERVAL;VALUE=DURATION:PT1H
X-Robots-Tag:noindex
X-PUBLISHED-TTL:PT1H
BEGIN:VTIMEZONE
TZID:America/Vancouver
BEGIN:DAYLIGHT
TZOFFSETFROM:-0800
TZOFFSETTO:-0700
TZNAME:PDT
DTSTART:20220313T100000
END:DAYLIGHT
BEGIN:STANDARD
TZOFFSETFROM:-0700
TZOFFSETTO:-0800
TZNAME:PST
DTSTART:20221106T090000
END:STANDARD
END:VTIMEZONE
BEGIN:VEVENT
DTSTART;TZID=America/Vancouver:20220926T180000
DTEND;TZID=America/Vancouver:20221128T190000
DTSTAMP:20260422T004157
CREATED:20220928T230121Z
LAST-MODIFIED:20220928T230121Z
UID:10002338-1664215200-1669662000@www.suo.ca
SUMMARY:IDS Campus Waste Initiatives Weekly Meetings
DESCRIPTION:Weekly meetings to work on our Campus Waste Initiatives. Join us if you want to help make our campus more sustainable! \nEME 1101
URL:https://www.suo.ca/event/ids-campus-waste-initiatives-weekly-meetings/
LOCATION:EME Building\, UBCO Campus\, 1137 Alumni Avenue\, Kelowna\, British Columbia\, V1V 1V7\, Canada
CATEGORIES:All Ages,Student Associations
ORGANIZER;CN="Innovate Design Sustain Club":MAILTO:vpeventsidssuo@gmail.com
END:VEVENT
BEGIN:VEVENT
DTSTART;TZID=America/Vancouver:20221119T140000
DTEND;TZID=America/Vancouver:20221119T160000
DTSTAMP:20260422T004157
CREATED:20221031T182654Z
LAST-MODIFIED:20221031T182654Z
UID:10002420-1668866400-1668873600@www.suo.ca
SUMMARY:GNC Hike
DESCRIPTION:A hike at Knox.
URL:https://www.suo.ca/event/gnc-hike/
LOCATION:Knox Mountain\, 450 Knox Mountain Drive\, Kelowna\, British Columbia\, V1H 2B9\, Canada
CATEGORIES:All Ages,Student Associations
ATTACH;FMTTYPE=image/jpeg:https://www.suo.ca/wp-content/uploads/2021/08/GlobalNursingC-logo.jpg
ORGANIZER;CN="Global Nursing Citizens":MAILTO:ubcoglobalnursingcitizens@gmail.com
END:VEVENT
BEGIN:VEVENT
DTSTART;TZID=America/Vancouver:20221119T153000
DTEND;TZID=America/Vancouver:20221119T213000
DTSTAMP:20260422T004157
CREATED:20221104T215139Z
LAST-MODIFIED:20221104T215139Z
UID:10002436-1668871800-1668893400@www.suo.ca
SUMMARY:CWI Project Re-design
DESCRIPTION:As part of the campus waste initiative (CWI) of the Innovate\, Design\, Sustain (IDS) club\, the “CWI Project Re-design” is a week-long competition\, focusing on getting student designers engaged in the process of more efficient waste management by re-designing the visuals around campus. In the process\, IDS will be providing students with skill building opportunities in designing. \n  \nLocated: ADM 026
URL:https://www.suo.ca/event/cwi-project-re-design/
LOCATION:ADM 026 Theatre\, 1138 Alumni Avenue\, Kelowna\, British Columbia\, V1V 1V7\, Canada
CATEGORIES:All Ages,Student Associations
ATTACH;FMTTYPE=image/png:https://www.suo.ca/wp-content/uploads/2021/09/IDS_Logo_500x500.png
ORGANIZER;CN="Innovate Design Sustain Club":MAILTO:vpeventsidssuo@gmail.com
END:VEVENT
END:VCALENDAR