BEGIN:VCALENDAR
VERSION:2.0
PRODID:-//Students’ Union Okanagan of UBC - ECPv6.5.0//NONSGML v1.0//EN
CALSCALE:GREGORIAN
METHOD:PUBLISH
X-ORIGINAL-URL:https://www.suo.ca
X-WR-CALDESC:Events for Students’ Union Okanagan of UBC
REFRESH-INTERVAL;VALUE=DURATION:PT1H
X-Robots-Tag:noindex
X-PUBLISHED-TTL:PT1H
BEGIN:VTIMEZONE
TZID:America/Vancouver
BEGIN:DAYLIGHT
TZOFFSETFROM:-0800
TZOFFSETTO:-0700
TZNAME:PDT
DTSTART:20220313T100000
END:DAYLIGHT
BEGIN:STANDARD
TZOFFSETFROM:-0700
TZOFFSETTO:-0800
TZNAME:PST
DTSTART:20221106T090000
END:STANDARD
END:VTIMEZONE
BEGIN:VEVENT
DTSTART;TZID=America/Vancouver:20220926T180000
DTEND;TZID=America/Vancouver:20221128T190000
DTSTAMP:20260421T225056
CREATED:20220928T230121Z
LAST-MODIFIED:20220928T230121Z
UID:10002338-1664215200-1669662000@www.suo.ca
SUMMARY:IDS Campus Waste Initiatives Weekly Meetings
DESCRIPTION:Weekly meetings to work on our Campus Waste Initiatives. Join us if you want to help make our campus more sustainable! \nEME 1101
URL:https://www.suo.ca/event/ids-campus-waste-initiatives-weekly-meetings/
LOCATION:EME Building\, UBCO Campus\, 1137 Alumni Avenue\, Kelowna\, British Columbia\, V1V 1V7\, Canada
CATEGORIES:All Ages,Student Associations
ORGANIZER;CN="Innovate Design Sustain Club":MAILTO:vpeventsidssuo@gmail.com
END:VEVENT
BEGIN:VEVENT
DTSTART;TZID=America/Vancouver:20221122T130000
DTEND;TZID=America/Vancouver:20221122T180000
DTSTAMP:20260421T225056
CREATED:20221121T205150Z
LAST-MODIFIED:20221121T205150Z
UID:10002231-1669122000-1669140000@www.suo.ca
SUMMARY:IDS Re-Design Competition: "What's your waste problem?"
DESCRIPTION:As a pre-cursor to our competition\, IDS is hosting a series of tabling events inviting students to come and engage with the CWI team’s efforts to re-design the waste system on campus. in this day’s event\, we ask students what their everyday waste problems are! \n  \nLocated: UNC Foyer.
URL:https://www.suo.ca/event/ids-re-design-competition-whats-your-waste-problem/
LOCATION:UNC Foyer\, UBCO Campus\, 3272 University Way\, Kelowna\, British Columbia\, V1V 1V7\, Canada
CATEGORIES:All Ages,Student Associations
ATTACH;FMTTYPE=image/png:https://www.suo.ca/wp-content/uploads/2021/09/IDS_Logo_500x500.png
ORGANIZER;CN="Innovate Design Sustain Club":MAILTO:vpeventsidssuo@gmail.com
END:VEVENT
BEGIN:VEVENT
DTSTART;TZID=America/Vancouver:20221122T150000
DTEND;TZID=America/Vancouver:20221122T163000
DTSTAMP:20260421T225056
CREATED:20221026T175059Z
LAST-MODIFIED:20221026T180153Z
UID:10002405-1669129200-1669134600@www.suo.ca
SUMMARY:STAT 230 Midterm review session 2
DESCRIPTION:A review session for the midterm 2 for STAT 230 will be conducted. \n  \nLocated: SCI 333
URL:https://www.suo.ca/event/stat-230-midterm-review-session-2/
LOCATION:Science Building\, UBCO Campus\, 1177 Research Road\, Kelowna\, British Columbia\, V1V 1V7\, Canada
CATEGORIES:All Ages,Student Associations
ATTACH;FMTTYPE=image/jpeg:https://www.suo.ca/wp-content/uploads/2022/07/SUO-Student-Associations.jpg
ORGANIZER;CN="Quantitative Sciences Course Union":MAILTO:qscu.main@gmail.com
END:VEVENT
BEGIN:VEVENT
DTSTART;TZID=America/Vancouver:20221122T163000
DTEND;TZID=America/Vancouver:20221122T180000
DTSTAMP:20260421T225056
CREATED:20221026T180031Z
LAST-MODIFIED:20221026T180128Z
UID:10002406-1669134600-1669140000@www.suo.ca
SUMMARY:STAT 230 Midterm review session 2
DESCRIPTION:A midterm review session for STAT 230 midterm will be conducted. \n  \nLocated: LIB 312
URL:https://www.suo.ca/event/stat-230-midterm-review-session-2-2/
LOCATION:Library\, UBCO Campus\, 3287 University Way\, Kelowna\, British Columbia\, V1V 1V7\, Canada
CATEGORIES:All Ages,Student Associations
ATTACH;FMTTYPE=image/jpeg:https://www.suo.ca/wp-content/uploads/2022/07/SUO-Student-Associations.jpg
ORGANIZER;CN="Quantitative Sciences Course Union":MAILTO:qscu.main@gmail.com
END:VEVENT
BEGIN:VEVENT
DTSTART;TZID=America/Vancouver:20221122T170000
DTEND;TZID=America/Vancouver:20221122T190000
DTSTAMP:20260421T225056
CREATED:20221031T172509Z
LAST-MODIFIED:20221031T172509Z
UID:10002417-1669136400-1669143600@www.suo.ca
SUMMARY:BIOC 304 BCCU Midterm Study Session #2
DESCRIPTION:The BCCU will be hosting a review session for Midterm #2 of BIOC 304. There will be content review and some practice problems. Pizza will also be provided. \n  \nLocated: SCI 333
URL:https://www.suo.ca/event/bioc-304-bccu-midterm-study-session-2/
LOCATION:Science Building\, UBCO Campus\, 1177 Research Road\, Kelowna\, British Columbia\, V1V 1V7\, Canada
CATEGORIES:All Ages,Student Associations
ATTACH;FMTTYPE=image/jpeg:https://www.suo.ca/wp-content/uploads/2022/07/SUO-Student-Associations.jpg
ORGANIZER;CN="Biochemistry Course Union":MAILTO:bccu.suo@gmail.com
END:VEVENT
END:VCALENDAR