BEGIN:VCALENDAR
VERSION:2.0
PRODID:-//Students’ Union Okanagan of UBC - ECPv6.5.0//NONSGML v1.0//EN
CALSCALE:GREGORIAN
METHOD:PUBLISH
X-WR-CALNAME:Students’ Union Okanagan of UBC
X-ORIGINAL-URL:https://www.suo.ca
X-WR-CALDESC:Events for Students’ Union Okanagan of UBC
REFRESH-INTERVAL;VALUE=DURATION:PT1H
X-Robots-Tag:noindex
X-PUBLISHED-TTL:PT1H
BEGIN:VTIMEZONE
TZID:America/Vancouver
BEGIN:DAYLIGHT
TZOFFSETFROM:-0800
TZOFFSETTO:-0700
TZNAME:PDT
DTSTART:20220313T100000
END:DAYLIGHT
BEGIN:STANDARD
TZOFFSETFROM:-0700
TZOFFSETTO:-0800
TZNAME:PST
DTSTART:20221106T090000
END:STANDARD
END:VTIMEZONE
BEGIN:VEVENT
DTSTART;TZID=America/Vancouver:20220926T180000
DTEND;TZID=America/Vancouver:20221128T190000
DTSTAMP:20260421T225057
CREATED:20220928T230121Z
LAST-MODIFIED:20220928T230121Z
UID:10002338-1664215200-1669662000@www.suo.ca
SUMMARY:IDS Campus Waste Initiatives Weekly Meetings
DESCRIPTION:Weekly meetings to work on our Campus Waste Initiatives. Join us if you want to help make our campus more sustainable! \nEME 1101
URL:https://www.suo.ca/event/ids-campus-waste-initiatives-weekly-meetings/
LOCATION:EME Building\, UBCO Campus\, 1137 Alumni Avenue\, Kelowna\, British Columbia\, V1V 1V7\, Canada
CATEGORIES:All Ages,Student Associations
ORGANIZER;CN="Innovate Design Sustain Club":MAILTO:vpeventsidssuo@gmail.com
END:VEVENT
BEGIN:VEVENT
DTSTART;TZID=America/Vancouver:20221125T190000
DTEND;TZID=America/Vancouver:20221127T210000
DTSTAMP:20260421T225057
CREATED:20221104T202853Z
LAST-MODIFIED:20221104T203052Z
UID:10002432-1669402800-1669582800@www.suo.ca
SUMMARY:BC HACKS 4.0
DESCRIPTION:The Computer Science Course Union at UBCO is back with the 4th iteration of BC Hacks. This hackathon gives students\, especially at UBCO\, great exposure to team building\, ideation\, coding projects\, and networking! We will be hosting in person; the opening ceremony will begin at 7 pm to 9 pm on November 25th and the closing ceremony will be from 7:00 pm to 9:00 pm on November 27th. Attendance and participation have their perks\, for eg: there will be trivia\, games\, workshops\, popcorn\, and a photo booth! We’re looking forward to excellent submissions this year\, judging and rewarding winning categories! We assume great enthusiasm in participation given that we’ve had over 400 participants in our previous iterations. \nRegister HERE!
URL:https://www.suo.ca/event/bc-hacks-4-0/
LOCATION:Commons Building\, UBCO Campus\, 3297 University Way\, Kelowna\, British Columbia\, V1V 1V7\, Canada
CATEGORIES:All Ages,Student Associations
ATTACH;FMTTYPE=image/png:https://www.suo.ca/wp-content/uploads/2022/11/Hacklogo-colour_text-black.png
ORGANIZER;CN="Computer Science Course Union":MAILTO:contact@cscu.io
END:VEVENT
BEGIN:VEVENT
DTSTART;TZID=America/Vancouver:20221126T120000
DTEND;TZID=America/Vancouver:20221126T170000
DTSTAMP:20260421T225057
CREATED:20221121T213238Z
LAST-MODIFIED:20221121T213238Z
UID:10002456-1669464000-1669482000@www.suo.ca
SUMMARY:IDS CWI Re-Design Competition: Day 1
DESCRIPTION:As part of the campus waste initiative (CWI) of the Innovate\, Design\, Sustain (IDS) club\, the CWI Project Re-design is a week-long competition\, focusing on getting student designers engaged in the process of more efficient waste management by re-designing the visuals around campus. In the process\, IDS will be providing students with skill building opportunities in designing. \n  \nLocated: UNC 200
URL:https://www.suo.ca/event/ids-cwi-re-design-competition-day-1/
LOCATION:UNC 200 Ballroom\, 3272 University Way\, UNC200\, Kelowna\, British Columbia\, V1V 1V7\, Canada
CATEGORIES:All Ages,Student Associations
ATTACH;FMTTYPE=image/png:https://www.suo.ca/wp-content/uploads/2021/09/IDS_Logo_500x500.png
ORGANIZER;CN="Innovate Design Sustain Club":MAILTO:vpeventsidssuo@gmail.com
END:VEVENT
BEGIN:VEVENT
DTSTART;TZID=America/Vancouver:20221126T120000
DTEND;TZID=America/Vancouver:20221126T170000
DTSTAMP:20260421T225057
CREATED:20221123T180253Z
LAST-MODIFIED:20221123T180253Z
UID:10002463-1669464000-1669482000@www.suo.ca
SUMMARY:Cards and Board Games Event
DESCRIPTION:A way for senior community members to connect with university students through interactive games. \n  \nLocated: ART 104
URL:https://www.suo.ca/event/cards-and-board-games-event/
LOCATION:Arts Building\, UBCO Campus\, 1147 Research Road\, Kelowna\, British Columbia\, V1V 1V7\, Canada
CATEGORIES:All Ages,Student Associations
ATTACH;FMTTYPE=image/jpeg:https://www.suo.ca/wp-content/uploads/2021/09/Agelink-logo.jpg
ORGANIZER;CN="Age-Link":MAILTO:agelinksuo@gmail.com
END:VEVENT
BEGIN:VEVENT
DTSTART;TZID=America/Vancouver:20221126T140000
DTEND;TZID=America/Vancouver:20221126T160000
DTSTAMP:20260421T225057
CREATED:20221114T205904Z
LAST-MODIFIED:20221114T205904Z
UID:10002211-1669471200-1669478400@www.suo.ca
SUMMARY:CWI Project Re-Design: Success Day 7
DESCRIPTION:As part of the campus waste initiative (CWI) of the Innovate\, Design\, Sustain (IDS) club\, the CWI Project Re-design is a week-long competition\, focusing on getting student designers engaged in the process of more efficient waste management by re-designing the visuals around campus. Today\, we announce the winners of the competition and celebrate their drive for a more efficient waste management system on campus\, not to forget their skills in designing! \n  \nLocated: EME 0050
URL:https://www.suo.ca/event/cwi-project-re-design-success-day-7/
LOCATION:EME Building\, UBCO Campus\, 1137 Alumni Avenue\, Kelowna\, British Columbia\, V1V 1V7\, Canada
CATEGORIES:All Ages,Student Associations
ATTACH;FMTTYPE=image/jpeg:https://www.suo.ca/wp-content/uploads/2022/07/SUO-Student-Associations.jpg
ORGANIZER;CN="Innovate Design Sustain Club":MAILTO:vpeventsidssuo@gmail.com
END:VEVENT
BEGIN:VEVENT
DTSTART;TZID=America/Vancouver:20221126T190000
DTEND;TZID=America/Vancouver:20221126T203000
DTSTAMP:20260421T225057
CREATED:20221021T202217Z
LAST-MODIFIED:20221021T202311Z
UID:10002179-1669489200-1669494600@www.suo.ca
SUMMARY:Frostbeat
DESCRIPTION:After the past couple years\, we are pleased to announce the return of Frostbeat\, UBCO Beats’ 6th Annual Winter Concert! Join us as we explore the uniqueness of the human voice in this winter celebration for all! \n  \nLocated: ADM 026
URL:https://www.suo.ca/event/frostbeat/
LOCATION:ADM 026 Theatre\, 1138 Alumni Avenue\, Kelowna\, British Columbia\, V1V 1V7\, Canada
CATEGORIES:All Ages,Student Associations
ATTACH;FMTTYPE=image/png:https://www.suo.ca/wp-content/uploads/2022/10/Frostbeat.png
ORGANIZER;CN="The Beats":MAILTO:okanaganbeats@gmail.com
END:VEVENT
END:VCALENDAR