BEGIN:VCALENDAR
VERSION:2.0
PRODID:-//Students’ Union Okanagan of UBC - ECPv6.5.0//NONSGML v1.0//EN
CALSCALE:GREGORIAN
METHOD:PUBLISH
X-ORIGINAL-URL:https://www.suo.ca
X-WR-CALDESC:Events for Students’ Union Okanagan of UBC
REFRESH-INTERVAL;VALUE=DURATION:PT1H
X-Robots-Tag:noindex
X-PUBLISHED-TTL:PT1H
BEGIN:VTIMEZONE
TZID:America/Vancouver
BEGIN:DAYLIGHT
TZOFFSETFROM:-0800
TZOFFSETTO:-0700
TZNAME:PDT
DTSTART:20220313T100000
END:DAYLIGHT
BEGIN:STANDARD
TZOFFSETFROM:-0700
TZOFFSETTO:-0800
TZNAME:PST
DTSTART:20221106T090000
END:STANDARD
END:VTIMEZONE
BEGIN:VEVENT
DTSTART;TZID=America/Vancouver:20221129T100000
DTEND;TZID=America/Vancouver:20221129T140000
DTSTAMP:20260421T225056
CREATED:20221125T205856Z
LAST-MODIFIED:20221125T205856Z
UID:10002469-1669716000-1669730400@www.suo.ca
SUMMARY:What's your waste problem?
DESCRIPTION:A tabling event to share your waste-related problem on campus by filling out a whiteboard! \n  \nLocated: UNC Foyerids
URL:https://www.suo.ca/event/whats-your-waste-problem/
LOCATION:UNC Foyer\, UBCO Campus\, 3272 University Way\, Kelowna\, British Columbia\, V1V 1V7\, Canada
CATEGORIES:All Ages,Student Associations
ATTACH;FMTTYPE=image/png:https://www.suo.ca/wp-content/uploads/2021/09/IDS_Logo_500x500.png
ORGANIZER;CN="Innovate Design Sustain Club":MAILTO:vpeventsidssuo@gmail.com
END:VEVENT
BEGIN:VEVENT
DTSTART;TZID=America/Vancouver:20221129T110000
DTEND;TZID=America/Vancouver:20221129T140000
DTSTAMP:20260421T225056
CREATED:20221121T202215Z
LAST-MODIFIED:20221121T202541Z
UID:10002225-1669719600-1669730400@www.suo.ca
SUMMARY:Get to know Red Cross @ UBCO
DESCRIPTION:Introducing Red Cross to the UBCO community. The club Red Cross @ UBCO is starting and introducing itself. Come see us at our table and get more information about the club and the organization. \n  \nLocated: UNC Foyer. \n 
URL:https://www.suo.ca/event/get-to-know-red-cross-ubco/2022-11-29/
LOCATION:UNC Foyer\, UBCO Campus\, 3272 University Way\, Kelowna\, British Columbia\, V1V 1V7\, Canada
CATEGORIES:All Ages,Student Associations
ATTACH;FMTTYPE=image/jpeg:https://www.suo.ca/wp-content/uploads/2022/07/SUO-Student-Associations.jpg
ORGANIZER;CN="Red Cross Club":MAILTO:suoredcross@gmail.com
END:VEVENT
BEGIN:VEVENT
DTSTART;TZID=America/Vancouver:20221129T140000
DTEND;TZID=America/Vancouver:20221129T190000
DTSTAMP:20260421T225056
CREATED:20221007T182227Z
LAST-MODIFIED:20221007T182227Z
UID:10002126-1669730400-1669748400@www.suo.ca
SUMMARY:Local Business Fair
DESCRIPTION:We are planning to throw a business fair\, where we invite local businesses to set up stalls and provide them with a platform where they can sell their products to students. This would also provide the students to explore and find local businesses that they might like.
URL:https://www.suo.ca/event/local-business-fair/
LOCATION:UNC 200 Ballroom\, 3272 University Way\, UNC200\, Kelowna\, British Columbia\, V1V 1V7\, Canada
CATEGORIES:All Ages,Student Associations
ATTACH;FMTTYPE=image/png:https://www.suo.ca/wp-content/uploads/2021/05/Layer-1-1.png
ORGANIZER;CN="Pink Backpack Project":MAILTO:pinkbackpackproject@gmail.com
END:VEVENT
BEGIN:VEVENT
DTSTART;TZID=America/Vancouver:20221129T160000
DTEND;TZID=America/Vancouver:20221129T180000
DTSTAMP:20260421T225056
CREATED:20221104T190403Z
LAST-MODIFIED:20221104T190403Z
UID:10002429-1669737600-1669744800@www.suo.ca
SUMMARY:Talk and Tea
DESCRIPTION:Collaboration with Speech and Interview @ UBCO to provide tea while engaging in conversation. \n  \nLocated: FIP 124
URL:https://www.suo.ca/event/talk-and-tea/
LOCATION:FIPKE Building\, UBCO Campus\, 3247 University Way\, Kelowna\, British Columbia\, V1V 1V7\, Canada
CATEGORIES:All Ages,Student Associations
ATTACH;FMTTYPE=image/png:https://www.suo.ca/wp-content/uploads/2021/10/Tea-Club-Logo.png
ORGANIZER;CN="Tea Club":MAILTO:teaclubsuo@gmail.com
END:VEVENT
BEGIN:VEVENT
DTSTART;TZID=America/Vancouver:20221129T180000
DTEND;TZID=America/Vancouver:20221129T193000
DTSTAMP:20260421T225056
CREATED:20221116T181256Z
LAST-MODIFIED:20221116T181256Z
UID:10002216-1669744800-1669750200@www.suo.ca
SUMMARY:Scientific Communication workshop
DESCRIPTION:This event is intended to help science students to write honors/directed studies\, URA proposals along with lab reports. \n  \nLocated: SCI 333
URL:https://www.suo.ca/event/scientific-communication-workshop/
LOCATION:Science Building\, UBCO Campus\, 1177 Research Road\, Kelowna\, British Columbia\, V1V 1V7\, Canada
CATEGORIES:All Ages,Student Associations
ATTACH;FMTTYPE=image/png:https://www.suo.ca/wp-content/uploads/2021/08/BCCU-Logo-Black.png
ORGANIZER;CN="Biochemistry Course Union":MAILTO:bccu.suo@gmail.com
END:VEVENT
END:VCALENDAR