BEGIN:VCALENDAR
VERSION:2.0
PRODID:-//Students’ Union Okanagan of UBC - ECPv6.5.0//NONSGML v1.0//EN
CALSCALE:GREGORIAN
METHOD:PUBLISH
X-WR-CALNAME:Students’ Union Okanagan of UBC
X-ORIGINAL-URL:https://www.suo.ca
X-WR-CALDESC:Events for Students’ Union Okanagan of UBC
REFRESH-INTERVAL;VALUE=DURATION:PT1H
X-Robots-Tag:noindex
X-PUBLISHED-TTL:PT1H
BEGIN:VTIMEZONE
TZID:America/Vancouver
BEGIN:DAYLIGHT
TZOFFSETFROM:-0800
TZOFFSETTO:-0700
TZNAME:PDT
DTSTART:20220313T100000
END:DAYLIGHT
BEGIN:STANDARD
TZOFFSETFROM:-0700
TZOFFSETTO:-0800
TZNAME:PST
DTSTART:20221106T090000
END:STANDARD
END:VTIMEZONE
BEGIN:VEVENT
DTSTART;TZID=America/Vancouver:20221130T110000
DTEND;TZID=America/Vancouver:20221130T140000
DTSTAMP:20260422T004135
CREATED:20221121T202215Z
LAST-MODIFIED:20221121T202541Z
UID:10002226-1669806000-1669816800@www.suo.ca
SUMMARY:Get to know Red Cross @ UBCO
DESCRIPTION:Introducing Red Cross to the UBCO community. The club Red Cross @ UBCO is starting and introducing itself. Come see us at our table and get more information about the club and the organization. \n  \nLocated: UNC Foyer. \n 
URL:https://www.suo.ca/event/get-to-know-red-cross-ubco/2022-11-30/
LOCATION:UNC Foyer\, UBCO Campus\, 3272 University Way\, Kelowna\, British Columbia\, V1V 1V7\, Canada
CATEGORIES:All Ages,Student Associations
ATTACH;FMTTYPE=image/jpeg:https://www.suo.ca/wp-content/uploads/2022/07/SUO-Student-Associations.jpg
ORGANIZER;CN="Red Cross Club":MAILTO:suoredcross@gmail.com
END:VEVENT
BEGIN:VEVENT
DTSTART;TZID=America/Vancouver:20221130T153000
DTEND;TZID=America/Vancouver:20221130T170000
DTSTAMP:20260422T004135
CREATED:20221128T203400Z
LAST-MODIFIED:20221128T203400Z
UID:10002473-1669822200-1669827600@www.suo.ca
SUMMARY:Design Skill Development Session
DESCRIPTION:A free design work environment where designers can attend to get help and guidance about their current designs. \nLocated: EME 2111
URL:https://www.suo.ca/event/design-skill-development-session/
LOCATION:EME Building\, UBCO Campus\, 1137 Alumni Avenue\, Kelowna\, British Columbia\, V1V 1V7\, Canada
CATEGORIES:All Ages,Student Associations
ATTACH;FMTTYPE=image/png:https://www.suo.ca/wp-content/uploads/2021/09/IDS_Logo_500x500.png
ORGANIZER;CN="Innovate Design Sustain Club":MAILTO:vpeventsidssuo@gmail.com
END:VEVENT
BEGIN:VEVENT
DTSTART;TZID=America/Vancouver:20221130T183000
DTEND;TZID=America/Vancouver:20221130T210000
DTSTAMP:20260422T004135
CREATED:20221104T202141Z
LAST-MODIFIED:20221104T202141Z
UID:10002431-1669833000-1669842000@www.suo.ca
SUMMARY:General Meeting and Study Session
DESCRIPTION:Environmental Chemistry Course Union (ECCU) is hosting a General meeting for all Environmental Chemistry students on Nov. 30\, 2022. Students are encouraged to com voice there thoughts and hear about upcoming future events. A social study session will take place after the meeting. Upper year students will be available to offer support while also allowing others the opportunity to meet new friends and form their own study groups. \n  \nLocated: ART 108
URL:https://www.suo.ca/event/general-meeting-and-study-session/
LOCATION:Arts Building\, UBCO Campus\, 1147 Research Road\, Kelowna\, British Columbia\, V1V 1V7\, Canada
CATEGORIES:All Ages,Student Associations
ATTACH;FMTTYPE=image/jpeg:https://www.suo.ca/wp-content/uploads/2022/07/SUO-Student-Associations.jpg
ORGANIZER;CN="Environmental Chemistry Course Union":MAILTO:eccu.ench.okanagan@gmail.com
END:VEVENT
END:VCALENDAR