BEGIN:VCALENDAR
VERSION:2.0
PRODID:-//Students’ Union Okanagan of UBC - ECPv6.5.0//NONSGML v1.0//EN
CALSCALE:GREGORIAN
METHOD:PUBLISH
X-ORIGINAL-URL:https://www.suo.ca
X-WR-CALDESC:Events for Students’ Union Okanagan of UBC
REFRESH-INTERVAL;VALUE=DURATION:PT1H
X-Robots-Tag:noindex
X-PUBLISHED-TTL:PT1H
BEGIN:VTIMEZONE
TZID:America/Vancouver
BEGIN:DAYLIGHT
TZOFFSETFROM:-0800
TZOFFSETTO:-0700
TZNAME:PDT
DTSTART:20220313T100000
END:DAYLIGHT
BEGIN:STANDARD
TZOFFSETFROM:-0700
TZOFFSETTO:-0800
TZNAME:PST
DTSTART:20221106T090000
END:STANDARD
END:VTIMEZONE
BEGIN:VEVENT
DTSTART;TZID=America/Vancouver:20221201T110000
DTEND;TZID=America/Vancouver:20221201T123000
DTSTAMP:20260421T225056
CREATED:20221123T180533Z
LAST-MODIFIED:20221123T180533Z
UID:10002466-1669892400-1669897800@www.suo.ca
SUMMARY:Intro to LaTex with Prof. Chad
DESCRIPTION:Introduction to LaTex platform \n  \nLocated: EME 1101
URL:https://www.suo.ca/event/intro-to-latex-with-prof-chad/
LOCATION:EME Building\, UBCO Campus\, 1137 Alumni Avenue\, Kelowna\, British Columbia\, V1V 1V7\, Canada
CATEGORIES:All Ages,Student Associations
ATTACH;FMTTYPE=image/svg+xml:https://www.suo.ca/wp-content/uploads/2021/12/SUO-Logo.svg
ORGANIZER;CN="Quantitative Sciences Course Union":MAILTO:qscu.main@gmail.com
END:VEVENT
BEGIN:VEVENT
DTSTART;TZID=America/Vancouver:20221201T170000
DTEND;TZID=America/Vancouver:20221201T183000
DTSTAMP:20260421T225056
CREATED:20221026T183442Z
LAST-MODIFIED:20221026T183442Z
UID:10002413-1669914000-1669919400@www.suo.ca
SUMMARY:MUN Practices
DESCRIPTION:To teach our members the rules of MUN and prepare them for external competitions. \n  \nSee list below for full time and location details: \n\nNov 3\, 2022\, 5:00 PM – 6:30 PM RHS 260\nNov 10\, 2022\, 5:00 PM – 6:30 PM RHS 260\nNov 17\, 2022\, 5:30 PM – 7:00 PM RHS 260\nNov 24\, 2022\, 5:30 PM – 7:00 PM RHS 260\nDec 1\, 2022\, 5:30 PM – 7:00 PM RHS 260\nDec 8\, 2022\, 5:00 PM – 6:30 PM RHS 260\n\n 
URL:https://www.suo.ca/event/mun-practices/2022-12-01/
LOCATION:Reichwald Health Sciences Centre\, UBCO Campus\, 1088 Discovery Ave\, Kelowna\, British Columbia\, V1V 1V7\, Canada
CATEGORIES:All Ages,Student Associations
ORGANIZER;CN="Model United Nations":MAILTO:mun.ubco@gmail.com
END:VEVENT
BEGIN:VEVENT
DTSTART;TZID=America/Vancouver:20221201T183000
DTEND;TZID=America/Vancouver:20221201T200000
DTSTAMP:20260421T225056
CREATED:20221123T203531Z
LAST-MODIFIED:20221123T203531Z
UID:10002461-1669919400-1669924800@www.suo.ca
SUMMARY:Term 1 wrap up meeting
DESCRIPTION:Come join us and share your thoughts about BCCU events this term and what you would like to see in the next term! \n  \nLocated: SCI 333
URL:https://www.suo.ca/event/term-1-wrap-up-meeting/
LOCATION:Science Building\, UBCO Campus\, 1177 Research Road\, Kelowna\, British Columbia\, V1V 1V7\, Canada
CATEGORIES:All Ages,Student Associations
ATTACH;FMTTYPE=image/png:https://www.suo.ca/wp-content/uploads/2021/08/BCCU-Logo-Black.png
ORGANIZER;CN="Biochemistry Course Union":MAILTO:bccu.suo@gmail.com
END:VEVENT
BEGIN:VEVENT
DTSTART;TZID=America/Vancouver:20221201T190000
DTEND;TZID=America/Vancouver:20221201T200000
DTSTAMP:20260421T225056
CREATED:20221125T200323Z
LAST-MODIFIED:20221125T200323Z
UID:10002468-1669921200-1669924800@www.suo.ca
SUMMARY:Christmas Tea Workshop
DESCRIPTION:A tea connoisseur from Mister Tea in Kelowna BC will be hosting a tea making workshop in the global collegium. Admission is free\, but pre-registration is required. Tea and mugs will be provided 🙂 \n  \nLocated: Global Collegium (EME 0252)
URL:https://www.suo.ca/event/christmas-tea-workshop/
LOCATION:EME Building\, UBCO Campus\, 1137 Alumni Avenue\, Kelowna\, British Columbia\, V1V 1V7\, Canada
CATEGORIES:All Ages,Student Associations
ATTACH;FMTTYPE=image/png:https://www.suo.ca/wp-content/uploads/2021/10/Tea-Club-Logo.png
ORGANIZER;CN="Tea Club":MAILTO:teaclubsuo@gmail.com
END:VEVENT
END:VCALENDAR