BEGIN:VCALENDAR
VERSION:2.0
PRODID:-//Students’ Union Okanagan of UBC - ECPv6.5.0//NONSGML v1.0//EN
CALSCALE:GREGORIAN
METHOD:PUBLISH
X-ORIGINAL-URL:https://www.suo.ca
X-WR-CALDESC:Events for Students’ Union Okanagan of UBC
REFRESH-INTERVAL;VALUE=DURATION:PT1H
X-Robots-Tag:noindex
X-PUBLISHED-TTL:PT1H
BEGIN:VTIMEZONE
TZID:America/Vancouver
BEGIN:DAYLIGHT
TZOFFSETFROM:-0800
TZOFFSETTO:-0700
TZNAME:PDT
DTSTART:20220313T100000
END:DAYLIGHT
BEGIN:STANDARD
TZOFFSETFROM:-0700
TZOFFSETTO:-0800
TZNAME:PST
DTSTART:20221106T090000
END:STANDARD
END:VTIMEZONE
BEGIN:VEVENT
DTSTART;TZID=America/Vancouver:20221205T090000
DTEND;TZID=America/Vancouver:20221205T160000
DTSTAMP:20260422T004156
CREATED:20221130T171739Z
LAST-MODIFIED:20221130T171739Z
UID:10002481-1670230800-1670256000@www.suo.ca
SUMMARY:Chillin for Charity
DESCRIPTION:We will be setting up a booth to sell hot chocolate goodie bags which contain a hot chocolate mix\, candy canes\, marshmallows\, sprinkles\, and a disposable cup. Each bag costs $3 and we will also be asking people if they are willing to donate to the charity we are supporting Shinerama. \n  \nLocated: UNC 001A Foyer
URL:https://www.suo.ca/event/chillin-for-charity/
LOCATION:UNC Foyer\, UBCO Campus\, 3272 University Way\, Kelowna\, British Columbia\, V1V 1V7\, Canada
CATEGORIES:All Ages,Student Associations
ATTACH;FMTTYPE=image/jpeg:https://www.suo.ca/wp-content/uploads/2021/08/JDC-West-logo.jpg
ORGANIZER;CN="JDC West Club":MAILTO:captains@jdcwokanagan.com
END:VEVENT
BEGIN:VEVENT
DTSTART;TZID=America/Vancouver:20221205T110000
DTEND;TZID=America/Vancouver:20221205T120000
DTSTAMP:20260422T004156
CREATED:20221123T205051Z
LAST-MODIFIED:20221123T205051Z
UID:10002467-1670238000-1670241600@www.suo.ca
SUMMARY:Monthly Council Meeting - Dec
DESCRIPTION:Monthly Council Meeting – Dec \n  \nLocated: ART 281
URL:https://www.suo.ca/event/monthly-council-meeting-dec/
LOCATION:Arts Building\, UBCO Campus\, 1147 Research Road\, Kelowna\, British Columbia\, V1V 1V7\, Canada
CATEGORIES:All Ages,Student Associations
ATTACH;FMTTYPE=image/jpeg:https://www.suo.ca/wp-content/uploads/2022/07/SUO-Student-Associations.jpg
ORGANIZER;CN="Interdisciplinary Graduate Student Society":MAILTO:igsstudentsociety@gmail.com
END:VEVENT
BEGIN:VEVENT
DTSTART;TZID=America/Vancouver:20221205T110000
DTEND;TZID=America/Vancouver:20221205T140000
DTSTAMP:20260422T004156
CREATED:20221202T201824Z
LAST-MODIFIED:20221202T201933Z
UID:10002484-1670238000-1670248800@www.suo.ca
SUMMARY:The Great Gingerbread Off
DESCRIPTION:We will be hosting a gingerbread-making competition where we would provide the gingerbread houses. Each ticket would cost $10 and comes with a complimentary bubble tea on the day of the event\, which is premade by Simplee Boba and will be handed out by our executives. \n  \nLocated: \nUNC Foyer for Monday\, Tuesday\, and Thursday \nFIP foyer for Wednesday
URL:https://www.suo.ca/event/the-great-gingerbread-off-2/2022-12-05/
LOCATION:UNC Foyer\, UBCO Campus\, 3272 University Way\, Kelowna\, British Columbia\, V1V 1V7\, Canada
CATEGORIES:All Ages,Student Associations
ATTACH;FMTTYPE=image/jpeg:https://www.suo.ca/wp-content/uploads/2022/07/SUO-Student-Associations.jpg
ORGANIZER;CN="Filipino Student Association":MAILTO:fsasuo@gmail.com
END:VEVENT
BEGIN:VEVENT
DTSTART;TZID=America/Vancouver:20221205T140000
DTEND;TZID=America/Vancouver:20221205T170000
DTSTAMP:20260422T004156
CREATED:20221202T203206Z
LAST-MODIFIED:20221202T203206Z
UID:10002485-1670248800-1670259600@www.suo.ca
SUMMARY:Exam Season Ice Cream Handout
DESCRIPTION:The UBCO Ice Cream Club will be giving out free ice cream to passerby. Come by and snag a snack to help energize you for a day of studying ahead! We wish all students luck on their exams. \n  \nLocated: Fipke 101 Foyer
URL:https://www.suo.ca/event/exam-season-ice-cream-handout/
LOCATION:FIPKE Building\, UBCO Campus\, 3247 University Way\, Kelowna\, British Columbia\, V1V 1V7\, Canada
CATEGORIES:All Ages,Student Associations
ORGANIZER;CN="Ice Cream Club":MAILTO:icecreamclububco@gmail.com
END:VEVENT
END:VCALENDAR