BEGIN:VCALENDAR
VERSION:2.0
PRODID:-//Students’ Union Okanagan of UBC - ECPv6.5.0//NONSGML v1.0//EN
CALSCALE:GREGORIAN
METHOD:PUBLISH
X-ORIGINAL-URL:https://www.suo.ca
X-WR-CALDESC:Events for Students’ Union Okanagan of UBC
REFRESH-INTERVAL;VALUE=DURATION:PT1H
X-Robots-Tag:noindex
X-PUBLISHED-TTL:PT1H
BEGIN:VTIMEZONE
TZID:America/Vancouver
BEGIN:DAYLIGHT
TZOFFSETFROM:-0800
TZOFFSETTO:-0700
TZNAME:PDT
DTSTART:20220313T100000
END:DAYLIGHT
BEGIN:STANDARD
TZOFFSETFROM:-0700
TZOFFSETTO:-0800
TZNAME:PST
DTSTART:20221106T090000
END:STANDARD
END:VTIMEZONE
BEGIN:VEVENT
DTSTART;TZID=America/Vancouver:20221206T110000
DTEND;TZID=America/Vancouver:20221206T140000
DTSTAMP:20260422T024335
CREATED:20221202T201824Z
LAST-MODIFIED:20221202T201933Z
UID:10002490-1670324400-1670335200@www.suo.ca
SUMMARY:The Great Gingerbread Off
DESCRIPTION:We will be hosting a gingerbread-making competition where we would provide the gingerbread houses. Each ticket would cost $10 and comes with a complimentary bubble tea on the day of the event\, which is premade by Simplee Boba and will be handed out by our executives. \n  \nLocated: \nUNC Foyer for Monday\, Tuesday\, and Thursday \nFIP foyer for Wednesday
URL:https://www.suo.ca/event/the-great-gingerbread-off-2/2022-12-06/
LOCATION:UNC Foyer\, UBCO Campus\, 3272 University Way\, Kelowna\, British Columbia\, V1V 1V7\, Canada
CATEGORIES:All Ages,Student Associations
ATTACH;FMTTYPE=image/jpeg:https://www.suo.ca/wp-content/uploads/2022/07/SUO-Student-Associations.jpg
ORGANIZER;CN="Filipino Student Association":MAILTO:fsasuo@gmail.com
END:VEVENT
BEGIN:VEVENT
DTSTART;TZID=America/Vancouver:20221206T170000
DTEND;TZID=America/Vancouver:20221206T190000
DTSTAMP:20260422T024335
CREATED:20221123T175449Z
LAST-MODIFIED:20221123T175449Z
UID:10002460-1670346000-1670353200@www.suo.ca
SUMMARY:History Union Final Exam Study Session
DESCRIPTION:Need some help before finals? The History Union will be hosting their monthly study session on Tuesday December 6 from 5-7pm. These sessions are designed to be drop-in\, so if you have one quick question you can come and get it answered and be out within ten minutes or if you would like a place to study with people available to help when you need\, you can stay the whole two hours. Our executive members can help with final exam prep\, research aid\, citation style help\, you name it! \n  \nLocated: ART 104
URL:https://www.suo.ca/event/history-union-final-exam-study-session/
LOCATION:Arts Building\, UBCO Campus\, 1147 Research Road\, Kelowna\, British Columbia\, V1V 1V7\, Canada
CATEGORIES:All Ages,Student Associations
ORGANIZER;CN="History Course Union":MAILTO:hcuokanagan@gmail.com
END:VEVENT
BEGIN:VEVENT
DTSTART;TZID=America/Vancouver:20221206T183000
DTEND;TZID=America/Vancouver:20221206T213000
DTSTAMP:20260422T024335
CREATED:20221123T202848Z
LAST-MODIFIED:20221123T202848Z
UID:10002462-1670351400-1670362200@www.suo.ca
SUMMARY:Mental Health is Wealth Workshop
DESCRIPTION:This event will provide a destress environment for students that are approaching exam season and will have the opportunity to learn about burnout\, practice meditation\, practice breathwork\, and share their experiences dealing with stress and mental health. \n  \nLocated: EME 1202
URL:https://www.suo.ca/event/mental-health-is-wealth-workshop/
LOCATION:EME Building\, UBCO Campus\, 1137 Alumni Avenue\, Kelowna\, British Columbia\, V1V 1V7\, Canada
CATEGORIES:All Ages,Student Associations
ATTACH;FMTTYPE=image/jpeg:https://www.suo.ca/wp-content/uploads/2021/08/MSA-logo.jpg
ORGANIZER;CN="Management Students Association":MAILTO:academics@msasuo.ca
END:VEVENT
END:VCALENDAR