BEGIN:VCALENDAR
VERSION:2.0
PRODID:-//Students’ Union Okanagan of UBC - ECPv6.5.0//NONSGML v1.0//EN
CALSCALE:GREGORIAN
METHOD:PUBLISH
X-ORIGINAL-URL:https://www.suo.ca
X-WR-CALDESC:Events for Students’ Union Okanagan of UBC
REFRESH-INTERVAL;VALUE=DURATION:PT1H
X-Robots-Tag:noindex
X-PUBLISHED-TTL:PT1H
BEGIN:VTIMEZONE
TZID:America/Vancouver
BEGIN:DAYLIGHT
TZOFFSETFROM:-0800
TZOFFSETTO:-0700
TZNAME:PDT
DTSTART:20220313T100000
END:DAYLIGHT
BEGIN:STANDARD
TZOFFSETFROM:-0700
TZOFFSETTO:-0800
TZNAME:PST
DTSTART:20221106T090000
END:STANDARD
END:VTIMEZONE
BEGIN:VEVENT
DTSTART;TZID=America/Vancouver:20221207T110000
DTEND;TZID=America/Vancouver:20221207T140000
DTSTAMP:20260422T004156
CREATED:20221202T201824Z
LAST-MODIFIED:20221202T201933Z
UID:10002491-1670410800-1670421600@www.suo.ca
SUMMARY:The Great Gingerbread Off
DESCRIPTION:We will be hosting a gingerbread-making competition where we would provide the gingerbread houses. Each ticket would cost $10 and comes with a complimentary bubble tea on the day of the event\, which is premade by Simplee Boba and will be handed out by our executives. \n  \nLocated: \nUNC Foyer for Monday\, Tuesday\, and Thursday \nFIP foyer for Wednesday
URL:https://www.suo.ca/event/the-great-gingerbread-off-2/2022-12-07/
LOCATION:UNC Foyer\, UBCO Campus\, 3272 University Way\, Kelowna\, British Columbia\, V1V 1V7\, Canada
CATEGORIES:All Ages,Student Associations
ATTACH;FMTTYPE=image/jpeg:https://www.suo.ca/wp-content/uploads/2022/07/SUO-Student-Associations.jpg
ORGANIZER;CN="Filipino Student Association":MAILTO:fsasuo@gmail.com
END:VEVENT
BEGIN:VEVENT
DTSTART;TZID=America/Vancouver:20221207T174500
DTEND;TZID=America/Vancouver:20221207T201000
DTSTAMP:20260422T004156
CREATED:20221130T193518Z
LAST-MODIFIED:20221130T222340Z
UID:10002207-1670435100-1670443800@www.suo.ca
SUMMARY:Movie Night by Speech Club
DESCRIPTION:A movie night host by Speech club providing tea and snacks.\nPlaying “The King’s Speech” \n  \nLocated: Art 203
URL:https://www.suo.ca/event/movie-night-by-speech-club/
LOCATION:Arts Building\, UBCO Campus\, 1147 Research Road\, Kelowna\, British Columbia\, V1V 1V7\, Canada
CATEGORIES:All Ages,Student Associations
ATTACH;FMTTYPE=image/png:https://www.suo.ca/wp-content/uploads/2022/10/Speech_Interview_LOGO.png
ORGANIZER;CN="Speech & Interview Club":MAILTO:speech.interview.suo@gmail.com
END:VEVENT
BEGIN:VEVENT
DTSTART;TZID=America/Vancouver:20221207T180000
DTEND;TZID=America/Vancouver:20221207T200000
DTSTAMP:20260422T004156
CREATED:20221130T193740Z
LAST-MODIFIED:20221130T193740Z
UID:10002479-1670436000-1670443200@www.suo.ca
SUMMARY:ACSC General Meeting
DESCRIPTION:General meeting to get to know club members and discuss future ACSC events. \n  \nLocated: LIB 305
URL:https://www.suo.ca/event/acsc-general-meeting/
LOCATION:LIB 305\, UBCO Campus\, 3287 University Way\, Kelowna\, British Columbia\, V1V 1V7\, Canada
CATEGORIES:All Ages,Student Associations
ATTACH;FMTTYPE=image/jpeg:https://www.suo.ca/wp-content/uploads/2022/07/SUO-Student-Associations.jpg
ORGANIZER;CN="African Caribbean Student Club":MAILTO:acscsuo@gmail.com
END:VEVENT
BEGIN:VEVENT
DTSTART;TZID=America/Vancouver:20221207T190000
DTEND;TZID=America/Vancouver:20221207T210000
DTSTAMP:20260422T004156
CREATED:20221114T202049Z
LAST-MODIFIED:20221114T202049Z
UID:10002441-1670439600-1670446800@www.suo.ca
SUMMARY:Member's Night
DESCRIPTION:The members of the club will be gathering for a fun night of board games and food ! \n  \nLocated: EME 2111
URL:https://www.suo.ca/event/members-night/
LOCATION:EME Building\, UBCO Campus\, 1137 Alumni Avenue\, Kelowna\, British Columbia\, V1V 1V7\, Canada
CATEGORIES:All Ages,Student Associations
ATTACH;FMTTYPE=image/jpeg:https://www.suo.ca/wp-content/uploads/2022/07/SUO-Student-Associations.jpg
ORGANIZER;CN="Unite Dance Club":MAILTO:unitedanceclub1@gmail.com
END:VEVENT
END:VCALENDAR