BEGIN:VCALENDAR
VERSION:2.0
PRODID:-//Students’ Union Okanagan of UBC - ECPv6.5.0//NONSGML v1.0//EN
CALSCALE:GREGORIAN
METHOD:PUBLISH
X-WR-CALNAME:Students’ Union Okanagan of UBC
X-ORIGINAL-URL:https://www.suo.ca
X-WR-CALDESC:Events for Students’ Union Okanagan of UBC
REFRESH-INTERVAL;VALUE=DURATION:PT1H
X-Robots-Tag:noindex
X-PUBLISHED-TTL:PT1H
BEGIN:VTIMEZONE
TZID:America/Vancouver
BEGIN:DAYLIGHT
TZOFFSETFROM:-0800
TZOFFSETTO:-0700
TZNAME:PDT
DTSTART:20220313T100000
END:DAYLIGHT
BEGIN:STANDARD
TZOFFSETFROM:-0700
TZOFFSETTO:-0800
TZNAME:PST
DTSTART:20221106T090000
END:STANDARD
END:VTIMEZONE
BEGIN:VEVENT
DTSTART;TZID=America/Vancouver:20221208T110000
DTEND;TZID=America/Vancouver:20221208T140000
DTSTAMP:20260422T004135
CREATED:20221202T201824Z
LAST-MODIFIED:20221202T201933Z
UID:10002492-1670497200-1670508000@www.suo.ca
SUMMARY:The Great Gingerbread Off
DESCRIPTION:We will be hosting a gingerbread-making competition where we would provide the gingerbread houses. Each ticket would cost $10 and comes with a complimentary bubble tea on the day of the event\, which is premade by Simplee Boba and will be handed out by our executives. \n  \nLocated: \nUNC Foyer for Monday\, Tuesday\, and Thursday \nFIP foyer for Wednesday
URL:https://www.suo.ca/event/the-great-gingerbread-off-2/2022-12-08/
LOCATION:UNC Foyer\, UBCO Campus\, 3272 University Way\, Kelowna\, British Columbia\, V1V 1V7\, Canada
CATEGORIES:All Ages,Student Associations
ATTACH;FMTTYPE=image/jpeg:https://www.suo.ca/wp-content/uploads/2022/07/SUO-Student-Associations.jpg
ORGANIZER;CN="Filipino Student Association":MAILTO:fsasuo@gmail.com
END:VEVENT
BEGIN:VEVENT
DTSTART;TZID=America/Vancouver:20221208T120000
DTEND;TZID=America/Vancouver:20221208T160000
DTSTAMP:20260422T004135
CREATED:20221125T210111Z
LAST-MODIFIED:20221125T210111Z
UID:10002470-1670500800-1670515200@www.suo.ca
SUMMARY:Fundraiser Bake Sale
DESCRIPTION:This event will be a fundraiser in collaboration with NGO Niteo-Africa Society. All proceeds from the sale will go towards this NGO (non-profit organization). Small care packages with various baked products will be available to pick up on December 8th. \n  \nLocated: UNC Foyer.
URL:https://www.suo.ca/event/fundraiser-bake-sale/
LOCATION:UNC Foyer\, UBCO Campus\, 3272 University Way\, Kelowna\, British Columbia\, V1V 1V7\, Canada
CATEGORIES:All Ages,Student Associations
ATTACH;FMTTYPE=image/jpeg:https://www.suo.ca/wp-content/uploads/2022/07/SUO-Student-Associations.jpg
ORGANIZER;CN="NITEO-Africa Club":MAILTO:niteoafricasuo@gmail.com
END:VEVENT
BEGIN:VEVENT
DTSTART;TZID=America/Vancouver:20221208T140000
DTEND;TZID=America/Vancouver:20221208T170000
DTSTAMP:20260422T004135
CREATED:20221202T212719Z
LAST-MODIFIED:20221202T212719Z
UID:10002858-1670508000-1670518800@www.suo.ca
SUMMARY:Winter/Holiday Meet up
DESCRIPTION:Gathering that involves holiday snacks\, anyone is welcome. \n  \nLocated: UNC 001 Foyer.
URL:https://www.suo.ca/event/winter-holiday-meet-up/
LOCATION:UNC Foyer\, UBCO Campus\, 3272 University Way\, Kelowna\, British Columbia\, V1V 1V7\, Canada
CATEGORIES:All Ages,Student Associations
ORGANIZER;CN="Peer Support Network":MAILTO:psn@suo.ca
END:VEVENT
BEGIN:VEVENT
DTSTART;TZID=America/Vancouver:20221208T170000
DTEND;TZID=America/Vancouver:20221208T183000
DTSTAMP:20260422T004135
CREATED:20221026T183442Z
LAST-MODIFIED:20221026T183442Z
UID:10002414-1670518800-1670524200@www.suo.ca
SUMMARY:MUN Practices
DESCRIPTION:To teach our members the rules of MUN and prepare them for external competitions. \n  \nSee list below for full time and location details: \n\nNov 3\, 2022\, 5:00 PM – 6:30 PM RHS 260\nNov 10\, 2022\, 5:00 PM – 6:30 PM RHS 260\nNov 17\, 2022\, 5:30 PM – 7:00 PM RHS 260\nNov 24\, 2022\, 5:30 PM – 7:00 PM RHS 260\nDec 1\, 2022\, 5:30 PM – 7:00 PM RHS 260\nDec 8\, 2022\, 5:00 PM – 6:30 PM RHS 260\n\n 
URL:https://www.suo.ca/event/mun-practices/2022-12-08/
LOCATION:Reichwald Health Sciences Centre\, UBCO Campus\, 1088 Discovery Ave\, Kelowna\, British Columbia\, V1V 1V7\, Canada
CATEGORIES:All Ages,Student Associations
ORGANIZER;CN="Model United Nations":MAILTO:mun.ubco@gmail.com
END:VEVENT
BEGIN:VEVENT
DTSTART;TZID=America/Vancouver:20221208T170000
DTEND;TZID=America/Vancouver:20221208T193000
DTSTAMP:20260422T004135
CREATED:20221114T201555Z
LAST-MODIFIED:20221114T201555Z
UID:10002440-1670518800-1670527800@www.suo.ca
SUMMARY:GEESC Trivia Night
DESCRIPTION:A night of trivia fun and pizza. \n  \nLocated: ART 112 \n  \n 
URL:https://www.suo.ca/event/geesc-trivia-night/
LOCATION:Arts Building\, UBCO Campus\, 1147 Research Road\, Kelowna\, British Columbia\, V1V 1V7\, Canada
CATEGORIES:All Ages,Student Associations
ATTACH;FMTTYPE=image/jpeg:https://www.suo.ca/wp-content/uploads/2022/07/SUO-Student-Associations.jpg
ORGANIZER;CN="Graduates of Earth and Environmental Sciences":MAILTO:geesc.ubco@gmail.com
END:VEVENT
END:VCALENDAR