BEGIN:VCALENDAR
VERSION:2.0
PRODID:-//Students’ Union Okanagan of UBC - ECPv6.5.0//NONSGML v1.0//EN
CALSCALE:GREGORIAN
METHOD:PUBLISH
X-ORIGINAL-URL:https://www.suo.ca
X-WR-CALDESC:Events for Students’ Union Okanagan of UBC
REFRESH-INTERVAL;VALUE=DURATION:PT1H
X-Robots-Tag:noindex
X-PUBLISHED-TTL:PT1H
BEGIN:VTIMEZONE
TZID:America/Vancouver
BEGIN:DAYLIGHT
TZOFFSETFROM:-0800
TZOFFSETTO:-0700
TZNAME:PDT
DTSTART:20220313T100000
END:DAYLIGHT
BEGIN:STANDARD
TZOFFSETFROM:-0700
TZOFFSETTO:-0800
TZNAME:PST
DTSTART:20221106T090000
END:STANDARD
END:VTIMEZONE
BEGIN:VEVENT
DTSTART;TZID=America/Vancouver:20221217T170000
DTEND;TZID=America/Vancouver:20221217T220000
DTSTAMP:20260422T061348
CREATED:20221104T214501Z
LAST-MODIFIED:20221104T221741Z
UID:10002435-1671296400-1671314400@www.suo.ca
SUMMARY:Yalda Night
DESCRIPTION:Based on the solar hijri calendar\, Iranian celebrate the last day of the fall as the longest night\, which is so called Yalda night. We would like to gather and celebrate this amazing tradition together with Iranian community. \nLocated: UNC 200 \nEventbrite Tickets HERE!
URL:https://www.suo.ca/event/yalda-night/
LOCATION:UNC 200 Ballroom\, 3272 University Way\, UNC200\, Kelowna\, British Columbia\, V1V 1V7\, Canada
CATEGORIES:All Ages,Student Associations
ATTACH;FMTTYPE=image/jpeg:https://www.suo.ca/wp-content/uploads/2022/07/SUO-Student-Associations.jpg
ORGANIZER;CN="Persian Club":MAILTO:persianclub.ubco@gmail.com
END:VEVENT
END:VCALENDAR