BEGIN:VCALENDAR
VERSION:2.0
PRODID:-//Students’ Union Okanagan of UBC - ECPv6.5.0//NONSGML v1.0//EN
CALSCALE:GREGORIAN
METHOD:PUBLISH
X-WR-CALNAME:Students’ Union Okanagan of UBC
X-ORIGINAL-URL:https://www.suo.ca
X-WR-CALDESC:Events for Students’ Union Okanagan of UBC
REFRESH-INTERVAL;VALUE=DURATION:PT1H
X-Robots-Tag:noindex
X-PUBLISHED-TTL:PT1H
BEGIN:VTIMEZONE
TZID:America/Vancouver
BEGIN:DAYLIGHT
TZOFFSETFROM:-0800
TZOFFSETTO:-0700
TZNAME:PDT
DTSTART:20220313T100000
END:DAYLIGHT
BEGIN:STANDARD
TZOFFSETFROM:-0700
TZOFFSETTO:-0800
TZNAME:PST
DTSTART:20221106T090000
END:STANDARD
END:VTIMEZONE
BEGIN:VEVENT
DTSTART;TZID=America/Vancouver:20221231T160000
DTEND;TZID=America/Vancouver:20221231T220000
DTSTAMP:20260422T113521
CREATED:20221114T202342Z
LAST-MODIFIED:20221114T202342Z
UID:10002442-1672502400-1672524000@www.suo.ca
SUMMARY:Ballroom New Years Dance Party
DESCRIPTION:Come join the Ballroom Dance Club for a New York New Years Eve party! We’ll be celebrating the new year on New York Time\, where midnight there is 9pm here. Come dance to bring in 2023. Details will be announced on our social media @ballroomdanceubco \n  \nLocated: UNC 200 ballroom
URL:https://www.suo.ca/event/ballroom-new-years-dance-party/
LOCATION:UNC 200 Ballroom\, 3272 University Way\, UNC200\, Kelowna\, British Columbia\, V1V 1V7\, Canada
CATEGORIES:All Ages,Student Associations
ATTACH;FMTTYPE=image/jpeg:https://www.suo.ca/wp-content/uploads/2022/07/SUO-Student-Associations.jpg
ORGANIZER;CN="Ballroom Dance Club":MAILTO:ballroomdancesuo@gmail.com
END:VEVENT
END:VCALENDAR