BEGIN:VCALENDAR
VERSION:2.0
PRODID:-//Students’ Union Okanagan of UBC - ECPv6.5.0//NONSGML v1.0//EN
CALSCALE:GREGORIAN
METHOD:PUBLISH
X-ORIGINAL-URL:https://www.suo.ca
X-WR-CALDESC:Events for Students’ Union Okanagan of UBC
REFRESH-INTERVAL;VALUE=DURATION:PT1H
X-Robots-Tag:noindex
X-PUBLISHED-TTL:PT1H
BEGIN:VTIMEZONE
TZID:America/Vancouver
BEGIN:DAYLIGHT
TZOFFSETFROM:-0800
TZOFFSETTO:-0700
TZNAME:PDT
DTSTART:20230312T100000
END:DAYLIGHT
BEGIN:STANDARD
TZOFFSETFROM:-0700
TZOFFSETTO:-0800
TZNAME:PST
DTSTART:20231105T090000
END:STANDARD
END:VTIMEZONE
BEGIN:VEVENT
DTSTART;TZID=America/Vancouver:20230117T110000
DTEND;TZID=America/Vancouver:20230117T140000
DTSTAMP:20260422T024335
CREATED:20230111T215224Z
LAST-MODIFIED:20230111T215224Z
UID:10002956-1673953200-1673964000@www.suo.ca
SUMMARY:ASA Lunar New Year Dinner Ticket Sales
DESCRIPTION:Selling of tickets to our Lunar New Year Dinner event on January 22nd + Merch and memberships \n  \nLocated: UNC 001A
URL:https://www.suo.ca/event/asa-lunar-new-year-dinner-ticket-sales/2023-01-17/
LOCATION:UNC Foyer\, UBCO Campus\, 3272 University Way\, Kelowna\, British Columbia\, V1V 1V7\, Canada
CATEGORIES:All Ages,Student Associations
ORGANIZER;CN="Asian Student Association":MAILTO:asianstudentassociationsuo@gmail.com
END:VEVENT
BEGIN:VEVENT
DTSTART;TZID=America/Vancouver:20230117T120000
DTEND;TZID=America/Vancouver:20230117T160000
DTSTAMP:20260422T024335
CREATED:20221202T210429Z
LAST-MODIFIED:20221202T210429Z
UID:10002489-1673956800-1673971200@www.suo.ca
SUMMARY:Cultural Showcase - MGMT Week
DESCRIPTION:As part of MGMT Week\, the Management Student Association is collaborating with a variety of other student associations to partake in our Cultural Showcase! The purpose of this event is to educate students on the importance of understanding others’ culture and how it impacts our relationships when working others. Students and UBCO community members are invited to the UNC Ballroom on Jan 17\, to experience the inspiration of our diverse environment at UBCO. \n  \nLocated: UNC 200 Ballroom
URL:https://www.suo.ca/event/cultural-showcase-mgmt-week/
LOCATION:UNC 200 Ballroom\, 3272 University Way\, UNC200\, Kelowna\, British Columbia\, V1V 1V7\, Canada
CATEGORIES:All Ages,Student Associations
ATTACH;FMTTYPE=image/jpeg:https://www.suo.ca/wp-content/uploads/2021/08/MSA-logo.jpg
ORGANIZER;CN="Management Students Association":MAILTO:academics@msasuo.ca
END:VEVENT
BEGIN:VEVENT
DTSTART;TZID=America/Vancouver:20230117T170000
DTEND;TZID=America/Vancouver:20230117T220000
DTSTAMP:20260422T024335
CREATED:20230112T234610Z
LAST-MODIFIED:20230112T234610Z
UID:10002940-1673974800-1673992800@www.suo.ca
SUMMARY:Tuesday Game Night
DESCRIPTION:Come down and play board games every Tuesday from 5-10! The first Tuesday of every month will also be a miniature painting night\, with all supplies provided by the club. \n  \nLocated: ART 110 and 114
URL:https://www.suo.ca/event/tuesday-game-night/2023-01-17/
LOCATION:Arts Building\, UBCO Campus\, 1147 Research Road\, Kelowna\, British Columbia\, V1V 1V7\, Canada
CATEGORIES:All Ages,Student Associations
ATTACH;FMTTYPE=image/jpeg:https://www.suo.ca/wp-content/uploads/2022/07/SUO-Student-Associations.jpg
ORGANIZER;CN="Games Club":MAILTO:gamesclubokanagan@gmail.com
END:VEVENT
BEGIN:VEVENT
DTSTART;TZID=America/Vancouver:20230117T180000
DTEND;TZID=America/Vancouver:20230117T210000
DTSTAMP:20260422T024335
CREATED:20221114T203050Z
LAST-MODIFIED:20221125T213929Z
UID:10002444-1673978400-1673989200@www.suo.ca
SUMMARY:Medieval Club Meeting
DESCRIPTION:The Medieval club is happy to be teaching and demonstrating period style swordsmanship techniques. There will also be period appropriate arts and sciences demonstrations and workshops depending on the week. Check us out on Instagram\, Discord\, or Facebook to find out more! \nDiscord: https://discord.com/invite/kw33HrZqfD \nInstagram: https://www.instagram.com/ubco_medieval_club/ \nFacebook: https://www.facebook.com/groups/1648507338766645 \n  \nThis is a weekly recurring event. \nLocated: UNC 200 ballroom.
URL:https://www.suo.ca/event/medieval-club-meeting/2023-01-17/
LOCATION:UNC 200 Ballroom\, 3272 University Way\, UNC200\, Kelowna\, British Columbia\, V1V 1V7\, Canada
CATEGORIES:All Ages,Student Associations
ATTACH;FMTTYPE=image/jpeg:https://www.suo.ca/wp-content/uploads/2022/07/SUO-Student-Associations.jpg
ORGANIZER;CN="Medieval Club UBCO":MAILTO:UBCOMedievalClub@hotmail.com
END:VEVENT
END:VCALENDAR