BEGIN:VCALENDAR
VERSION:2.0
PRODID:-//Students’ Union Okanagan of UBC - ECPv6.5.0//NONSGML v1.0//EN
CALSCALE:GREGORIAN
METHOD:PUBLISH
X-WR-CALNAME:Students’ Union Okanagan of UBC
X-ORIGINAL-URL:https://www.suo.ca
X-WR-CALDESC:Events for Students’ Union Okanagan of UBC
REFRESH-INTERVAL;VALUE=DURATION:PT1H
X-Robots-Tag:noindex
X-PUBLISHED-TTL:PT1H
BEGIN:VTIMEZONE
TZID:America/Vancouver
BEGIN:DAYLIGHT
TZOFFSETFROM:-0800
TZOFFSETTO:-0700
TZNAME:PDT
DTSTART:20230312T100000
END:DAYLIGHT
BEGIN:STANDARD
TZOFFSETFROM:-0700
TZOFFSETTO:-0800
TZNAME:PST
DTSTART:20231105T090000
END:STANDARD
END:VTIMEZONE
BEGIN:VEVENT
DTSTART;TZID=America/Vancouver:20230119T110000
DTEND;TZID=America/Vancouver:20230119T140000
DTSTAMP:20260422T063251
CREATED:20230111T215224Z
LAST-MODIFIED:20230111T215224Z
UID:10002958-1674126000-1674136800@www.suo.ca
SUMMARY:ASA Lunar New Year Dinner Ticket Sales
DESCRIPTION:Selling of tickets to our Lunar New Year Dinner event on January 22nd + Merch and memberships \n  \nLocated: UNC 001A
URL:https://www.suo.ca/event/asa-lunar-new-year-dinner-ticket-sales/2023-01-19/
LOCATION:UNC Foyer\, UBCO Campus\, 3272 University Way\, Kelowna\, British Columbia\, V1V 1V7\, Canada
CATEGORIES:All Ages,Student Associations
ORGANIZER;CN="Asian Student Association":MAILTO:asianstudentassociationsuo@gmail.com
END:VEVENT
BEGIN:VEVENT
DTSTART;TZID=America/Vancouver:20230119T173000
DTEND;TZID=America/Vancouver:20230119T203000
DTSTAMP:20260422T063251
CREATED:20230111T180521Z
LAST-MODIFIED:20230111T180521Z
UID:10002926-1674149400-1674160200@www.suo.ca
SUMMARY:Alberta Sovereignty Act
DESCRIPTION:Jesse Hartery will be giving a talk on the constitutional legal debate surrounding the recent passing of the Alberta Sovereignty Act by the Alberta government. \n  \nLocated: ART 376 \n 
URL:https://www.suo.ca/event/alberta-sovereignty-act/
LOCATION:Arts Building\, UBCO Campus\, 1147 Research Road\, Kelowna\, British Columbia\, V1V 1V7\, Canada
CATEGORIES:All Ages,Student Associations
ATTACH;FMTTYPE=image/jpeg:https://www.suo.ca/wp-content/uploads/2022/07/SUO-Student-Associations.jpg
ORGANIZER;CN="Runnymede Society":MAILTO:suorunnymede@gmail.com
END:VEVENT
BEGIN:VEVENT
DTSTART;TZID=America/Vancouver:20230119T184500
DTEND;TZID=America/Vancouver:20230119T194500
DTSTAMP:20260422T063251
CREATED:20221215T192106Z
LAST-MODIFIED:20221215T192106Z
UID:10002889-1674153900-1674157500@www.suo.ca
SUMMARY:Intro to Lifting: Learn to Deadlift
DESCRIPTION:Girls Who Lift @ UBCO presents our first workshop of the semester in collaboration with Temenos Athletics. With this movement-based workshop\, members will learn the basics of the deadlift\, both conventional and sumo style\, practice their movement and test their maxes at the end!
URL:https://www.suo.ca/event/intro-to-lifting-learn-to-deadlift/
LOCATION:Temenos Athletics\, 1155 St Paul St\, Kelowna\, British Columbia\, V1Y 2C6\, Canada
CATEGORIES:All Ages,Student Associations
ATTACH;FMTTYPE=image/jpeg:https://www.suo.ca/wp-content/uploads/2022/07/SUO-Student-Associations.jpg
ORGANIZER;CN="Girls Who Lift":MAILTO:girlswholiftsuo@gmail.com
END:VEVENT
END:VCALENDAR