BEGIN:VCALENDAR
VERSION:2.0
PRODID:-//Students’ Union Okanagan of UBC - ECPv6.5.0//NONSGML v1.0//EN
CALSCALE:GREGORIAN
METHOD:PUBLISH
X-WR-CALNAME:Students’ Union Okanagan of UBC
X-ORIGINAL-URL:https://www.suo.ca
X-WR-CALDESC:Events for Students’ Union Okanagan of UBC
REFRESH-INTERVAL;VALUE=DURATION:PT1H
X-Robots-Tag:noindex
X-PUBLISHED-TTL:PT1H
BEGIN:VTIMEZONE
TZID:America/Vancouver
BEGIN:DAYLIGHT
TZOFFSETFROM:-0800
TZOFFSETTO:-0700
TZNAME:PDT
DTSTART:20230312T100000
END:DAYLIGHT
BEGIN:STANDARD
TZOFFSETFROM:-0700
TZOFFSETTO:-0800
TZNAME:PST
DTSTART:20231105T090000
END:STANDARD
END:VTIMEZONE
BEGIN:VEVENT
DTSTART;TZID=America/Vancouver:20230126T120000
DTEND;TZID=America/Vancouver:20230126T160000
DTSTAMP:20260422T024324
CREATED:20230125T193340Z
LAST-MODIFIED:20230125T193340Z
UID:10003082-1674734400-1674748800@www.suo.ca
SUMMARY:Recruitment Booth
DESCRIPTION:Come and say hi to our club members from 12-4 and grab some free hot chocolate and snacks! We are looking to recruit general members as part of our club\, particularly people interested in mental health & wellness. \n  \nLocated: UNC 001 Foyer
URL:https://www.suo.ca/event/recruitment-booth/
LOCATION:UNC Foyer\, UBCO Campus\, 3272 University Way\, Kelowna\, British Columbia\, V1V 1V7\, Canada
CATEGORIES:All Ages,Student Associations
ATTACH;FMTTYPE=image/jpeg:https://www.suo.ca/wp-content/uploads/2022/07/SUO-Student-Associations.jpg
ORGANIZER;CN="Jack.Org UBCO":MAILTO:ubcojack.org@gmail.com
END:VEVENT
BEGIN:VEVENT
DTSTART;TZID=America/Vancouver:20230126T120000
DTEND;TZID=America/Vancouver:20230126T170000
DTSTAMP:20260422T024324
CREATED:20230124T201842Z
LAST-MODIFIED:20230124T201842Z
UID:10003062-1674734400-1674752400@www.suo.ca
SUMMARY:Trivia Booth
DESCRIPTION:This is an interactive booth where we display some of our work as a club and give people a chance to ask us about our activities. \n  \nLocated: UNC 001a Foyer
URL:https://www.suo.ca/event/trivia-booth/
LOCATION:UNC Foyer\, UBCO Campus\, 3272 University Way\, Kelowna\, British Columbia\, V1V 1V7\, Canada
CATEGORIES:All Ages,Student Associations
ORGANIZER;CN="Muslim Student Association":MAILTO:msa.ubcokanagan@gmail.com
END:VEVENT
BEGIN:VEVENT
DTSTART;TZID=America/Vancouver:20230126T180000
DTEND;TZID=America/Vancouver:20230126T193000
DTSTAMP:20260422T024324
CREATED:20230118T211951Z
LAST-MODIFIED:20230118T211951Z
UID:10003041-1674756000-1674761400@www.suo.ca
SUMMARY:Piano Jam Session
DESCRIPTION:Students get together for a piano jam session in Ballroom. \nLocated: UNC 200
URL:https://www.suo.ca/event/piano-jam-session/
LOCATION:UNC 200 Ballroom\, 3272 University Way\, UNC200\, Kelowna\, British Columbia\, V1V 1V7\, Canada
CATEGORIES:All Ages,Student Associations
ATTACH;FMTTYPE=image/jpeg:https://www.suo.ca/wp-content/uploads/2022/07/SUO-Student-Associations.jpg
ORGANIZER;CN="Piano Club":MAILTO:pianoclub.kelowna@gmail.com
END:VEVENT
BEGIN:VEVENT
DTSTART;TZID=America/Vancouver:20230126T190000
DTEND;TZID=America/Vancouver:20230126T203000
DTSTAMP:20260422T024324
CREATED:20230112T233309Z
LAST-MODIFIED:20230727T182506Z
UID:10002966-1674759600-1674765000@www.suo.ca
SUMMARY:Large Animal Husbandry with Dr. Thurgood
DESCRIPTION:Come join us at 7pm on January 26 via Zoom to learn about large animal husbandry and the ways it correlates with disease. Presented by mixed-animal Veterinarian Dr. Jay Thurgood. \nContact the Pre-Vet club at UBCO for registration details. \nLocated: Zoom
URL:https://www.suo.ca/event/large-animal-husbandry-with-dr-thurgood/
LOCATION:British Columbia
CATEGORIES:All Ages,Student Associations
ORGANIZER;CN="Pre-Vet Club":MAILTO:prevetclub.okanagan@outlook.com
END:VEVENT
BEGIN:VEVENT
DTSTART;TZID=America/Vancouver:20230126T190000
DTEND;TZID=America/Vancouver:20230126T203000
DTSTAMP:20260422T024324
CREATED:20230118T211650Z
LAST-MODIFIED:20230118T211650Z
UID:10002965-1674759600-1674765000@www.suo.ca
SUMMARY:HCU Annual General Meeting
DESCRIPTION:This is our Annual General Meeting required by the SUO bylaws. At this meeting we will discuss our semester event\, the history gala\, volunteering\, museum partnerships\, and nominations for the next year. \n  \nLocated: ART 104
URL:https://www.suo.ca/event/hcu-annual-general-meeting/
LOCATION:Arts Building\, UBCO Campus\, 1147 Research Road\, Kelowna\, British Columbia\, V1V 1V7\, Canada
CATEGORIES:All Ages,Student Associations
ORGANIZER;CN="History Course Union":MAILTO:hcuokanagan@gmail.com
END:VEVENT
END:VCALENDAR