BEGIN:VCALENDAR
VERSION:2.0
PRODID:-//Students’ Union Okanagan of UBC - ECPv6.5.0//NONSGML v1.0//EN
CALSCALE:GREGORIAN
METHOD:PUBLISH
X-WR-CALNAME:Students’ Union Okanagan of UBC
X-ORIGINAL-URL:https://www.suo.ca
X-WR-CALDESC:Events for Students’ Union Okanagan of UBC
REFRESH-INTERVAL;VALUE=DURATION:PT1H
X-Robots-Tag:noindex
X-PUBLISHED-TTL:PT1H
BEGIN:VTIMEZONE
TZID:America/Vancouver
BEGIN:DAYLIGHT
TZOFFSETFROM:-0800
TZOFFSETTO:-0700
TZNAME:PDT
DTSTART:20230312T100000
END:DAYLIGHT
BEGIN:STANDARD
TZOFFSETFROM:-0700
TZOFFSETTO:-0800
TZNAME:PST
DTSTART:20231105T090000
END:STANDARD
END:VTIMEZONE
BEGIN:VEVENT
DTSTART;TZID=America/Vancouver:20230127T170000
DTEND;TZID=America/Vancouver:20230127T182000
DTSTAMP:20260422T025500
CREATED:20230124T213221Z
LAST-MODIFIED:20230124T213221Z
UID:10003061-1674838800-1674843600@www.suo.ca
SUMMARY:Bi-weekly Gathering
DESCRIPTION:One week of cultural event; the other week of an event introducing Christianity in Korea. \n  \nLocated: FIP 140
URL:https://www.suo.ca/event/bi-weekly-gathering/2023-01-27/
LOCATION:FIPKE Building\, UBCO Campus\, 3247 University Way\, Kelowna\, British Columbia\, V1V 1V7\, Canada
CATEGORIES:All Ages,Student Associations
ATTACH;FMTTYPE=image/jpeg:https://www.suo.ca/wp-content/uploads/2022/07/SUO-Student-Associations.jpg
ORGANIZER;CN="Korean Culture & Church History Study Club":MAILTO:kcchubco@gmail.com
END:VEVENT
BEGIN:VEVENT
DTSTART;TZID=America/Vancouver:20230127T173000
DTEND;TZID=America/Vancouver:20230127T193000
DTSTAMP:20260422T025500
CREATED:20230118T174038Z
LAST-MODIFIED:20230118T174038Z
UID:10002983-1674840600-1674847800@www.suo.ca
SUMMARY:FSA Tambayan
DESCRIPTION:Tambayan is a fun and FREE social event where people can make friends\, and learn about our club and Filipino culture! We will be providing snacks\, drinks and interactive games. \n  \nLocated: EME Global Collegium EME 0252
URL:https://www.suo.ca/event/fsa-tambayan/
LOCATION:EME Building\, UBCO Campus\, 1137 Alumni Avenue\, Kelowna\, British Columbia\, V1V 1V7\, Canada
CATEGORIES:All Ages,Student Associations
ORGANIZER;CN="Filipino Student Association":MAILTO:fsasuo@gmail.com
END:VEVENT
BEGIN:VEVENT
DTSTART;TZID=America/Vancouver:20230127T180000
DTEND;TZID=America/Vancouver:20230127T200000
DTSTAMP:20260422T025500
CREATED:20230118T171510Z
LAST-MODIFIED:20230118T171510Z
UID:10002989-1674842400-1674849600@www.suo.ca
SUMMARY:Movie and Art!
DESCRIPTION:We will host our first welcome event named “Movie and Art”. This event consists of painting or drawing on canvas. Material will be provided for students and a movie will be played also in the background. \n  \nLocated: UNC 200
URL:https://www.suo.ca/event/movie-and-art/
LOCATION:UNC 200 Ballroom\, 3272 University Way\, UNC200\, Kelowna\, British Columbia\, V1V 1V7\, Canada
CATEGORIES:All Ages,Student Associations
ATTACH;FMTTYPE=image/jpeg:https://www.suo.ca/wp-content/uploads/2022/07/SUO-Student-Associations.jpg
ORGANIZER;CN="Mood Psychology Club":MAILTO:moodpsychologyubco@gmail.com
END:VEVENT
BEGIN:VEVENT
DTSTART;TZID=America/Vancouver:20230127T180000
DTEND;TZID=America/Vancouver:20230127T220000
DTSTAMP:20260422T025500
CREATED:20230124T205622Z
LAST-MODIFIED:20230124T205622Z
UID:10003060-1674842400-1674856800@www.suo.ca
SUMMARY:Jam sessions
DESCRIPTION:This event is for students to be able to find a safe space to create and learn music with other students on campus. This would allow musicians on campus to interact with each other and also make new friends. \n  \nLocated: FIP 204
URL:https://www.suo.ca/event/jam-sessions/2023-01-27/
LOCATION:FIPKE Building\, UBCO Campus\, 3247 University Way\, Kelowna\, British Columbia\, V1V 1V7\, Canada
CATEGORIES:All Ages,Student Associations
ATTACH;FMTTYPE=image/jpeg:https://www.suo.ca/wp-content/uploads/2022/07/SUO-Student-Associations.jpg
ORGANIZER;CN="Rock N Roll Club":MAILTO:ubcorocknrollclub@gmail.com
END:VEVENT
BEGIN:VEVENT
DTSTART;TZID=America/Vancouver:20230127T183000
DTEND;TZID=America/Vancouver:20230127T200000
DTSTAMP:20260422T025500
CREATED:20230111T204109Z
LAST-MODIFIED:20230111T204109Z
UID:10002903-1674844200-1674849600@www.suo.ca
SUMMARY:Kombucha Making Workshop
DESCRIPTION:Join the MCU to learn how to make your own Kombucha! The founder of Motherlove Kombucha\, Rochelle Monagawa\, will be guiding students through the process of fermentation. At the end of this workshop\, you will be able to bring home the supplies provided to make your own Kombucha! Tickets are $12\, which covers the cost of a jar\, SCOBY\, green/black tea and sugar. \n  \nLocated: ART 208
URL:https://www.suo.ca/event/kombucha-making-workshop/
LOCATION:Arts Building\, UBCO Campus\, 1147 Research Road\, Kelowna\, British Columbia\, V1V 1V7\, Canada
CATEGORIES:All Ages,Student Associations
ATTACH;FMTTYPE=image/svg+xml:https://www.suo.ca/wp-content/uploads/2021/12/SUO-Logo.svg
ORGANIZER;CN="Microbiology Course Union":MAILTO:mcu.suo@gmail.com
END:VEVENT
END:VCALENDAR