BEGIN:VCALENDAR
VERSION:2.0
PRODID:-//Students’ Union Okanagan of UBC - ECPv6.5.0//NONSGML v1.0//EN
CALSCALE:GREGORIAN
METHOD:PUBLISH
X-WR-CALNAME:Students’ Union Okanagan of UBC
X-ORIGINAL-URL:https://www.suo.ca
X-WR-CALDESC:Events for Students’ Union Okanagan of UBC
REFRESH-INTERVAL;VALUE=DURATION:PT1H
X-Robots-Tag:noindex
X-PUBLISHED-TTL:PT1H
BEGIN:VTIMEZONE
TZID:America/Vancouver
BEGIN:DAYLIGHT
TZOFFSETFROM:-0800
TZOFFSETTO:-0700
TZNAME:PDT
DTSTART:20230312T100000
END:DAYLIGHT
BEGIN:STANDARD
TZOFFSETFROM:-0700
TZOFFSETTO:-0800
TZNAME:PST
DTSTART:20231105T090000
END:STANDARD
END:VTIMEZONE
BEGIN:VEVENT
DTSTART;TZID=America/Vancouver:20230128T170000
DTEND;TZID=America/Vancouver:20230128T200000
DTSTAMP:20260422T044624
CREATED:20230124T213607Z
LAST-MODIFIED:20230124T213607Z
UID:10003070-1674925200-1674936000@www.suo.ca
SUMMARY:January Council Meeting
DESCRIPTION:January Council Meeting \n  \nLocated: EME 1202
URL:https://www.suo.ca/event/january-council-meeting/
LOCATION:EME Building\, UBCO Campus\, 1137 Alumni Avenue\, Kelowna\, British Columbia\, V1V 1V7\, Canada
CATEGORIES:All Ages,Student Associations
ATTACH;FMTTYPE=image/png:https://www.suo.ca/wp-content/uploads/2021/08/EngSoc-logo.png
ORGANIZER;CN="Engineering Society":MAILTO:president@okanaganengineers.com
END:VEVENT
BEGIN:VEVENT
DTSTART;TZID=America/Vancouver:20230128T200000
DTEND;TZID=America/Vancouver:20230128T220000
DTSTAMP:20260422T044624
CREATED:20230124T211040Z
LAST-MODIFIED:20230124T211040Z
UID:10002998-1674936000-1674943200@www.suo.ca
SUMMARY:Esports Party Games Event
DESCRIPTION:We will be hosting various party games such as Jackbox and Gartic phone for the UBCO public as our first back-to school event. Everyone is welcome! \n  \nLocated: ART 114
URL:https://www.suo.ca/event/esports-party-games-event/
LOCATION:Arts Building\, UBCO Campus\, 1147 Research Road\, Kelowna\, British Columbia\, V1V 1V7\, Canada
CATEGORIES:All Ages,Student Associations
ORGANIZER;CN="Okanagan Esports Association":MAILTO:OkanaganEsportsAssociation@outlook.com
END:VEVENT
END:VCALENDAR