BEGIN:VCALENDAR
VERSION:2.0
PRODID:-//Students’ Union Okanagan of UBC - ECPv6.5.0//NONSGML v1.0//EN
CALSCALE:GREGORIAN
METHOD:PUBLISH
X-ORIGINAL-URL:https://www.suo.ca
X-WR-CALDESC:Events for Students’ Union Okanagan of UBC
REFRESH-INTERVAL;VALUE=DURATION:PT1H
X-Robots-Tag:noindex
X-PUBLISHED-TTL:PT1H
BEGIN:VTIMEZONE
TZID:America/Vancouver
BEGIN:DAYLIGHT
TZOFFSETFROM:-0800
TZOFFSETTO:-0700
TZNAME:PDT
DTSTART:20230312T100000
END:DAYLIGHT
BEGIN:STANDARD
TZOFFSETFROM:-0700
TZOFFSETTO:-0800
TZNAME:PST
DTSTART:20231105T090000
END:STANDARD
END:VTIMEZONE
BEGIN:VEVENT
DTSTART;TZID=America/Vancouver:20230130T140000
DTEND;TZID=America/Vancouver:20230130T163000
DTSTAMP:20260422T025500
CREATED:20230124T201319Z
LAST-MODIFIED:20230124T201319Z
UID:10003059-1675087200-1675096200@www.suo.ca
SUMMARY:Relay for Life Tabling Event
DESCRIPTION:Come chat Relay with some of our volunteer committee to learn more about what we do\, who we are\, and our big event in March! \n  \nLocated: UNC 001 Foyer
URL:https://www.suo.ca/event/relay-for-life-tabling-event/
LOCATION:UNC Foyer\, UBCO Campus\, 3272 University Way\, Kelowna\, British Columbia\, V1V 1V7\, Canada
CATEGORIES:All Ages,Student Associations
ATTACH;FMTTYPE=image/jpeg:https://www.suo.ca/wp-content/uploads/2022/07/SUO-Student-Associations.jpg
ORGANIZER;CN="Relay for Life SUO":MAILTO:ubcokanagan.relayforlife@gmail.com
END:VEVENT
BEGIN:VEVENT
DTSTART;TZID=America/Vancouver:20230130T170000
DTEND;TZID=America/Vancouver:20230130T190000
DTSTAMP:20260422T025500
CREATED:20230118T191801Z
LAST-MODIFIED:20230118T191801Z
UID:10002980-1675098000-1675105200@www.suo.ca
SUMMARY:ASU Monthly Meeting & Information Night
DESCRIPTION:Our first meeting of 2023! Anth majors\, minors and anyone else interested in Anthropology are welcome. Pizza and drinks included. \n  \nLocated: ART 112
URL:https://www.suo.ca/event/asu-monthly-meeting-information-night/
LOCATION:Arts Building\, UBCO Campus\, 1147 Research Road\, Kelowna\, British Columbia\, V1V 1V7\, Canada
CATEGORIES:All Ages,Student Associations
ATTACH;FMTTYPE=image/jpeg:https://www.suo.ca/wp-content/uploads/2022/07/SUO-Student-Associations.jpg
ORGANIZER;CN="Asian Student Association":MAILTO:asianstudentassociationsuo@gmail.com
END:VEVENT
BEGIN:VEVENT
DTSTART;TZID=America/Vancouver:20230130T173000
DTEND;TZID=America/Vancouver:20230130T193000
DTSTAMP:20260422T025500
CREATED:20230124T202334Z
LAST-MODIFIED:20230125T172410Z
UID:10003046-1675099800-1675107000@www.suo.ca
SUMMARY:UBCO BattleBots Club Free Pizza and Bots Night
DESCRIPTION:Pizza\, Bots\, and Fun! Join us for a night of mouth-watering free pizza and a fantastic bunch of people at our first club event of the semester. Watch the latest episode of BattleBots and get to know some members of the club. Take a look at our prototypes and make new friends while enjoying delicious pizza. Don’t miss out\, RSVP now and join us on Jan 30th. \nRSVP Here \nLocated: EME 2181
URL:https://www.suo.ca/event/ubco-battlebots-club-free-pizza-and-bots-night/
LOCATION:EME Building\, UBCO Campus\, 1137 Alumni Avenue\, Kelowna\, British Columbia\, V1V 1V7\, Canada
CATEGORIES:All Ages,Student Associations
ORGANIZER;CN="Battlebots Club":MAILTO:contact@battlebots.com
END:VEVENT
BEGIN:VEVENT
DTSTART;TZID=America/Vancouver:20230130T190000
DTEND;TZID=America/Vancouver:20230130T203000
DTSTAMP:20260422T025500
CREATED:20230126T204007Z
LAST-MODIFIED:20230126T204007Z
UID:10003078-1675105200-1675110600@www.suo.ca
SUMMARY:Engineering Society Financial Townhall
DESCRIPTION:A public update of the finances of EngSoc and discussion about EngSoc’s accumulated Surplus \n  \nLocated: EME 1153
URL:https://www.suo.ca/event/engineering-society-financial-townhall/
LOCATION:EME Building\, UBCO Campus\, 1137 Alumni Avenue\, Kelowna\, British Columbia\, V1V 1V7\, Canada
CATEGORIES:All Ages,Student Associations
ATTACH;FMTTYPE=image/png:https://www.suo.ca/wp-content/uploads/2021/08/EngSoc-logo.png
ORGANIZER;CN="Engineering Society":MAILTO:president@okanaganengineers.com
END:VEVENT
END:VCALENDAR