BEGIN:VCALENDAR
VERSION:2.0
PRODID:-//Students’ Union Okanagan of UBC - ECPv6.5.0//NONSGML v1.0//EN
CALSCALE:GREGORIAN
METHOD:PUBLISH
X-WR-CALNAME:Students’ Union Okanagan of UBC
X-ORIGINAL-URL:https://www.suo.ca
X-WR-CALDESC:Events for Students’ Union Okanagan of UBC
REFRESH-INTERVAL;VALUE=DURATION:PT1H
X-Robots-Tag:noindex
X-PUBLISHED-TTL:PT1H
BEGIN:VTIMEZONE
TZID:America/Vancouver
BEGIN:DAYLIGHT
TZOFFSETFROM:-0800
TZOFFSETTO:-0700
TZNAME:PDT
DTSTART:20230312T100000
END:DAYLIGHT
BEGIN:STANDARD
TZOFFSETFROM:-0700
TZOFFSETTO:-0800
TZNAME:PST
DTSTART:20231105T090000
END:STANDARD
END:VTIMEZONE
BEGIN:VEVENT
DTSTART;TZID=America/Vancouver:20230201T120000
DTEND;TZID=America/Vancouver:20230201T160000
DTSTAMP:20260422T024324
CREATED:20230131T200657Z
LAST-MODIFIED:20230131T200657Z
UID:10003152-1675252800-1675267200@www.suo.ca
SUMMARY:Recruitment Booth
DESCRIPTION:Booth to recruit new members for jack.org along with giveaway of complimentary hot chocolate and snacks. \n  \nLocated: EME 0020 Foyer
URL:https://www.suo.ca/event/recruitment-booth-2/
LOCATION:EME Building\, UBCO Campus\, 1137 Alumni Avenue\, Kelowna\, British Columbia\, V1V 1V7\, Canada
CATEGORIES:All Ages,Student Associations
ATTACH;FMTTYPE=image/jpeg:https://www.suo.ca/wp-content/uploads/2022/07/SUO-Student-Associations.jpg
ORGANIZER;CN="Jack.Org UBCO":MAILTO:ubcojack.org@gmail.com
END:VEVENT
BEGIN:VEVENT
DTSTART;TZID=America/Vancouver:20230201T130000
DTEND;TZID=America/Vancouver:20230201T180000
DTSTAMP:20260422T024324
CREATED:20230124T202045Z
LAST-MODIFIED:20230124T202045Z
UID:10003064-1675256400-1675274400@www.suo.ca
SUMMARY:Hijab Booth
DESCRIPTION:This hijab booth is for the purpose of the international hijab day\, which serves the purpose of spreading awareness about the importance and value of hijab in Islam. This booth will be interactive and help teach women how to wear the hijab\, as well as share why Muslim women wear it. \n  \nLocated: UNC 001 Foyer
URL:https://www.suo.ca/event/hijab-booth/
LOCATION:UNC Foyer\, UBCO Campus\, 3272 University Way\, Kelowna\, British Columbia\, V1V 1V7\, Canada
CATEGORIES:All Ages,Student Associations
ORGANIZER;CN="Muslim Student Association":MAILTO:msa.ubcokanagan@gmail.com
END:VEVENT
BEGIN:VEVENT
DTSTART;TZID=America/Vancouver:20230201T183000
DTEND;TZID=America/Vancouver:20230201T183000
DTSTAMP:20260422T024324
CREATED:20230111T175252Z
LAST-MODIFIED:20230124T204238Z
UID:10002955-1675276200-1675276200@www.suo.ca
SUMMARY:ECCU Career Night
DESCRIPTION:Our Union is organizing a “Career Night” for students in our program (Environmental Chemistry) as well as other science faculties. Our goal is to help introduce students to interesting environmental industries that students could pursue work in after graduation. We have invited professionals with a background in chemistry from a broad range of industries. Each speaker would present an overview of what their work is and how they got involved in that line of work. The event will be fun and interesting. Presenters can come in person\, or they will present virtually. \nFor more information on presenters\, click HERE. \nLocated: ART 114
URL:https://www.suo.ca/event/eccu-career-night/
LOCATION:Arts Building\, UBCO Campus\, 1147 Research Road\, Kelowna\, British Columbia\, V1V 1V7\, Canada
CATEGORIES:All Ages,Student Associations
ATTACH;FMTTYPE=image/jpeg:https://www.suo.ca/wp-content/uploads/2023/01/ECCU_Banner-scaled.jpg
ORGANIZER;CN="Environmental Chemistry Course Union":MAILTO:eccu.ench.okanagan@gmail.com
END:VEVENT
BEGIN:VEVENT
DTSTART;TZID=America/Vancouver:20230201T190000
DTEND;TZID=America/Vancouver:20230201T220000
DTSTAMP:20260422T024324
CREATED:20230201T172841Z
LAST-MODIFIED:20230201T172841Z
UID:10003148-1675278000-1675288800@www.suo.ca
SUMMARY:Speech club practice
DESCRIPTION:We are the Speech & Interview club here at UBCO\, dedicated to help you be a great public speaker. Any levels\, including beginners\, intermediates\, and advanced are welcome to join. \n  \nLocated: ART 208
URL:https://www.suo.ca/event/speech-club-practice/
LOCATION:Arts Building\, UBCO Campus\, 1147 Research Road\, Kelowna\, British Columbia\, V1V 1V7\, Canada
CATEGORIES:All Ages,Student Associations
ATTACH;FMTTYPE=image/jpeg:https://www.suo.ca/wp-content/uploads/2022/07/SUO-Student-Associations.jpg
ORGANIZER;CN="Speech & Interview Club":MAILTO:speech.interview.suo@gmail.com
END:VEVENT
END:VCALENDAR