BEGIN:VCALENDAR
VERSION:2.0
PRODID:-//Students’ Union Okanagan of UBC - ECPv6.5.0//NONSGML v1.0//EN
CALSCALE:GREGORIAN
METHOD:PUBLISH
X-WR-CALNAME:Students’ Union Okanagan of UBC
X-ORIGINAL-URL:https://www.suo.ca
X-WR-CALDESC:Events for Students’ Union Okanagan of UBC
REFRESH-INTERVAL;VALUE=DURATION:PT1H
X-Robots-Tag:noindex
X-PUBLISHED-TTL:PT1H
BEGIN:VTIMEZONE
TZID:America/Vancouver
BEGIN:DAYLIGHT
TZOFFSETFROM:-0800
TZOFFSETTO:-0700
TZNAME:PDT
DTSTART:20230312T100000
END:DAYLIGHT
BEGIN:STANDARD
TZOFFSETFROM:-0700
TZOFFSETTO:-0800
TZNAME:PST
DTSTART:20231105T090000
END:STANDARD
END:VTIMEZONE
BEGIN:VEVENT
DTSTART;TZID=America/Vancouver:20230203T163000
DTEND;TZID=America/Vancouver:20230203T183000
DTSTAMP:20260422T024335
CREATED:20230118T230137Z
LAST-MODIFIED:20230118T230137Z
UID:10003043-1675441800-1675449000@www.suo.ca
SUMMARY:Pre-Med Social
DESCRIPTION:Join the Pre-Med Club for an afternoon of food\, drinks\, trivia\, prizes\, and socializing with other students interested in medicine! \n  \nLocated: Junior Collegium UNC 336
URL:https://www.suo.ca/event/pre-med-social/
LOCATION:UBCO Campus\, 3333 University Way\, Kelowna\, British Columbia\, V1V 1V7\, Canada
CATEGORIES:All Ages,Student Associations
ATTACH;FMTTYPE=image/png:https://www.suo.ca/wp-content/uploads/2021/09/Pre-Med-Logo.1.png
ORGANIZER;CN="Pre-Med Club":MAILTO:okanagan.premedclub@gmail.com
END:VEVENT
BEGIN:VEVENT
DTSTART;TZID=America/Vancouver:20230203T170000
DTEND;TZID=America/Vancouver:20230203T182000
DTSTAMP:20260422T024335
CREATED:20230201T174100Z
LAST-MODIFIED:20230201T174100Z
UID:10003137-1675443600-1675448400@www.suo.ca
SUMMARY:Bi-weekly Gatherings
DESCRIPTION:One week of cultural events\, such as Korean calligraphy class and cooking event;\nthe other week of Christianity-related events like the history and culture of Korean churches. \n  \nLocated: FIP 140 \n 
URL:https://www.suo.ca/event/bi-weekly-gatherings/2023-02-03/
LOCATION:FIPKE Building\, UBCO Campus\, 3247 University Way\, Kelowna\, British Columbia\, V1V 1V7\, Canada
CATEGORIES:All Ages,Student Associations
ATTACH;FMTTYPE=image/jpeg:https://www.suo.ca/wp-content/uploads/2022/07/SUO-Student-Associations.jpg
ORGANIZER;CN="Korean Culture & Church History Study Club":MAILTO:kcchubco@gmail.com
END:VEVENT
BEGIN:VEVENT
DTSTART;TZID=America/Vancouver:20230203T170000
DTEND;TZID=America/Vancouver:20230203T210000
DTSTAMP:20260422T024335
CREATED:20230131T201317Z
LAST-MODIFIED:20230131T201317Z
UID:10003126-1675443600-1675458000@www.suo.ca
SUMMARY:Bhabhi Competition Night
DESCRIPTION:Come test out your skills at Bhabhi Competition Night for a chance to win some prize money! Learn more and register on our Instagram page @psa.ubco \n  \nLocated: LIB 305
URL:https://www.suo.ca/event/bhabhi-competition-night/
LOCATION:LIB 305\, UBCO Campus\, 3287 University Way\, Kelowna\, British Columbia\, V1V 1V7\, Canada
CATEGORIES:All Ages,Student Associations
ATTACH;FMTTYPE=image/jpeg:https://www.suo.ca/wp-content/uploads/2022/07/SUO-Student-Associations.jpg
ORGANIZER;CN="Punjabi Student Association":MAILTO:psasuokanagan@gmail.com
END:VEVENT
BEGIN:VEVENT
DTSTART;TZID=America/Vancouver:20230203T180000
DTEND;TZID=America/Vancouver:20230203T220000
DTSTAMP:20260422T024335
CREATED:20230124T205622Z
LAST-MODIFIED:20230124T205622Z
UID:10003083-1675447200-1675461600@www.suo.ca
SUMMARY:Jam sessions
DESCRIPTION:This event is for students to be able to find a safe space to create and learn music with other students on campus. This would allow musicians on campus to interact with each other and also make new friends. \n  \nLocated: FIP 204
URL:https://www.suo.ca/event/jam-sessions/2023-02-03/
LOCATION:FIPKE Building\, UBCO Campus\, 3247 University Way\, Kelowna\, British Columbia\, V1V 1V7\, Canada
CATEGORIES:All Ages,Student Associations
ATTACH;FMTTYPE=image/jpeg:https://www.suo.ca/wp-content/uploads/2022/07/SUO-Student-Associations.jpg
ORGANIZER;CN="Rock N Roll Club":MAILTO:ubcorocknrollclub@gmail.com
END:VEVENT
BEGIN:VEVENT
DTSTART;TZID=America/Vancouver:20230203T190000
DTEND;TZID=America/Vancouver:20230203T220000
DTSTAMP:20260422T024335
CREATED:20221130T192904Z
LAST-MODIFIED:20221219T234142Z
UID:10002480-1675450800-1675461600@www.suo.ca
SUMMARY:ECU Masquerade Ball
DESCRIPTION:Join us on Friday\, February 3rd from 7 until 10pm in the UBC Ballroom (UNC 200) for the English Course Union’s Masquerade Ball! \nCome dressed in your finest formal wear (think your grad attire!)\, or dress for a specific period (think Bridgerton or Gatsby!)\, or consider dressing as your favourite literary character! \nMASKS ARE MANDATORY! Not the covid type\, but a mask fit for a masquerade! \nThe event will include a costume contest with prizes\, a photo booth\, dancing\, drinking\, and eating.  It is for prospective and current English majors and minors. \nFree admission! Sign-up through Eventbrite. Visit our social media for more information: instagram@ecu.ubco \n  \nLocated: UNC 200
URL:https://www.suo.ca/event/ecu-masquerade-ball/
LOCATION:UNC 200 Ballroom\, 3272 University Way\, UNC200\, Kelowna\, British Columbia\, V1V 1V7\, Canada
CATEGORIES:All Ages,Student Associations
ATTACH;FMTTYPE=image/jpeg:https://www.suo.ca/wp-content/uploads/2022/07/SUO-Student-Associations.jpg
ORGANIZER;CN="English Course Union":MAILTO:englishcourseunion@gmail.com
END:VEVENT
END:VCALENDAR