BEGIN:VCALENDAR
VERSION:2.0
PRODID:-//Students’ Union Okanagan of UBC - ECPv6.5.0//NONSGML v1.0//EN
CALSCALE:GREGORIAN
METHOD:PUBLISH
X-ORIGINAL-URL:https://www.suo.ca
X-WR-CALDESC:Events for Students’ Union Okanagan of UBC
REFRESH-INTERVAL;VALUE=DURATION:PT1H
X-Robots-Tag:noindex
X-PUBLISHED-TTL:PT1H
BEGIN:VTIMEZONE
TZID:America/Vancouver
BEGIN:DAYLIGHT
TZOFFSETFROM:-0800
TZOFFSETTO:-0700
TZNAME:PDT
DTSTART:20230312T100000
END:DAYLIGHT
BEGIN:STANDARD
TZOFFSETFROM:-0700
TZOFFSETTO:-0800
TZNAME:PST
DTSTART:20231105T090000
END:STANDARD
END:VTIMEZONE
BEGIN:VEVENT
DTSTART;TZID=America/Vancouver:20230204T170000
DTEND;TZID=America/Vancouver:20230204T210000
DTSTAMP:20260422T043550
CREATED:20230111T204744Z
LAST-MODIFIED:20230111T204744Z
UID:10002925-1675530000-1675544400@www.suo.ca
SUMMARY:Arabian Nights
DESCRIPTION:Hi everyone! We hope you’re all enjoying a well deserved break. We’re starting off the new semester with our first ever Arabian Night! It’ll be a night celebrating our Arab culture with our different traditional clothes\, food and music! Be ready to put on some killer performances and maybe even take part in a fashion show. If you’re home for the holidays be sure to bring back your best traditional clothes!!! We can’t wait to see you all. \n  \nLocated: UNC 200
URL:https://www.suo.ca/event/arabian-nights/
LOCATION:UNC 200 Ballroom\, 3272 University Way\, UNC200\, Kelowna\, British Columbia\, V1V 1V7\, Canada
CATEGORIES:All Ages,Student Associations
ORGANIZER;CN="Arab Students Club":MAILTO:asa.ubco@gmail.com
END:VEVENT
END:VCALENDAR