BEGIN:VCALENDAR
VERSION:2.0
PRODID:-//Students’ Union Okanagan of UBC - ECPv6.5.0//NONSGML v1.0//EN
CALSCALE:GREGORIAN
METHOD:PUBLISH
X-ORIGINAL-URL:https://www.suo.ca
X-WR-CALDESC:Events for Students’ Union Okanagan of UBC
REFRESH-INTERVAL;VALUE=DURATION:PT1H
X-Robots-Tag:noindex
X-PUBLISHED-TTL:PT1H
BEGIN:VTIMEZONE
TZID:America/Vancouver
BEGIN:DAYLIGHT
TZOFFSETFROM:-0800
TZOFFSETTO:-0700
TZNAME:PDT
DTSTART:20230312T100000
END:DAYLIGHT
BEGIN:STANDARD
TZOFFSETFROM:-0700
TZOFFSETTO:-0800
TZNAME:PST
DTSTART:20231105T090000
END:STANDARD
END:VTIMEZONE
BEGIN:VEVENT
DTSTART;TZID=America/Vancouver:20230206T170000
DTEND;TZID=America/Vancouver:20230210T190000
DTSTAMP:20260422T043704
CREATED:20230126T214149Z
LAST-MODIFIED:20230126T214223Z
UID:10003116-1675702800-1676055600@www.suo.ca
SUMMARY:Professionalism-Week
DESCRIPTION:Every year we host a week-long event called P-Week dedicated to professional development. These events aim to imbue our students with the ability to create their own professional network\, build their own professional brands and be well-versed in financial literacy. \n  \nLocated: EME 1121
URL:https://www.suo.ca/event/professionalism-week/2023-02-06/
LOCATION:EME Building\, UBCO Campus\, 1137 Alumni Avenue\, Kelowna\, British Columbia\, V1V 1V7\, Canada
CATEGORIES:All Ages,Student Associations
ATTACH;FMTTYPE=image/png:https://www.suo.ca/wp-content/uploads/2021/08/EngSoc-logo.png
ORGANIZER;CN="Engineering Society":MAILTO:president@okanaganengineers.com
END:VEVENT
BEGIN:VEVENT
DTSTART;TZID=America/Vancouver:20230207T170000
DTEND;TZID=America/Vancouver:20230211T190000
DTSTAMP:20260422T043704
CREATED:20230126T214149Z
LAST-MODIFIED:20230126T214223Z
UID:10003117-1675789200-1676142000@www.suo.ca
SUMMARY:Professionalism-Week
DESCRIPTION:Every year we host a week-long event called P-Week dedicated to professional development. These events aim to imbue our students with the ability to create their own professional network\, build their own professional brands and be well-versed in financial literacy. \n  \nLocated: EME 1121
URL:https://www.suo.ca/event/professionalism-week/2023-02-07/
LOCATION:EME Building\, UBCO Campus\, 1137 Alumni Avenue\, Kelowna\, British Columbia\, V1V 1V7\, Canada
CATEGORIES:All Ages,Student Associations
ATTACH;FMTTYPE=image/png:https://www.suo.ca/wp-content/uploads/2021/08/EngSoc-logo.png
ORGANIZER;CN="Engineering Society":MAILTO:president@okanaganengineers.com
END:VEVENT
BEGIN:VEVENT
DTSTART;TZID=America/Vancouver:20230209T120000
DTEND;TZID=America/Vancouver:20230209T170000
DTSTAMP:20260422T043704
CREATED:20230201T173420Z
LAST-MODIFIED:20230201T173420Z
UID:10003143-1675944000-1675962000@www.suo.ca
SUMMARY:Trivia Booth
DESCRIPTION:This is an interactive booth where we display some of our work as a club and give people a chance to ask us about our activities. \n  \nLocated: UNC 001 foyer
URL:https://www.suo.ca/event/trivia-booth-3/
LOCATION:UNC Foyer\, UBCO Campus\, 3272 University Way\, Kelowna\, British Columbia\, V1V 1V7\, Canada
CATEGORIES:All Ages,Student Associations
ATTACH;FMTTYPE=image/jpeg:https://www.suo.ca/wp-content/uploads/2022/07/SUO-Student-Associations.jpg
ORGANIZER;CN="Muslim Student Association":MAILTO:msa.ubcokanagan@gmail.com
END:VEVENT
BEGIN:VEVENT
DTSTART;TZID=America/Vancouver:20230209T170000
DTEND;TZID=America/Vancouver:20230209T190000
DTSTAMP:20260422T043704
CREATED:20230126T214149Z
LAST-MODIFIED:20230126T214223Z
UID:10003119-1675962000-1675969200@www.suo.ca
SUMMARY:Professionalism-Week
DESCRIPTION:Every year we host a week-long event called P-Week dedicated to professional development. These events aim to imbue our students with the ability to create their own professional network\, build their own professional brands and be well-versed in financial literacy. \n  \nLocated: EME 1121
URL:https://www.suo.ca/event/professionalism-week/2023-02-09/
LOCATION:EME Building\, UBCO Campus\, 1137 Alumni Avenue\, Kelowna\, British Columbia\, V1V 1V7\, Canada
CATEGORIES:All Ages,Student Associations
ATTACH;FMTTYPE=image/png:https://www.suo.ca/wp-content/uploads/2021/08/EngSoc-logo.png
ORGANIZER;CN="Engineering Society":MAILTO:president@okanaganengineers.com
END:VEVENT
BEGIN:VEVENT
DTSTART;TZID=America/Vancouver:20230209T173000
DTEND;TZID=America/Vancouver:20230209T173000
DTSTAMP:20260422T043704
CREATED:20230201T205250Z
LAST-MODIFIED:20230201T205250Z
UID:10003166-1675963800-1675963800@www.suo.ca
SUMMARY:JCC Movie Night
DESCRIPTION:Join a Movie Night with authentic Japanese food and drinks! We’ll watch “Your Name / 君の名は”. Please fill in the registration form so that we can order foods beforehand. \nThe fee is free for JCC members\, $5 for non-members. Food and drinks included. Fees would be collected at the reception. \n  \nLocated: EME 1153
URL:https://www.suo.ca/event/jcc-movie-night/
LOCATION:EME Building\, UBCO Campus\, 1137 Alumni Avenue\, Kelowna\, British Columbia\, V1V 1V7\, Canada
CATEGORIES:All Ages,Student Associations
ATTACH;FMTTYPE=image/png:https://www.suo.ca/wp-content/uploads/2021/10/suo-logo-for-posters_light_background.png
ORGANIZER;CN="Japanese Culture Club":MAILTO:jcc.suo@gmail.com
END:VEVENT
BEGIN:VEVENT
DTSTART;TZID=America/Vancouver:20230209T183000
DTEND;TZID=America/Vancouver:20230209T203000
DTSTAMP:20260422T043704
CREATED:20230111T210856Z
LAST-MODIFIED:20230111T210925Z
UID:10002932-1675967400-1675974600@www.suo.ca
SUMMARY:CCU CHEM 214 Midterm Study Session 1
DESCRIPTION:A midterm study review session for CHEM 214. Come get help from our tutors and get some pizza too! \n  \nLocated: ASC 140
URL:https://www.suo.ca/event/ccu-chem-214-midterm-study-session-1/
LOCATION:UBCO Campus\, 3333 University Way\, Kelowna\, British Columbia\, V1V 1V7\, Canada
CATEGORIES:All Ages,Student Associations
ORGANIZER;CN="Chemistry Course Union":MAILTO:chemcourseunion@gmail.com
END:VEVENT
BEGIN:VEVENT
DTSTART;TZID=America/Vancouver:20230209T183000
DTEND;TZID=America/Vancouver:20230209T203000
DTSTAMP:20260422T043704
CREATED:20230125T173716Z
LAST-MODIFIED:20230125T173716Z
UID:10003057-1675967400-1675974600@www.suo.ca
SUMMARY:BCCU BIOL 125 Midterm 1 Review Session
DESCRIPTION:The BCCU will be hosting a review session for the first introductory biology midterm of the semester. Come join us for some interactive review! \n  \nLocated: FIP 204
URL:https://www.suo.ca/event/bccu-biol-125-midterm-1-review-session/
LOCATION:FIPKE Building\, UBCO Campus\, 3247 University Way\, Kelowna\, British Columbia\, V1V 1V7\, Canada
CATEGORIES:All Ages,Student Associations
ATTACH;FMTTYPE=image/png:https://www.suo.ca/wp-content/uploads/2021/08/BCCU-Logo-Black.png
ORGANIZER;CN="Biochemistry Course Union":MAILTO:bccu.suo@gmail.com
END:VEVENT
BEGIN:VEVENT
DTSTART;TZID=America/Vancouver:20230209T184500
DTEND;TZID=America/Vancouver:20230209T201500
DTSTAMP:20260422T043704
CREATED:20221221T202022Z
LAST-MODIFIED:20221221T202022Z
UID:10002899-1675968300-1675973700@www.suo.ca
SUMMARY:Workshop: Intro to Olympic Weightlifting
DESCRIPTION:With this workshop\, members will learn the basics of Olympic Weightlifting: the Snatch and Clean & Jerk and practice movement patterns with Temenos Athletics.
URL:https://www.suo.ca/event/workshop-intro-to-olympic-weightlifting/
LOCATION:Temenos Athletics\, 1155 St Paul St\, Kelowna\, British Columbia\, V1Y 2C6\, Canada
CATEGORIES:All Ages,Student Associations
ATTACH;FMTTYPE=image/png:https://www.suo.ca/wp-content/uploads/2022/10/Student-Association-Event.png
ORGANIZER;CN="Girls Who Lift":MAILTO:girlswholiftsuo@gmail.com
END:VEVENT
END:VCALENDAR