BEGIN:VCALENDAR
VERSION:2.0
PRODID:-//Students’ Union Okanagan of UBC - ECPv6.5.0//NONSGML v1.0//EN
CALSCALE:GREGORIAN
METHOD:PUBLISH
X-ORIGINAL-URL:https://www.suo.ca
X-WR-CALDESC:Events for Students’ Union Okanagan of UBC
REFRESH-INTERVAL;VALUE=DURATION:PT1H
X-Robots-Tag:noindex
X-PUBLISHED-TTL:PT1H
BEGIN:VTIMEZONE
TZID:America/Vancouver
BEGIN:DAYLIGHT
TZOFFSETFROM:-0800
TZOFFSETTO:-0700
TZNAME:PDT
DTSTART:20230312T100000
END:DAYLIGHT
BEGIN:STANDARD
TZOFFSETFROM:-0700
TZOFFSETTO:-0800
TZNAME:PST
DTSTART:20231105T090000
END:STANDARD
END:VTIMEZONE
BEGIN:VEVENT
DTSTART;TZID=America/Vancouver:20230206T170000
DTEND;TZID=America/Vancouver:20230210T190000
DTSTAMP:20260422T043705
CREATED:20230126T214149Z
LAST-MODIFIED:20230126T214223Z
UID:10003116-1675702800-1676055600@www.suo.ca
SUMMARY:Professionalism-Week
DESCRIPTION:Every year we host a week-long event called P-Week dedicated to professional development. These events aim to imbue our students with the ability to create their own professional network\, build their own professional brands and be well-versed in financial literacy. \n  \nLocated: EME 1121
URL:https://www.suo.ca/event/professionalism-week/2023-02-06/
LOCATION:EME Building\, UBCO Campus\, 1137 Alumni Avenue\, Kelowna\, British Columbia\, V1V 1V7\, Canada
CATEGORIES:All Ages,Student Associations
ATTACH;FMTTYPE=image/png:https://www.suo.ca/wp-content/uploads/2021/08/EngSoc-logo.png
ORGANIZER;CN="Engineering Society":MAILTO:president@okanaganengineers.com
END:VEVENT
BEGIN:VEVENT
DTSTART;TZID=America/Vancouver:20230207T170000
DTEND;TZID=America/Vancouver:20230211T190000
DTSTAMP:20260422T043705
CREATED:20230126T214149Z
LAST-MODIFIED:20230126T214223Z
UID:10003117-1675789200-1676142000@www.suo.ca
SUMMARY:Professionalism-Week
DESCRIPTION:Every year we host a week-long event called P-Week dedicated to professional development. These events aim to imbue our students with the ability to create their own professional network\, build their own professional brands and be well-versed in financial literacy. \n  \nLocated: EME 1121
URL:https://www.suo.ca/event/professionalism-week/2023-02-07/
LOCATION:EME Building\, UBCO Campus\, 1137 Alumni Avenue\, Kelowna\, British Columbia\, V1V 1V7\, Canada
CATEGORIES:All Ages,Student Associations
ATTACH;FMTTYPE=image/png:https://www.suo.ca/wp-content/uploads/2021/08/EngSoc-logo.png
ORGANIZER;CN="Engineering Society":MAILTO:president@okanaganengineers.com
END:VEVENT
BEGIN:VEVENT
DTSTART;TZID=America/Vancouver:20230210T160000
DTEND;TZID=America/Vancouver:20230210T200000
DTSTAMP:20260422T043705
CREATED:20230111T175909Z
LAST-MODIFIED:20230111T175909Z
UID:10002910-1676044800-1676059200@www.suo.ca
SUMMARY:Age-Link Gala (Feb)
DESCRIPTION:A gala-style dinner with interactive games and activities. Students will get a chance to interact with senior community members. \n  \nLocated: UNC 200
URL:https://www.suo.ca/event/age-link-gala-feb/
LOCATION:UNC 200 Ballroom\, 3272 University Way\, UNC200\, Kelowna\, British Columbia\, V1V 1V7\, Canada
CATEGORIES:All Ages,Student Associations
ATTACH;FMTTYPE=image/jpeg:https://www.suo.ca/wp-content/uploads/2021/09/Agelink-logo.jpg
ORGANIZER;CN="Age-Link":MAILTO:agelinksuo@gmail.com
END:VEVENT
BEGIN:VEVENT
DTSTART;TZID=America/Vancouver:20230210T170000
DTEND;TZID=America/Vancouver:20230210T182000
DTSTAMP:20260422T043705
CREATED:20230124T213221Z
LAST-MODIFIED:20230124T213221Z
UID:10003093-1676048400-1676053200@www.suo.ca
SUMMARY:Bi-weekly Gathering
DESCRIPTION:One week of cultural event; the other week of an event introducing Christianity in Korea. \n  \nLocated: FIP 140
URL:https://www.suo.ca/event/bi-weekly-gathering/2023-02-10/
LOCATION:FIPKE Building\, UBCO Campus\, 3247 University Way\, Kelowna\, British Columbia\, V1V 1V7\, Canada
CATEGORIES:All Ages,Student Associations
ATTACH;FMTTYPE=image/jpeg:https://www.suo.ca/wp-content/uploads/2022/07/SUO-Student-Associations.jpg
ORGANIZER;CN="Korean Culture & Church History Study Club":MAILTO:kcchubco@gmail.com
END:VEVENT
BEGIN:VEVENT
DTSTART;TZID=America/Vancouver:20230210T170000
DTEND;TZID=America/Vancouver:20230210T190000
DTSTAMP:20260422T043705
CREATED:20230126T214149Z
LAST-MODIFIED:20230126T214223Z
UID:10003120-1676048400-1676055600@www.suo.ca
SUMMARY:Professionalism-Week
DESCRIPTION:Every year we host a week-long event called P-Week dedicated to professional development. These events aim to imbue our students with the ability to create their own professional network\, build their own professional brands and be well-versed in financial literacy. \n  \nLocated: EME 1121
URL:https://www.suo.ca/event/professionalism-week/2023-02-10/
LOCATION:EME Building\, UBCO Campus\, 1137 Alumni Avenue\, Kelowna\, British Columbia\, V1V 1V7\, Canada
CATEGORIES:All Ages,Student Associations
ATTACH;FMTTYPE=image/png:https://www.suo.ca/wp-content/uploads/2021/08/EngSoc-logo.png
ORGANIZER;CN="Engineering Society":MAILTO:president@okanaganengineers.com
END:VEVENT
BEGIN:VEVENT
DTSTART;TZID=America/Vancouver:20230210T180000
DTEND;TZID=America/Vancouver:20230210T220000
DTSTAMP:20260422T043705
CREATED:20230124T205622Z
LAST-MODIFIED:20230124T205622Z
UID:10003084-1676052000-1676066400@www.suo.ca
SUMMARY:Jam sessions
DESCRIPTION:This event is for students to be able to find a safe space to create and learn music with other students on campus. This would allow musicians on campus to interact with each other and also make new friends. \n  \nLocated: FIP 204
URL:https://www.suo.ca/event/jam-sessions/2023-02-10/
LOCATION:FIPKE Building\, UBCO Campus\, 3247 University Way\, Kelowna\, British Columbia\, V1V 1V7\, Canada
CATEGORIES:All Ages,Student Associations
ATTACH;FMTTYPE=image/jpeg:https://www.suo.ca/wp-content/uploads/2022/07/SUO-Student-Associations.jpg
ORGANIZER;CN="Rock N Roll Club":MAILTO:ubcorocknrollclub@gmail.com
END:VEVENT
BEGIN:VEVENT
DTSTART;TZID=America/Vancouver:20230210T180000
DTEND;TZID=America/Vancouver:20230210T220000
DTSTAMP:20260422T043705
CREATED:20230201T172146Z
LAST-MODIFIED:20230201T172146Z
UID:10003144-1676052000-1676066400@www.suo.ca
SUMMARY:Valentine's Day Cookie Decorating
DESCRIPTION:Join us for our Valentine’s Day Cookie Decorating Event! We will offer people to have the opportunity to decorate their own sugar cookies to give to friends\, family\, or a special someone! \n  \nLocated: LIB 305
URL:https://www.suo.ca/event/valentines-day-cookie-decorating/
LOCATION:LIB 305\, UBCO Campus\, 3287 University Way\, Kelowna\, British Columbia\, V1V 1V7\, Canada
CATEGORIES:All Ages,Student Associations
ORGANIZER;CN="Okanagan Esports Association":MAILTO:OkanaganEsportsAssociation@outlook.com
END:VEVENT
END:VCALENDAR